Uber Exif Photo
Photometric Interpretation : RGB
Make : LEICA CAMERA AG
Camera Model Name : LEICA SL (Typ 601)
Orientation : Horizontal (normal)
Samples Per Pixel : 3
Software : Adobe Photoshop 27.6 (Windows)
Modify Date : 2026:05:14 22:38:23
Artist : Artist
Copyright : Infor
Exposure Time : 1/160
Exposure Program : Aperture-priority AE
ISO : 1600
Sensitivity Type : Standard Output Sensitivity
Date/Time Original : 2026:05:14 09:32:43
Create Date : 2026:05:14 09:32:43
Shutter Speed Value : 1/160
Exposure Compensation : +0.3
Max Aperture Value : 1.0
Metering Mode : Multi-segment
Light Source : Unknown
Flash : Off, Did not fire
Color Space : sRGB
Exif Image Width : 2907
Exif Image Height : 2191
Sensing Method : One-chip color area
Custom Rendered : Normal
White Balance : Auto
Scene Capture Type : Standard
Contrast : High
Saturation : Normal
Sharpness : Soft
Lens Make : N/A
Lens Model : N/A
Lens Serial Number : N/A
GPS Version ID : 2.3.0.0
GPS Latitude Ref : North
GPS Longitude Ref : West
GPS Altitude Ref : Above Sea Level
GPS Time Stamp : 13:32:42
GPS Status : Measurement Active
GPS Measure Mode : 3-Dimensional Measurement
GPS Map Datum : WGS-84
GPS Date Stamp : 2026:05:14
By-line : Artist
Copyright Notice : Infor
Creator Tool : Adobe Photoshop Lightroom Classic 15.3 (Windows)
Format : image/jpeg
Lens : N/A
Date Created : 2026:05:14 09:32:43
Color Mode : RGB
ICC Profile Name : sRGB IEC61966-2.1
Preserved File Name : L1080443.JPG
Pick : 0
Raw File Name : L1080443.JPG
Version : 18.3
Process Version : 15.4
Incremental Temperature : 0
Incremental Tint : 0
Exposure 2012 : 0.00
Contrast 2012 : +5
Highlights 2012 : -3
Shadows 2012 : 0
Whites 2012 : 0
Blacks 2012 : -16
Texture : +9
Clarity 2012 : +22
Dehaze : 0
Vibrance : +9
Parametric Shadows : 0
Parametric Darks : 0
Parametric Lights : 0
Parametric Highlights : 0
Parametric Shadow Split : 25
Parametric Midtone Split : 50
Parametric Highlight Split : 75
Sharpen Radius : +3.0
Sharpen Detail : 100
Sharpen Edge Masking : 50
Luminance Smoothing : 24
Luminance Noise Reduction Detail : 50
Luminance Noise Reduction Contrast : 0
Color Noise Reduction : 25
Color Noise Reduction Detail : 50
Color Noise Reduction Smoothness : 50
Hue Adjustment Red : 0
Hue Adjustment Orange : +18
Hue Adjustment Yellow : -6
Hue Adjustment Green : 0
Hue Adjustment Aqua : +37
Hue Adjustment Blue : 0
Hue Adjustment Purple : -19
Hue Adjustment Magenta : -32
Saturation Adjustment Red : 0
Saturation Adjustment Orange : +28
Saturation Adjustment Yellow : +43
Saturation Adjustment Green : 0
Saturation Adjustment Aqua : +53
Saturation Adjustment Blue : 0
Saturation Adjustment Purple : -4
Saturation Adjustment Magenta : -15
Luminance Adjustment Red : 0
Luminance Adjustment Orange : +8
Luminance Adjustment Yellow : +16
Luminance Adjustment Green : 0
Luminance Adjustment Aqua : +12
Luminance Adjustment Blue : 0
Luminance Adjustment Purple : +12
Luminance Adjustment Magenta : +2
Split Toning Shadow Hue : 0
Split Toning Shadow Saturation : 0
Split Toning Highlight Hue : 0
Split Toning Highlight Saturation : 0
Split Toning Balance : 0
Color Grade Midtone Hue : 0
Color Grade Midtone Sat : 0
Color Grade Shadow Lum : 0
Color Grade Midtone Lum : 0
Color Grade Highlight Lum : 0
Color Grade Blending : 50
Color Grade Global Hue : 0
Color Grade Global Sat : 0
Color Grade Global Lum : 0
Auto Lateral CA : 0
Lens Profile Enable : 0
Lens Manual Distortion Amount : 0
Vignette Amount : 0
Defringe Purple Amount : 0
Defringe Purple Hue Lo : 30
Defringe Purple Hue Hi : 70
Defringe Green Amount : 0
Defringe Green Hue Lo : 40
Defringe Green Hue Hi : 60
Perspective Upright : Off
Perspective Vertical : 0
Perspective Horizontal : 0
Perspective Rotate : 0.0
Perspective Aspect : 0
Perspective Scale : 100
Perspective X : 0.00
Perspective Y : 0.00
Grain Amount : 0
Post Crop Vignette Amount : 0
Shadow Tint : 0
Red Hue : 0
Red Saturation : -26
Green Hue : +21
Green Saturation : +6
Blue Hue : 0
Blue Saturation : +11
HDR Edit Mode : 0
Curve Refine Saturation : 100
Convert To Grayscale : False
Override Look Vignette : False
Tone Curve Name 2012 : Custom
Camera Profile : Embedded
Has Settings : True
Crop Top : 0
Crop Left : 0.115423
Crop Bottom : 1
Crop Right : 1
Crop Angle : 0
Crop Constrain To Warp : 0
Crop Constrain To Unit Square : 1
Has Crop : True
Already Applied : True
Creator : Artist
Rights : Infor
Tone Curve PV2012 : 0, 0, 40, 16, 54, 31, 83, 67, 132, 128, 175, 173, 195, 197, 238, 241, 255, 255
Tone Curve PV2012 Red : 0, 0, 255, 255
Tone Curve PV2012 Green : 0, 0, 255, 255
Tone Curve PV2012 Blue : 0, 0, 255, 255
Point Colors : -1.000000, -1.000000, -1.000000, -1.000000, -1.000000, -1.000000, -1.000000, -1.000000, -1.000000, -1.000000, -1.000000, -1.000000, -1.000000, -1.000000, -1.000000, -1.000000, -1.000000, -1.000000, -1.000000
Color Variance : -50.000000
Profile Description : sRGB IEC61966-2.1
Image Width : 400
Image Height : 301
Bits Per Sample : 8
Color Components : 3
Image Size : 400x301
Megapixels : 0.120
Shutter Speed : 1/160
Modify Date : 2026:05:14 22:38:23-04:00
GPS Altitude : 0 m Above Sea Level
GPS Date/Time : 2026:05:14 13:32:42Z
GPS Latitude : 40 deg 58' 34.32" N
GPS Longitude : 74 deg 1' 12.28" W
GPS Position : 40 deg 58' 34.32" N, 74 deg 1' 12.28" W