Uber Exif Photo
Make : SONY
Camera Model Name : ILCA-99M2
Software : Adobe Photoshop Lightroom Classic 14.0.1 (Windows)
Modify Date : 2026:01:17 15:50:25
Exposure Time : 1/60
F Number : 3.5
Exposure Program : Aperture-priority AE
ISO : 100
Sensitivity Type : Recommended Exposure Index
Recommended Exposure Index : 100
Date/Time Original : 2026:01:17 14:46:58
Create Date : 2026:01:17 14:46:58
Shutter Speed Value : 1/60
Aperture Value : 3.5
Brightness Value : 3.05234375
Exposure Compensation : -1
Max Aperture Value : 1.4
Metering Mode : Center-weighted average
Light Source : Unknown
Flash : Off, Did not fire
Focal Length : 50.0 mm
Color Space : sRGB
Scene Type : Directly photographed
Custom Rendered : Normal
Exposure Mode : Auto
White Balance : Auto
Digital Zoom Ratio : 1
Focal Length In 35mm Format : 50 mm
Scene Capture Type : Standard
Contrast : Normal
Saturation : Normal
Sharpness : Normal
Lens Info : 50mm f/1.4
Lens Model : 50mm F1.4 ZA SSM
Profile Description : sRGB IEC61966-2.1
Creator Tool : Adobe Photoshop Lightroom Classic 14.0.1 (Windows)
Lens : 50mm F1.4 ZA SSM
Lens Distort Info : 33048/32768 -29019247/1073741824 -3771511/1073741824 1515406/1073741824
Lateral Chromatic Aberration Correction Already Applied:
True
Date Created : 2026:01:17 14:46:58-07:00
Preserved File Name : DSC06925.ARW
Format : image/jpeg
Pick : 0
Raw File Name : DSC06925.ARW
Version : 17.0
Compatible Version : 234881024
Process Version : 15.4
Auto White Version : 134348800
Color Temperature : 4350
Tint : +3
Exposure 2012 : +1.40
Contrast 2012 : 0
Highlights 2012 : -35
Shadows 2012 : +15
Whites 2012 : -15
Blacks 2012 : +5
Texture : 0
Clarity 2012 : -5
Dehaze : 0
Vibrance : 0
Parametric Shadows : 0
Parametric Darks : 0
Parametric Lights : 0
Parametric Highlights : 0
Parametric Shadow Split : 14
Parametric Midtone Split : 60
Parametric Highlight Split : 75
Luminance Smoothing : 22
Luminance Noise Reduction Detail : 50
Luminance Noise Reduction Contrast : 0
Color Noise Reduction : 25
Color Noise Reduction Detail : 50
Color Noise Reduction Smoothness : 50
Hue Adjustment Red : +5
Hue Adjustment Orange : +12
Hue Adjustment Yellow : +12
Hue Adjustment Green : +15
Hue Adjustment Aqua : 0
Hue Adjustment Blue : 0
Hue Adjustment Purple : +4
Hue Adjustment Magenta : +25
Saturation Adjustment Red : -10
Saturation Adjustment Orange : 0
Saturation Adjustment Yellow : 0
Saturation Adjustment Green : -25
Saturation Adjustment Aqua : -30
Saturation Adjustment Blue : -10
Saturation Adjustment Purple : -10
Saturation Adjustment Magenta : -20
Luminance Adjustment Red : -20
Luminance Adjustment Orange : +5
Luminance Adjustment Yellow : 0
Luminance Adjustment Green : +10
Luminance Adjustment Aqua : 0
Luminance Adjustment Blue : -10
Luminance Adjustment Purple : -15
Luminance Adjustment Magenta : 0
Split Toning Shadow Hue : 0
Split Toning Shadow Saturation : 0
Split Toning Highlight Hue : 0
Split Toning Highlight Saturation : 0
Split Toning Balance : 0
Color Grade Midtone Hue : 0
Color Grade Midtone Sat : 0
Color Grade Shadow Lum : 0
Color Grade Midtone Lum : 0
Color Grade Highlight Lum : 0
Color Grade Blending : 50
Color Grade Global Hue : 0
Color Grade Global Sat : 0
Color Grade Global Lum : 0
Auto Lateral CA : 0
Lens Profile Enable : 0
Lens Manual Distortion Amount : 0
Vignette Amount : -83
Vignette Midpoint : 13
Defringe Purple Amount : 0
Defringe Purple Hue Lo : 30
Defringe Purple Hue Hi : 70
Defringe Green Amount : 0
Defringe Green Hue Lo : 40
Defringe Green Hue Hi : 60
Perspective Upright : Off
Perspective Vertical : 0
Perspective Horizontal : 0
Perspective Rotate : 0.0
Perspective Aspect : 0
Perspective Scale : 100
Perspective X : 0.00
Perspective Y : 0.00
Grain Amount : 20
Grain Size : 30
Grain Frequency : 80
Post Crop Vignette Amount : -10
Post Crop Vignette Midpoint : 50
Post Crop Vignette Feather : 50
Post Crop Vignette Roundness : 0
Post Crop Vignette Style : Highlight Priority
Post Crop Vignette Highlight Contrast : 0
Shadow Tint : 0
Red Hue : +22
Red Saturation : 0
Green Hue : +40
Green Saturation : -25
Blue Hue : -15
Blue Saturation : -15
HDR Edit Mode : 0
Curve Refine Saturation : 100
Convert To Grayscale : False
Override Look Vignette : True
Tone Curve Name 2012 : 400H+1 +++
Camera Profile : Adobe Standard
Missing Camera Profile : 400H⁺¹ - SO
Has Settings : True
Crop Top : 0
Crop Left : 0
Crop Bottom : 1
Crop Right : 1
Crop Angle : 0
Crop Constrain To Warp : 0
Has Crop : False
Already Applied : True
Tone Curve PV2012 : 0, 53, 41, 61, 82, 91, 146, 147, 255, 249
Tone Curve PV2012 Red : 0, 0, 43, 22, 113, 123, 178, 203, 255, 255
Tone Curve PV2012 Green : 0, 0, 43, 22, 112, 121, 181, 201, 255, 255
Tone Curve PV2012 Blue : 0, 0, 43, 22, 114, 122, 179, 201, 255, 255
Point Colors : -1.000000, -1.000000, -1.000000, -1.000000, -1.000000, -1.000000, -1.000000, -1.000000, -1.000000, -1.000000, -1.000000, -1.000000, -1.000000, -1.000000, -1.000000, -1.000000, -1.000000, -1.000000, -1.000000
100
0
false
Image Width : 400
Image Height : 267
Bits Per Sample : 8
Color Components : 3
Aperture : 3.5
Image Size : 400x267
Megapixels : 0.107
Scale Factor To 35 mm Equivalent : 1.0
Shutter Speed : 1/60
Create Date : 2026:01:17 14:46:58-07:00
Date/Time Original : 2026:01:17 14:46:58-07:00
Modify Date : 2026:01:17 15:50:25-08:00
Circle Of Confusion : 0.030 mm
Field Of View : 39.6 deg
Focal Length : 50.0 mm (35 mm equivalent: 50.0 mm)
Hyperfocal Distance : 23.77 m
Light Value : 9.5
Lens ID : Carl Zeiss Planar T* 50mm F1.4 ZA SSM (SAL50F14Z)