Uber Exif Photo
Make : NIKON CORPORATION
Camera Model Name : NIKON D800E
Software : Adobe Photoshop Lightroom Classic 15.2 (Windows)
Modify Date : 2026:03:16 00:11:31
Artist : Tony Johansson
Copyright : Tony Johansson
Exposure Time : 1/125
F Number : 5.6
Exposure Program : Aperture-priority AE
ISO : 100
Sensitivity Type : Recommended Exposure Index
Date/Time Original : 2019:04:02 13:59:46
Create Date : 2019:04:02 13:59:46
Shutter Speed Value : 1/125
Aperture Value : 5.6
Exposure Compensation : +5/3
Max Aperture Value : 2.0
Metering Mode : Multi-segment
Light Source : Unknown
Flash : Off, Did not fire
Focal Length : 28.0 mm
Color Space : Uncalibrated
Sensing Method : One-chip color area
Scene Type : Directly photographed
CFA Pattern : [Red,Green][Green,Blue]
Custom Rendered : Normal
Exposure Mode : Auto
White Balance : Auto
Digital Zoom Ratio : 1
Focal Length In 35mm Format : 28 mm
Scene Capture Type : Standard
Gain Control : None
Contrast : Normal
Saturation : Normal
Sharpness : Normal
Subject Distance Range : Unknown
Serial Number : 6008695
Lens Info : 28mm f/2
Lens Model : Zeiss Distagon T* 2/28 ZF.2
GPS Version ID : 2.3.0.0
GPS Latitude Ref : North
GPS Longitude Ref : East
GPS Altitude Ref : Above Sea Level
GPS Time Stamp : 07:14:47
GPS Satellites : 10
GPS Map Datum : WGS84
GPS Date Stamp : 2019:04:02
By-line : Tony Johansson
Copyright Notice : Tony Johansson
Profile Description : ProPhoto RGB
Format : image/jpeg
Creator Tool : Adobe Photoshop Lightroom Classic 15.2 (Windows)
Lens : Zeiss Distagon T* 2/28 ZF.2
Image Number : 8111
Distortion Correction Already Applied : True
Lateral Chromatic Aberration Correction Already Applied:
True
Vignette Correction Already Applied : True
Date Created : 2019:04:02 13:59:46.10
Preserved File Name : _DSC0013.NEF
Pick : 0
Raw File Name : _DSC0013.NEF
Version : 18.2
Compatible Version : 285212672
Process Version : 15.4
Color Temperature : 5369
Tint : +9
Exposure 2012 : 0.00
Contrast 2012 : +11
Highlights 2012 : -100
Shadows 2012 : +34
Whites 2012 : +12
Blacks 2012 : +18
Texture : +20
Clarity 2012 : +22
Dehaze : +3
Vibrance : +26
Parametric Shadows : 0
Parametric Darks : 0
Parametric Lights : 0
Parametric Highlights : 0
Parametric Shadow Split : 25
Parametric Midtone Split : 50
Parametric Highlight Split : 75
Sharpen Radius : +0.6
Sharpen Detail : 72
Sharpen Edge Masking : 70
Luminance Smoothing : 0
Color Noise Reduction : 0
Hue Adjustment Red : 0
Hue Adjustment Orange : +26
Hue Adjustment Yellow : -32
Hue Adjustment Green : -2
Hue Adjustment Aqua : -48
Hue Adjustment Blue : +36
Hue Adjustment Purple : 0
Hue Adjustment Magenta : 0
Saturation Adjustment Red : 0
Saturation Adjustment Orange : +11
Saturation Adjustment Yellow : -7
Saturation Adjustment Green : -11
Saturation Adjustment Aqua : +19
Saturation Adjustment Blue : +38
Saturation Adjustment Purple : -6
Saturation Adjustment Magenta : -24
Luminance Adjustment Red : 0
Luminance Adjustment Orange : -19
Luminance Adjustment Yellow : +8
Luminance Adjustment Green : -22
Luminance Adjustment Aqua : -3
Luminance Adjustment Blue : -100
Luminance Adjustment Purple : 0
Luminance Adjustment Magenta : 0
Split Toning Shadow Hue : 0
Split Toning Shadow Saturation : 0
Split Toning Highlight Hue : 0
Split Toning Highlight Saturation : 0
Split Toning Balance : 0
Color Grade Midtone Hue : 0
Color Grade Midtone Sat : 0
Color Grade Shadow Lum : 0
Color Grade Midtone Lum : 0
Color Grade Highlight Lum : 0
Color Grade Blending : 50
Color Grade Global Hue : 0
Color Grade Global Sat : 0
Color Grade Global Lum : 0
Auto Lateral CA : 1
Lens Profile Enable : 1
Lens Manual Distortion Amount : 0
Vignette Amount : 0
Defringe Purple Amount : 0
Defringe Purple Hue Lo : 30
Defringe Purple Hue Hi : 70
Defringe Green Amount : 0
Defringe Green Hue Lo : 40
Defringe Green Hue Hi : 60
Perspective Upright : Auto
Perspective Vertical : 0
Perspective Horizontal : 0
Perspective Rotate : 0.0
Perspective Aspect : 0
Perspective Scale : 100
Perspective X : 0.00
Perspective Y : 0.00
Grain Amount : 0
Post Crop Vignette Amount : 0
Shadow Tint : 0
Red Hue : 0
Red Saturation : 0
Green Hue : +38
Green Saturation : -45
Blue Hue : 0
Blue Saturation : 0
HDR Edit Mode : 0
HDR Max Value : +4.00
Convert To Grayscale : False
Override Look Vignette : False
Tone Curve Name 2012 : Linear
Camera Profile : Adobe Standard
Lens Profile Setup : Auto
Lens Profile Name : Adobe (Zeiss Distagon T* 2/28 ZF.2)
Lens Profile Filename : NIKON CORPORATION (Zeiss Distagon T 2-28 ZF.2).lcp
Lens Profile Is Embedded : False
Lens Profile Distortion Scale : 100
Lens Profile Vignetting Scale : 100
Allow Filters : 1
Has Settings : True
Crop Top : 0
Crop Left : 0
Crop Bottom : 1
Crop Right : 1
Crop Angle : 0
Crop Constrain To Warp : 0
Crop Constrain To Unit Square : 1
Has Crop : False
Already Applied : True
Creator : Tony Johansson
Rights : Tony Johansson
Tone Curve PV2012 : 0, 0, 255, 255
Tone Curve PV2012 Red : 0, 0, 255, 255
Tone Curve PV2012 Green : 0, 0, 255, 255
Tone Curve PV2012 Blue : 0, 0, 255, 255
Point Colors : -1.000000, -1.000000, -1.000000, -1.000000, -1.000000, -1.000000, -1.000000, -1.000000, -1.000000, -1.000000, -1.000000, -1.000000, -1.000000, -1.000000, -1.000000, -1.000000, -1.000000, -1.000000, -1.000000
Color Variance : -50.000000
Remove Areas Spot Type : heal_patchmatch
Remove Areas Source State : sourceAutoComputed
Remove Areas Opacity : 1
Remove Areas Seed : 2
Remove Areas Pm patch : 1F300FB0EFFB2FD69E0ED628F721C760
Remove Areas Pm remap info 0 : 0.225665674,0.277973592,0.000000000,1.000000000
Remove Areas Pm remap info 1 : 0.465964764,0.567193091,0.000000000,1.000000000
Remove Areas Pm remap info 2 : 0.383016706,0.456672013,0.000000000,1.000000000
Remove Areas Pm gamma type : 1
Remove Areas Pm whole image top : 6
Remove Areas Pm whole image left : 8
Remove Areas Pm whole image bottom : 4918
Remove Areas Pm whole image right : 7368
Remove Areas Pm target top : 1439
Remove Areas Pm target left : 131
Remove Areas Pm target bottom : 1592
Remove Areas Pm target right : 246
Remove Areas Pm search top : 939
Remove Areas Pm search left : 40
Remove Areas Pm search bottom : 2090
Remove Areas Pm search right : 935
Remove Areas Pm source type : full
Remove Areas Pm version : 327680
Remove Areas Fill method : firefly
Remove Areas Pm black level : 1028
Remove Areas Pm patch mask : 7DE88690C3B5B889422FC74F7BF2DE69
Remove Areas Pm mask remap info : 0.000000000,1.000000000,0.000000000,1.000000000
Remove Areas Pm clio model version : clio-erase-2.0#epoch=0-step=4000.clio-erase-c2-2025-03-19T10-37-32
Remove Areas Ingest Info : DBF2A03257603FF8EB0B1E7F2617E97F
Remove Areas Pm remap info variation 0 0 : 0.225650415,0.276646078,0.000000000,1.000000000
Remove Areas Pm remap info variation 0 1 : 0.465827405,0.564934790,0.000000000,1.000000000
Remove Areas Pm remap info variation 0 2 : 0.382833600,0.453543901,0.000000000,1.000000000
Remove Areas Pm remap info variation 1 0 : 0.225650415,0.275715262,0.000000000,1.000000000
Remove Areas Pm remap info variation 1 1 : 0.465598524,0.564858496,0.000000000,1.000000000
Remove Areas Pm remap info variation 1 2 : 0.382330060,0.452857256,0.000000000,1.000000000
Remove Areas Pm patch variations Pm patch variation:
4B4632DF7254B2719F09747404D236C7
Remove Areas Masks What : Mask/Image
Remove Areas Masks Mask Active : true
Remove Areas Masks Mask Blend Mode : 0
Remove Areas Masks Mask Inverted : false
Remove Areas Masks Mask Sync ID : 731AE40810B1AF48A6AB06E6C354C4D8
Remove Areas Masks Mask Value : 1
Remove Areas Masks Mask Version : 1
Remove Areas Masks Mask Sub Type : 0
Remove Areas Masks Reference Point : 0.023666 0.305778
Remove Areas Masks Whole Image Area : 76663/32768,102221/32768,62837897/32768,94145759/32768
Remove Areas Masks Origin : 55,565
Remove Areas Masks Full Mask Size : 2877,1920
Remove Areas Masks Model Version : 234881976
Remove Areas Masks Gesture What : Mask/Paint
Remove Areas Masks Gesture Mask Active : true
Remove Areas Masks Gesture Mask Blend Mode : 0
Remove Areas Masks Gesture Mask Inverted : false
Remove Areas Masks Gesture Mask Sync ID : AB8BE0AFEB6AAE42A1EB494E325D0391
Remove Areas Masks Gesture Mask Value : 1
Remove Areas Masks Gesture Radius : 0
Remove Areas Masks Gesture Flow : 1
Remove Areas Masks Gesture Center Weight : 0
Remove Areas Masks Gesture Brush Gesture Interpretation:
0
Filter List Filters Name : Enhance
Filter List Filters Title : $$$/CRaw/Filter/Title/Denoise=Denoise
Filter List Filters Filter ID : 1
Filter List Filters Min Display Version : 285212672
Filter List Filters Min Edit Version : 285212672
Filter List Filters Order Index N : 100000
Filter List Filters Order Index D : 1
Filter List Filters Src Bounds Top : 0
Filter List Filters Src Bounds Left : 0
Filter List Filters Src Bounds Bottom : 4924
Filter List Filters Src Bounds Right : 7378
Filter List Filters Dst Bounds Top : 0
Filter List Filters Dst Bounds Left : 0
Filter List Filters Dst Bounds Bottom : 4924
Filter List Filters Dst Bounds Right : 7378
Filter List Filters Src Default Crop Area Top : 6
Filter List Filters Src Default Crop Area Left:
8
Filter List Filters Src Default Crop Area Bottom:
4918
Filter List Filters Src Default Crop Area Right:
7368
Filter List Filters Dst Default Crop Area Top : 6
Filter List Filters Dst Default Crop Area Left:
Filter List Filters Dst Default Crop Area Bottom:
Filter List Filters Dst Default Crop Area Right:
Filter List Filters Should Delete Images Due To Upstream:
true
Filter List Filters Compressed Settings : C6A12FF54B9B741A8475A0193EF7C77E
Filter List Filters Images Reference Image Area Top:
Filter List Filters Images Reference Image Area Left:
Filter List Filters Images Reference Image Area Bottom:
4924
Filter List Filters Images Reference Image Area Right:
7378
Filter List Filters Images Reference Default Crop Area Top:
6
Filter List Filters Images Reference Default Crop Area Left:
Filter List Filters Images Reference Default Crop Area Bottom:
Filter List Filters Images Reference Default Crop Area Right:
Filter List Filters Images Blend Type : 1
Filter List Filters Images Blend White Balance Mode:
2
Filter List Filters Images Matrix Type A : 1
Filter List Filters Images Matrix Type B : 1
Filter List Filters Images Matrix Type C : 4
Filter List Filters Images Opacity : 1,1
B2C97AE425DD751B0E48A3ACAE79CF4A
Filter List Filters Images Blend Params : 0.700000000186265, 0.75, 1, 1
Filter List Filters Images Matrix Params A : 0.25, 0.25
Filter List Filters Images Matrix Params B : 0.25, 0.25
Filter List Filters Images Color Variations Linearization Map Polynomial:
0.00128668174147606, 0.0414848392829299, 0, 0.62227258272469, 0.00254235975444317, 0.062341102398932, 0, 0.935116537846625, 0.00145720597356558, 0.0591738102957606, 0, 0.887607159093022
Filter List Filters Images Color Variations Black Levels Black:
0,1
63A10A71579206F245E523F289564A10
A73FF62A43BCD14D82CBC8FB1B9C4772
Filter List Filters Images Color Variations Image Group Size X:
Filter List Filters Images Color Variations Image Group Size Y:
Filter List Filters Images Color Variations Image Group Stage 3X:
7360
Filter List Filters Images Color Variations Image Group Stage 3Y:
4912
Filter List Filters Images Color Variations Image Group Pixel Type:
3
Filter List Filters Images Color Variations Image Group Planes:
Image Width : 400
Image Height : 267
Bits Per Sample : 8
Color Components : 3
Aperture : 5.6
Image Size : 400x267
Megapixels : 0.107
Scale Factor To 35 mm Equivalent : 1.0
Shutter Speed : 1/125
Create Date : 2019:04:02 13:59:46.10
Date/Time Original : 2019:04:02 13:59:46.10
Modify Date : 2026:03:16 00:11:31+01:00
GPS Altitude : 9 m Above Sea Level
GPS Date/Time : 2019:04:02 07:14:47Z
GPS Latitude : 34 deg 41' 19.35" N
GPS Longitude : 135 deg 31' 29.29" E
Circle Of Confusion : 0.030 mm
Field Of View : 65.5 deg
Focal Length : 28.0 mm (35 mm equivalent: 28.0 mm)
GPS Position : 34 deg 41' 19.35" N, 135 deg 31' 29.29" E
Hyperfocal Distance : 4.66 m
Light Value : 11.9