Uber Exif Photo
Make : SONY
Camera Model Name : ILCA-99M2
Software : Adobe Photoshop Lightroom Classic 14.0.1 (Windows)
Modify Date : 2025:12:21 15:07:41
Exposure Time : 1/30
F Number : 1.4
Exposure Program : Aperture-priority AE
ISO : 100
Sensitivity Type : Recommended Exposure Index
Recommended Exposure Index : 100
Date/Time Original : 2025:12:21 12:02:49
Create Date : 2025:12:21 12:02:49
Shutter Speed Value : 1/30
Aperture Value : 1.4
Brightness Value : -0.13125
Exposure Compensation : -1.7
Max Aperture Value : 1.4
Metering Mode : Center-weighted average
Light Source : Unknown
Flash : Off, Did not fire
Focal Length : 50.0 mm
Color Space : sRGB
Scene Type : Directly photographed
Custom Rendered : Normal
Exposure Mode : Auto
White Balance : Auto
Digital Zoom Ratio : 1
Focal Length In 35mm Format : 50 mm
Scene Capture Type : Standard
Contrast : Normal
Saturation : Normal
Sharpness : Normal
Lens Info : 50mm f/1.4
Lens Model : 50mm F1.4 ZA SSM
Profile Description : sRGB IEC61966-2.1
Creator Tool : Adobe Photoshop Lightroom Classic 14.0.1 (Windows)
Lens : 50mm F1.4 ZA SSM
Lens Distort Info : 33058/32768 -30358154/1073741824 -2747837/1073741824 863451/1073741824
Lateral Chromatic Aberration Correction Already Applied:
True
Date Created : 2025:12:21 12:02:49-07:00
Preserved File Name : DSC06904.ARW
Format : image/jpeg
Pick : 0
Raw File Name : DSC06904.ARW
Version : 17.0
Compatible Version : 268632064
Process Version : 15.4
Color Temperature : 5600
Tint : +8
Exposure 2012 : +0.49
Contrast 2012 : 0
Highlights 2012 : +17
Shadows 2012 : +20
Whites 2012 : +44
Blacks 2012 : +5
Texture : 0
Clarity 2012 : -10
Dehaze : 0
Vibrance : 0
Parametric Shadows : 0
Parametric Darks : 0
Parametric Lights : 0
Parametric Highlights : 0
Parametric Shadow Split : 25
Parametric Midtone Split : 50
Parametric Highlight Split : 75
Luminance Smoothing : 25
Luminance Noise Reduction Detail : 50
Luminance Noise Reduction Contrast : 0
Color Noise Reduction : 25
Color Noise Reduction Detail : 50
Color Noise Reduction Smoothness : 50
Hue Adjustment Red : +15
Hue Adjustment Orange : 0
Hue Adjustment Yellow : -5
Hue Adjustment Green : 0
Hue Adjustment Aqua : +25
Hue Adjustment Blue : -5
Hue Adjustment Purple : +30
Hue Adjustment Magenta : 0
Saturation Adjustment Red : -15
Saturation Adjustment Orange : -16
Saturation Adjustment Yellow : 0
Saturation Adjustment Green : -32
Saturation Adjustment Aqua : -20
Saturation Adjustment Blue : -30
Saturation Adjustment Purple : 0
Saturation Adjustment Magenta : -45
Luminance Adjustment Red : -25
Luminance Adjustment Orange : -10
Luminance Adjustment Yellow : -25
Luminance Adjustment Green : -30
Luminance Adjustment Aqua : -15
Luminance Adjustment Blue : -40
Luminance Adjustment Purple : 0
Luminance Adjustment Magenta : -20
Split Toning Shadow Hue : 0
Split Toning Shadow Saturation : 0
Split Toning Highlight Hue : 0
Split Toning Highlight Saturation : 0
Split Toning Balance : 0
Color Grade Midtone Hue : 0
Color Grade Midtone Sat : 0
Color Grade Shadow Lum : 0
Color Grade Midtone Lum : 0
Color Grade Highlight Lum : 0
Color Grade Blending : 50
Color Grade Global Hue : 0
Color Grade Global Sat : 0
Color Grade Global Lum : 0
Auto Lateral CA : 0
Lens Profile Enable : 0
Lens Manual Distortion Amount : 0
Vignette Amount : -83
Vignette Midpoint : 13
Defringe Purple Amount : 0
Defringe Purple Hue Lo : 30
Defringe Purple Hue Hi : 70
Defringe Green Amount : 0
Defringe Green Hue Lo : 40
Defringe Green Hue Hi : 60
Perspective Upright : Off
Perspective Vertical : 0
Perspective Horizontal : 0
Perspective Rotate : 0.0
Perspective Aspect : 0
Perspective Scale : 100
Perspective X : 0.00
Perspective Y : 0.00
Grain Amount : 10
Grain Size : 10
Grain Frequency : 10
Post Crop Vignette Amount : -30
Post Crop Vignette Midpoint : 50
Post Crop Vignette Feather : 50
Post Crop Vignette Roundness : 0
Post Crop Vignette Style : Highlight Priority
Post Crop Vignette Highlight Contrast : 0
Shadow Tint : 0
Red Hue : +10
Red Saturation : -15
Green Hue : -5
Green Saturation : 0
Blue Hue : 0
Blue Saturation : +12
HDR Edit Mode : 0
Curve Refine Saturation : 100
Convert To Grayscale : False
Override Look Vignette : True
Tone Curve Name 2012 : Fuji FP-100c ++
Camera Profile : Adobe Standard
Missing Camera Profile : Fuji FP-100c SO
Has Settings : True
Crop Top : 0.042165
Crop Left : 0.013434
Crop Bottom : 0.982575
Crop Right : 0.953844
Crop Angle : 0
Crop Constrain To Warp : 0
Has Crop : True
Already Applied : True
Tone Curve PV2012 : 0, 62, 29, 66, 56, 81, 135, 154, 201, 206, 255, 250
Tone Curve PV2012 Red : 0, 10, 35, 22, 120, 127, 219, 234, 255, 255
Tone Curve PV2012 Green : 0, 7, 44, 22, 123, 128, 166, 185, 220, 235, 255, 255
Tone Curve PV2012 Blue : 0, 1, 44, 14, 127, 129, 221, 236, 255, 255
Point Colors : -1.000000, -1.000000, -1.000000, -1.000000, -1.000000, -1.000000, -1.000000, -1.000000, -1.000000, -1.000000, -1.000000, -1.000000, -1.000000, -1.000000, -1.000000, -1.000000, -1.000000, -1.000000, -1.000000
Remove Areas Spot Type : heal_patchmatch
Remove Areas Source State : sourceAutoComputed
Remove Areas Opacity : 1
Remove Areas Seed : 2
Remove Areas Pm patch : 036E991155A7EB0DA4FC6FE542AD204B
Remove Areas Pm remap info 0 : 0.032593273,0.060654610,0.000000000,1.000000000
Remove Areas Pm remap info 1 : 0.033844512,0.094346531,0.000000000,1.000000000
Remove Areas Pm remap info 2 : 0.032745861,0.074372470,0.000000000,1.000000000
Remove Areas Pm gamma type : 1
Remove Areas Pm whole image top : 8
Remove Areas Pm whole image left : 8
Remove Areas Pm whole image bottom : 5312
Remove Areas Pm whole image right : 7960
Remove Areas Pm target top : 0
Remove Areas Pm target left : 4828
Remove Areas Pm target bottom : 1737
Remove Areas Pm target right : 6949
Remove Areas Pm search top : 0
Remove Areas Pm search left : 4128
Remove Areas Pm search bottom : 3521
Remove Areas Pm search right : 7649
Remove Areas Pm source type : full
Remove Areas Pm version : 327680
Remove Areas Fill method : firefly
Remove Areas Pm black level : 2059
Remove Areas Pm patch mask : E8062D53DB4EFF8A8E3FF0019D33B5DA
Remove Areas Pm mask remap info : 0.000000000,1.000000000,0.000000000,1.000000000
Remove Areas Pm clio model version : 1.0.5-beta.1-1.2_1.2-8c2cea4-0.1.27.1r16_06-2025.6
Remove Areas Ingest Info : E8F2BDBEEF42D3D1BC73D3ABA46569D7
Remove Areas Pm remap info variation 0 0 : 0.032593273,0.060654610,0.000000000,1.000000000
Remove Areas Pm remap info variation 0 1 : 0.033844512,0.091508351,0.000000000,1.000000000
Remove Areas Pm remap info variation 0 2 : 0.032852676,0.073884182,0.000000000,1.000000000
Remove Areas Pm remap info variation 1 0 : 0.032593273,0.060654610,0.000000000,1.000000000
Remove Areas Pm remap info variation 1 1 : 0.033844512,0.092210270,0.000000000,1.000000000
Remove Areas Pm remap info variation 1 2 : 0.032852676,0.074372470,0.000000000,1.000000000
Remove Areas Pm patch variations Pm patch variation:
44BA081401758A6FB19B79A91190B58A
Remove Areas Masks What : Mask/Image
Remove Areas Masks Mask Active : true
Remove Areas Masks Mask Blend Mode : 0
Remove Areas Masks Mask Inverted : false
Remove Areas Masks Mask Sync ID : A88306192DCDDD4FA7FA29A0F118A873
Remove Areas Masks Mask Value : 1
Remove Areas Masks Mask Version : 1
Remove Areas Masks Mask Sub Type : 0
Remove Areas Masks Reference Point : 0.729762 0.152154
Remove Areas Masks Whole Image Area : 0/1,0/1,1920/1,2879/1
Remove Areas Masks Origin : 1757,0
Remove Areas Masks Model Version : 234881976
Remove Areas Masks Gesture What : Mask/Paint
Remove Areas Masks Gesture Mask Active : true
Remove Areas Masks Gesture Mask Blend Mode : 0
Remove Areas Masks Gesture Mask Inverted : false
Remove Areas Masks Gesture Mask Sync ID : 05377DA17F75F34197FC30342E2978B5
Remove Areas Masks Gesture Mask Value : 1
Remove Areas Masks Gesture Radius : 0
Remove Areas Masks Gesture Flow : 1
Remove Areas Masks Gesture Center Weight : 0
Remove Areas Masks Gesture Brush Gesture Interpretation:
1
100
0
false
Image Width : 400
Image Height : 267
Bits Per Sample : 8
Color Components : 3
Aperture : 1.4
Image Size : 400x267
Megapixels : 0.107
Scale Factor To 35 mm Equivalent : 1.0
Shutter Speed : 1/30
Create Date : 2025:12:21 12:02:49-07:00
Date/Time Original : 2025:12:21 12:02:49-07:00
Modify Date : 2025:12:21 15:07:41-08:00
Circle Of Confusion : 0.030 mm
Field Of View : 39.6 deg
Focal Length : 50.0 mm (35 mm equivalent: 50.0 mm)
Hyperfocal Distance : 59.43 m
Light Value : 5.9
Lens ID : Carl Zeiss Planar T* 50mm F1.4 ZA SSM (SAL50F14Z)