Uber Exif Photo
Make : NIKON CORPORATION
Camera Model Name : NIKON D4
Software : Adobe Photoshop Lightroom 5.0 (Windows)
Modify Date : 2013:11:26 13:43:55
Exposure Time : 1/1000
F Number : 9.0
Exposure Program : Aperture-priority AE
ISO : 100
Sensitivity Type : Recommended Exposure Index
Date/Time Original : 2013:11:25 15:36:13
Create Date : 2013:11:25 15:36:13
Shutter Speed Value : 1/1000
Aperture Value : 9.0
Exposure Compensation : 0
Max Aperture Value : 1.4
Metering Mode : Multi-segment
Light Source : Unknown
Flash : No Flash
Focal Length : 55.0 mm
Sensing Method : One-chip color area
Scene Type : Directly photographed
CFA Pattern : [Red,Green][Green,Blue]
Custom Rendered : Normal
Exposure Mode : Auto
White Balance : Auto
Digital Zoom Ratio : 1
Focal Length In 35mm Format : 55 mm
Scene Capture Type : Standard
Gain Control : None
Contrast : Normal
Saturation : Normal
Sharpness : Normal
Subject Distance Range : Unknown
Serial Number : 2067991
Lens Info : 55mm f/1.4
Lens Model : 55.0 mm f/1.4
Profile Description : sRGB IEC61966-2.1
Creator Tool : Adobe Photoshop Lightroom 5.0 (Windows)
Lens : 55.0 mm f/1.4
Image Number : 303
Date Created : 2013:11:25 15:36:13.00
Format : image/jpeg
Version : 8.2
Process Version : 6.7
Auto White Version : 134348800
Color Temperature : 4600
Tint : -1
Luminance Smoothing : 0
Color Noise Reduction : 25
Vignette Amount : 0
Shadow Tint : 0
Red Hue : 0
Red Saturation : 0
Green Hue : 0
Green Saturation : 0
Blue Hue : 0
Blue Saturation : 0
Vibrance : +25
Hue Adjustment Red : 0
Hue Adjustment Orange : 0
Hue Adjustment Yellow : 0
Hue Adjustment Green : 0
Hue Adjustment Aqua : 0
Hue Adjustment Blue : 0
Hue Adjustment Purple : 0
Hue Adjustment Magenta : 0
Saturation Adjustment Red : 0
Saturation Adjustment Orange : 0
Saturation Adjustment Yellow : 0
Saturation Adjustment Green : 0
Saturation Adjustment Aqua : 0
Saturation Adjustment Blue : 0
Saturation Adjustment Purple : 0
Saturation Adjustment Magenta : 0
Luminance Adjustment Red : 0
Luminance Adjustment Orange : 0
Luminance Adjustment Yellow : 0
Luminance Adjustment Green : 0
Luminance Adjustment Aqua : 0
Luminance Adjustment Blue : 0
Luminance Adjustment Purple : 0
Luminance Adjustment Magenta : 0
Split Toning Shadow Hue : 0
Split Toning Shadow Saturation : 0
Split Toning Highlight Hue : 0
Split Toning Highlight Saturation : 0
Split Toning Balance : 0
Parametric Shadows : 0
Parametric Darks : 0
Parametric Lights : 0
Parametric Highlights : 0
Parametric Shadow Split : 25
Parametric Midtone Split : 50
Parametric Highlight Split : 75
Sharpen Radius : +1.0
Sharpen Detail : 25
Sharpen Edge Masking : 0
Post Crop Vignette Amount : 0
Grain Amount : 0
Color Noise Reduction Detail : 50
Color Noise Reduction Smoothness : 50
Lens Profile Enable : 0
Lens Manual Distortion Amount : 0
Perspective Vertical : 0
Perspective Horizontal : 0
Perspective Rotate : 0.0
Perspective Scale : 100
Perspective Aspect : 0
Perspective Upright : Off
Auto Lateral CA : 0
Exposure 2012 : 0.00
Contrast 2012 : 0
Highlights 2012 : -30
Shadows 2012 : 0
Whites 2012 : -100
Blacks 2012 : 0
Clarity 2012 : +30
Defringe Purple Amount : 0
Defringe Purple Hue Lo : 30
Defringe Purple Hue Hi : 70
Defringe Green Amount : 0
Defringe Green Hue Lo : 40
Defringe Green Hue Hi : 60
Convert To Grayscale : False
Tone Curve Name 2012 : Linear
Camera Profile : Adobe Standard
Lens Profile Setup : LensDefaults
Has Settings : True
Crop Top : 0
Crop Left : 0.015408
Crop Bottom : 1
Crop Right : 0.984592
Crop Angle : 0.832106
Crop Constrain To Warp : 0
Has Crop : True
Already Applied : True
Tone Curve PV2012 : 0, 0, 255, 255
Tone Curve PV2012 Red : 0, 0, 255, 255
Tone Curve PV2012 Green : 0, 0, 255, 255
Tone Curve PV2012 Blue : 0, 0, 255, 255
Image Width : 300
Image Height : 200
Bits Per Sample : 8
Color Components : 3
Aperture : 9.0
Image Size : 300x200
Megapixels : 0.060
Scale Factor To 35 mm Equivalent : 1.0
Shutter Speed : 1/1000
Create Date : 2013:11:25 15:36:13.00
Date/Time Original : 2013:11:25 15:36:13.00
Circle Of Confusion : 0.030 mm
Field Of View : 36.2 deg
Focal Length : 55.0 mm (35 mm equivalent: 55.0 mm)
Hyperfocal Distance : 11.19 m
Light Value : 16.3
Lens ID : 55.0mm f/1.4