Uber Exif Photo
Make : NIKON CORPORATION
Camera Model Name : NIKON D700
Software : Ver.1.02
Modify Date : 2010:09:19 23:38:45
Exposure Time : 8
F Number : 8.0
Exposure Program : Aperture-priority AE
ISO : 200
Sensitivity Type : Unknown
Date/Time Original : 2010:09:12 03:52:30
Create Date : 2010:09:12 03:52:30
Shutter Speed Value : 8
Aperture Value : 8.0
Exposure Compensation : 0
Max Aperture Value : 1.0
Metering Mode : Spot
Light Source : Unknown
Focal Length : 50.0 mm
Sensing Method : One-chip color area
Scene Type : Directly photographed
CFA Pattern : [Red,Green][Green,Blue]
Custom Rendered : Normal
Exposure Mode : Auto
White Balance : Auto
Digital Zoom Ratio : 1
Focal Length In 35mm Format : 50 mm
Scene Capture Type : Standard
Gain Control : None
Contrast : Normal
Saturation : Normal
Sharpness : Normal
Subject Distance Range : Unknown
Serial Number : 2133700
Lens Info : 0mm f/0
Lens Model : 0.0 mm f/0.0
Profile Description : sRGB IEC61966-2.1
Date/Time Digitized : 2010:09:12 03:52:30.25-04:00
Exif Image Width : 2741
Exif Image Height : 1824
Creator Tool : Adobe Photoshop Lightroom
Rating : 1
Lens : 0.0 mm f/0.0
Image Number : 13992
Version : 6.2
Process Version : 5.7
Color Temperature : 5400
Tint : -12
Exposure : 0.00
Shadows : 5
Brightness : +50
Luminance Smoothing : 0
Color Noise Reduction : 25
Chromatic Aberration R : 0
Chromatic Aberration B : 0
Vignette Amount : 0
Shadow Tint : 0
Red Hue : 0
Red Saturation : 0
Green Hue : 0
Green Saturation : 0
Blue Hue : 0
Blue Saturation : 0
Fill Light : 0
Vibrance : 0
Highlight Recovery : 5
Clarity : +20
Defringe : 0
Hue Adjustment Red : 0
Hue Adjustment Orange : 0
Hue Adjustment Yellow : 0
Hue Adjustment Green : 0
Hue Adjustment Aqua : 0
Hue Adjustment Blue : 0
Hue Adjustment Purple : 0
Hue Adjustment Magenta : 0
Saturation Adjustment Red : 0
Saturation Adjustment Orange : 0
Saturation Adjustment Yellow : 0
Saturation Adjustment Green : 0
Saturation Adjustment Aqua : 0
Saturation Adjustment Blue : 0
Saturation Adjustment Purple : 0
Saturation Adjustment Magenta : 0
Luminance Adjustment Red : 0
Luminance Adjustment Orange : 0
Luminance Adjustment Yellow : 0
Luminance Adjustment Green : 0
Luminance Adjustment Aqua : 0
Luminance Adjustment Blue : 0
Luminance Adjustment Purple : 0
Luminance Adjustment Magenta : 0
Split Toning Shadow Hue : 0
Split Toning Shadow Saturation : 0
Split Toning Highlight Hue : 0
Split Toning Highlight Saturation : 0
Split Toning Balance : 0
Parametric Shadows : 0
Parametric Darks : 0
Parametric Lights : 0
Parametric Highlights : -27
Parametric Shadow Split : 25
Parametric Midtone Split : 50
Parametric Highlight Split : 75
Sharpen Radius : +1.7
Sharpen Detail : 45
Sharpen Edge Masking : 0
Post Crop Vignette Amount : 0
Grain Amount : 0
Color Noise Reduction Detail : 50
Lens Profile Enable : 0
Lens Manual Distortion Amount : 0
Perspective Vertical : 0
Perspective Horizontal : 0
Perspective Rotate : 0.0
Perspective Scale : 100
Convert To Grayscale : False
Tone Curve Name : Strong Contrast
Camera Profile : Adobe Standard
Lens Profile Setup : LensDefaults
Has Settings : True
Crop Top : 0
Crop Left : 0.018765
Crop Bottom : 1
Crop Right : 0.991691
Crop Angle : 0.729088
Crop Constrain To Warp : 0
Crop Width : 2741
Crop Height : 1824
Crop Unit : pixels
Has Crop : True
Already Applied : True
Flash Fired : False
Flash Return : No return detection
Flash Mode : Unknown
Flash Function : False
Flash Red Eye Mode : False
Tone Curve : 0, 0, 32, 16, 64, 50, 128, 128, 192, 202, 255, 255
Image Width : 300
Image Height : 200
Bits Per Sample : 8
Color Components : 3
Aperture : 8.0
Image Size : 300x200
Megapixels : 0.060
Scale Factor To 35 mm Equivalent : 1.0
Shutter Speed : 8
Create Date : 2010:09:12 03:52:30.25
Date/Time Original : 2010:09:12 03:52:30.25
Flash : No Flash
Circle Of Confusion : 0.030 mm
Field Of View : 39.6 deg
Focal Length : 50.0 mm (35 mm equivalent: 50.0 mm)
Hyperfocal Distance : 10.40 m
Light Value : 2.0
Lens ID : 0.0mm f/0.0