Uber Exif Photo
Make : NIKON CORPORATION
Camera Model Name : NIKON D850
Software : Adobe Photoshop Lightroom Classic 12.2.1 (Macintosh)
Modify Date : 2023:04:13 14:04:19
Artist : Urs Haeny
Copyright : Urs Haeny
Exposure Time : 1/15
F Number : 5.6
Exposure Program : Manual
ISO : 64
Sensitivity Type : Recommended Exposure Index
Recommended Exposure Index : 64
Date/Time Original : 2023:04:13 11:32:51
Create Date : 2023:04:13 11:32:51
Shutter Speed Value : 1/15
Aperture Value : 5.6
Exposure Compensation : 0
Max Aperture Value : 3.4
Metering Mode : Spot
Light Source : Unknown
Flash : No Flash
Focal Length : 105.0 mm
User Comment : Stacked from 100 images. Method=B (R=3,S=2)
Color Space : Uncalibrated
Sensing Method : One-chip color area
Scene Type : Directly photographed
Exposure Mode : Manual
White Balance : Auto
Scene Capture Type : Standard
Gain Control : None
Contrast : Normal
Saturation : Normal
Sharpness : Hard
By-line : Urs Haeny
Copyright Notice : Urs Haeny
Profile Description : Adobe RGB (1998)
Creator Tool : Adobe Photoshop Lightroom Classic 12.2.1 (Macintosh)
Format : image/jpeg
Date Created : 2023:04:13 11:32:51.05
Preserved File Name : 2023-04-13 13-51-18 (B,Radius3,Smoothing2).tif
Raw File Name : 2023-04-13 13-51-18 (B,Radius3,Smoothing2).tif
Version : 15.2
Process Version : 11.0
Incremental Temperature : 0
Incremental Tint : 0
Exposure 2012 : -0.80
Contrast 2012 : 0
Highlights 2012 : -67
Shadows 2012 : +42
Whites 2012 : +58
Blacks 2012 : 0
Texture : +79
Clarity 2012 : +66
Dehaze : 0
Vibrance : +34
Parametric Shadows : 0
Parametric Darks : 0
Parametric Lights : 0
Parametric Highlights : 0
Parametric Shadow Split : 25
Parametric Midtone Split : 50
Parametric Highlight Split : 75
Sharpen Radius : +0.5
Sharpen Detail : 66
Sharpen Edge Masking : 69
Luminance Smoothing : 47
Luminance Noise Reduction Detail : 50
Luminance Noise Reduction Contrast : 0
Color Noise Reduction : 45
Color Noise Reduction Detail : 50
Color Noise Reduction Smoothness : 50
Hue Adjustment Red : 0
Hue Adjustment Orange : 0
Hue Adjustment Yellow : 0
Hue Adjustment Green : 0
Hue Adjustment Aqua : 0
Hue Adjustment Blue : 0
Hue Adjustment Purple : 0
Hue Adjustment Magenta : 0
Saturation Adjustment Red : 0
Saturation Adjustment Orange : 0
Saturation Adjustment Yellow : 0
Saturation Adjustment Green : 0
Saturation Adjustment Aqua : 0
Saturation Adjustment Blue : 0
Saturation Adjustment Purple : 0
Saturation Adjustment Magenta : 0
Luminance Adjustment Red : 0
Luminance Adjustment Orange : 0
Luminance Adjustment Yellow : 0
Luminance Adjustment Green : 0
Luminance Adjustment Aqua : 0
Luminance Adjustment Blue : 0
Luminance Adjustment Purple : 0
Luminance Adjustment Magenta : 0
Split Toning Shadow Hue : 0
Split Toning Shadow Saturation : 0
Split Toning Highlight Hue : 0
Split Toning Highlight Saturation : 0
Split Toning Balance : 0
Color Grade Midtone Hue : 0
Color Grade Midtone Sat : 0
Color Grade Shadow Lum : 0
Color Grade Midtone Lum : 0
Color Grade Highlight Lum : 0
Color Grade Blending : 50
Color Grade Global Hue : 0
Color Grade Global Sat : 0
Color Grade Global Lum : 0
Auto Lateral CA : 1
Lens Profile Enable : 1
Lens Manual Distortion Amount : 0
Vignette Amount : 0
Defringe Purple Amount : 0
Defringe Purple Hue Lo : 30
Defringe Purple Hue Hi : 70
Defringe Green Amount : 0
Defringe Green Hue Lo : 40
Defringe Green Hue Hi : 60
Perspective Upright : Off
Perspective Vertical : 0
Perspective Horizontal : 0
Perspective Rotate : 0.0
Perspective Aspect : 0
Perspective Scale : 100
Perspective X : 0.00
Perspective Y : 0.00
Grain Amount : 0
Post Crop Vignette Amount : 0
Shadow Tint : 0
Red Hue : 0
Red Saturation : 0
Green Hue : 0
Green Saturation : 0
Blue Hue : 0
Blue Saturation : 0
Convert To Grayscale : False
Override Look Vignette : False
Tone Curve Name 2012 : Linear
Camera Profile : Embedded
Lens Profile Setup : LensDefaults
Has Settings : True
Crop Top : 0
Crop Left : 0.092615
Crop Bottom : 0.995314
Crop Right : 0.756078
Crop Angle : 0
Crop Constrain To Warp : 1
Has Crop : True
Already Applied : True
Lateral Chromatic Aberration Correction Already Applied:
True
Creator : Urs Haeny
Rights : Urs Haeny
Tone Curve PV2012 : 0, 0, 255, 255
Tone Curve PV2012 Red : 0, 0, 255, 255
Tone Curve PV2012 Green : 0, 0, 255, 255
Tone Curve PV2012 Blue : 0, 0, 255, 255
Image Width : 400
Image Height : 400
Bits Per Sample : 8
Color Components : 3
Aperture : 5.6
Image Size : 400x400
Megapixels : 0.160
Shutter Speed : 1/15
Create Date : 2023:04:13 11:32:51.05
Date/Time Original : 2023:04:13 11:32:51.05
Modify Date : 2023:04:13 14:04:19+02:00
Light Value : 9.5