Uber Exif Photo
Make : Canon
Camera Model Name : Canon EOS 6D
Software : Adobe Photoshop Lightroom 4.4 (Macintosh)
Modify Date : 2013:06:16 11:57:16
Artist : Sam Fowler
Copyright : Sam Fowler
Exposure Time : 1/100
F Number : 8.0
Exposure Program : Manual
ISO : 100
Sensitivity Type : Recommended Exposure Index
Recommended Exposure Index : 100
Date/Time Original : 2013:06:01 11:33:18
Create Date : 2013:06:01 11:33:18
Shutter Speed Value : 1/100
Aperture Value : 8.0
Exposure Compensation : 0
Max Aperture Value : 5.0
Metering Mode : Multi-segment
Flash : Off, Did not fire
Focal Length : 176.0 mm
Custom Rendered : Normal
Exposure Mode : Manual
White Balance : Auto
Scene Capture Type : Standard
Serial Number : 022022002792
Lens Info : 70-300mm f/?
Lens Model : EF70-300mm f/4-5.6L IS USM
Lens Serial Number : 8240002378
GPS Version ID : 2.3.0.0
GPS Latitude Ref : North
GPS Longitude Ref : West
GPS Altitude Ref : Above Sea Level
GPS Time Stamp : 16:32:09
GPS Satellites : 12
GPS Status : Measurement Active
GPS Measure Mode : 3-Dimensional Measurement
GPS Dilution Of Precision : 4.9
GPS Map Datum : WGS-84
GPS Date Stamp : 2013:06:01
Keywords : Canon, Canon 6D, Iceland, Island, Zeiss
By-line : Sam Fowler
Province-State : West
Country-Primary Location Name : Iceland
Copyright Notice : Sam Fowler
Copyright Flag : True
Profile Description : sRGB IEC61966-2.1
Creator Tool : Adobe Photoshop Lightroom 4.4 (Macintosh)
Lens : EF70-300mm f/4-5.6L IS USM
Image Number : 0
Approximate Focus Distance : 4294967295
Flash Compensation : 0
Firmware : 1.1.3
Date Created : 2013:06:01 11:33:18.87
State : West
Country : Iceland
Format : image/jpeg
Marked : True
Version : 7.4
Process Version : 6.7
Color Temperature : 5950
Tint : +1
Saturation : 0
Sharpness : 55
Luminance Smoothing : 0
Color Noise Reduction : 25
Vignette Amount : 0
Shadow Tint : 0
Red Hue : 0
Red Saturation : 0
Green Hue : 0
Green Saturation : 0
Blue Hue : 0
Blue Saturation : 0
Vibrance : +20
Hue Adjustment Red : 0
Hue Adjustment Orange : 0
Hue Adjustment Yellow : 0
Hue Adjustment Green : 0
Hue Adjustment Aqua : 0
Hue Adjustment Blue : 0
Hue Adjustment Purple : 0
Hue Adjustment Magenta : 0
Saturation Adjustment Red : 0
Saturation Adjustment Orange : 0
Saturation Adjustment Yellow : 0
Saturation Adjustment Green : 0
Saturation Adjustment Aqua : 0
Saturation Adjustment Blue : 0
Saturation Adjustment Purple : 0
Saturation Adjustment Magenta : 0
Luminance Adjustment Red : 0
Luminance Adjustment Orange : 0
Luminance Adjustment Yellow : 0
Luminance Adjustment Green : 0
Luminance Adjustment Aqua : 0
Luminance Adjustment Blue : 0
Luminance Adjustment Purple : 0
Luminance Adjustment Magenta : 0
Split Toning Shadow Hue : 0
Split Toning Shadow Saturation : 0
Split Toning Highlight Hue : 0
Split Toning Highlight Saturation : 0
Split Toning Balance : 0
Parametric Shadows : 0
Parametric Darks : 0
Parametric Lights : 0
Parametric Highlights : 0
Parametric Shadow Split : 25
Parametric Midtone Split : 50
Parametric Highlight Split : 75
Sharpen Radius : +2.0
Sharpen Detail : 25
Sharpen Edge Masking : 90
Post Crop Vignette Amount : 0
Grain Amount : 0
Color Noise Reduction Detail : 50
Lens Profile Enable : 1
Lens Manual Distortion Amount : 0
Perspective Vertical : 0
Perspective Horizontal : 0
Perspective Rotate : 0.0
Perspective Scale : 100
Auto Lateral CA : 0
Exposure 2012 : +0.55
Contrast 2012 : +13
Highlights 2012 : 0
Shadows 2012 : 0
Whites 2012 : +60
Blacks 2012 : -59
Clarity 2012 : +41
Defringe Purple Amount : 0
Defringe Purple Hue Lo : 30
Defringe Purple Hue Hi : 70
Defringe Green Amount : 0
Defringe Green Hue Lo : 40
Defringe Green Hue Hi : 60
Convert To Grayscale : False
Tone Curve Name 2012 : Linear
Camera Profile : Adobe Standard
Lens Profile Setup : LensDefaults
Lens Profile Name : Adobe (Canon EF 70-300mm f/4-5.6 L IS USM)
Lens Profile Filename : Canon EOS 5D Mark II (Canon EF 70-300mm f4-5.6 L IS USM) - RAW.lcp
Lens Profile Distortion Scale : 100
Lens Profile Chromatic Aberration Scale : 100
Lens Profile Vignetting Scale : 100
Has Settings : True
Crop Top : 0
Crop Left : 0.002132
Crop Bottom : 0.948909
Crop Right : 0.944112
Crop Angle : 0.194076
Crop Constrain To Warp : 0
Crop Width : 2121
Crop Height : 1414
Crop Unit : pixels
Has Crop : True
Already Applied : True
Creator : Sam Fowler
Rights : Sam Fowler
Subject : Canon, Canon 6D, Iceland, Island, Zeiss
Usage Terms : Can't be used or copied without prior consent
Creator City : Chicago
Creator Country : USA
Creator Work URL : http://chitownsam.com
Tone Curve PV2012 : 0, 0, 255, 255
Tone Curve PV2012 Red : 0, 0, 255, 255
Tone Curve PV2012 Green : 0, 0, 255, 255
Tone Curve PV2012 Blue : 0, 0, 255, 255
Gradient Based Corr What : Correction
Gradient Based Corr Amount : 1.000000
Gradient Based Corr Active : true
Gradient Based Corr Saturation : 0.000000
Gradient Based Corr Sharpness : 0.495881
Gradient Based Corr Brightness : 0.000000
Gradient Based Corr Toning Hue : 240.000000
Gradient Based Corr Toning Saturation : 0.000000
Gradient Based Corr Exposure 2012 : -0.295099
Gradient Based Corr Contrast 2012 : -0.352770
Gradient Based Corr Highlights 2012 : -0.637926
Gradient Based Corr Shadows 2012 : 0.041974
Gradient Based Corr Clarity 2012 : -0.151776
Gradient Based Corr Luminance Noise : -0.911235
Gradient Based Corr Moire : 0.000000
Gradient Based Corr Defringe : 0.000000
Gradient Based Corr Temperature : -0.281605
Gradient Based Corr Tint : 0.000000
Gradient Based Corr Mask What : Mask/Gradient
Gradient Based Corr Mask Value : 1.000000
Gradient Based Corr Mask Zero X : 0.528367
Gradient Based Corr Mask Zero Y : 0.817955
Gradient Based Corr Mask Full X : 0.526692
Gradient Based Corr Mask Full Y : 0.934762
Image Width : 400
Image Height : 267
Bits Per Sample : 8
Color Components : 3
Aperture : 8.0
Image Size : 400x267
Megapixels : 0.107
Scale Factor To 35 mm Equivalent : 13.7
Shutter Speed : 1/100
Create Date : 2013:06:01 11:33:18.87
Date/Time Original : 2013:06:01 11:33:18.87
GPS Altitude : 5.2 m Above Sea Level
GPS Date/Time : 2013:06:01 16:32:09Z
GPS Latitude : 64 deg 57' 57.65" N
GPS Longitude : 23 deg 7' 29.05" W
Circle Of Confusion : 0.002 mm
Depth Of Field : inf (1762.23 m - inf)
Field Of View : 0.9 deg
Focal Length : 176.0 mm (35 mm equivalent: 2406.8 mm)
GPS Position : 64 deg 57' 57.65" N, 23 deg 7' 29.05" W
Hyperfocal Distance : 1762.24 m
Light Value : 12.6
Lens ID : Canon EF 70-300mm f/4-5.6L IS USM