Uber Exif Photo
By-line : Derek Riehm
Sub-location : Tucson
Province-State : AZ
Country-Primary Location Name : USA
Copyright Notice : © Derek Riehm
Copyright Flag : False
Make : Leica Camera AG
Camera Model Name : LEICA M10
Software : Adobe Photoshop Lightroom 6.12 (Macintosh)
Modify Date : 2017:08:28 09:44:57
Artist : Derek Riehm
Copyright : © Derek Riehm
Exposure Time : 1/125
Exposure Program : Aperture-priority AE
ISO : 100
Date/Time Original : 2017:08:24 18:03:15
Create Date : 2017:08:24 18:03:15
Shutter Speed Value : 1/125
Exposure Compensation : 0
Max Aperture Value : 1.0
Metering Mode : Center-weighted average
Light Source : Unknown
Flash : No Flash
Color Space : sRGB
Scene Type : Directly photographed
Custom Rendered : Normal
Exposure Mode : Auto
White Balance : Auto
Digital Zoom Ratio : 0
Scene Capture Type : Standard
Contrast : Normal
Saturation : Normal
Sharpness : Normal
Serial Number : 5191250
Lens Make : Zeiss
Lens Model : Zeiss Planar T* 2/50 ZM
Profile Description : sRGB IEC61966-2.1
Creator Tool : Adobe Photoshop Lightroom 6.12 (Macintosh)
Format : image/jpeg
Approximate Focus Distance : 35.5
Lens : Zeiss Planar T* 2/50 ZM
Distortion Correction Already Applied : True
Lateral Chromatic Aberration Correction Already Applied:
True
Vignette Correction Already Applied : True
Date Created : 2017:08:24
City : Tucson
State : AZ
Country : USA
Location : Tucson
Marked : False
Property Release Status : Unlimited Property Releases
PLUS Version : 1.2.0
Version : 9.12
Process Version : 6.7
Auto White Version : 134348800
Color Temperature : 6400
Tint : +8
Luminance Smoothing : 5
Color Noise Reduction : 25
Vignette Amount : 0
Shadow Tint : 0
Red Hue : 0
Red Saturation : 0
Green Hue : 0
Green Saturation : 0
Blue Hue : 0
Blue Saturation : 0
Vibrance : 0
Hue Adjustment Red : 0
Hue Adjustment Orange : 0
Hue Adjustment Yellow : 0
Hue Adjustment Green : 0
Hue Adjustment Aqua : 0
Hue Adjustment Blue : 0
Hue Adjustment Purple : 0
Hue Adjustment Magenta : 0
Saturation Adjustment Red : 0
Saturation Adjustment Orange : 0
Saturation Adjustment Yellow : 0
Saturation Adjustment Green : 0
Saturation Adjustment Aqua : 0
Saturation Adjustment Blue : 0
Saturation Adjustment Purple : 0
Saturation Adjustment Magenta : 0
Luminance Adjustment Red : 0
Luminance Adjustment Orange : 0
Luminance Adjustment Yellow : 0
Luminance Adjustment Green : 0
Luminance Adjustment Aqua : 0
Luminance Adjustment Blue : 0
Luminance Adjustment Purple : 0
Luminance Adjustment Magenta : 0
Split Toning Shadow Hue : 0
Split Toning Shadow Saturation : 0
Split Toning Highlight Hue : 0
Split Toning Highlight Saturation : 0
Split Toning Balance : 0
Parametric Shadows : 0
Parametric Darks : 0
Parametric Lights : 0
Parametric Highlights : 0
Parametric Shadow Split : 25
Parametric Midtone Split : 50
Parametric Highlight Split : 75
Sharpen Radius : +1.0
Sharpen Detail : 25
Sharpen Edge Masking : 0
Post Crop Vignette Amount : 0
Grain Amount : 0
Luminance Noise Reduction Detail : 50
Color Noise Reduction Detail : 50
Luminance Noise Reduction Contrast : 0
Color Noise Reduction Smoothness : 50
Lens Profile Enable : 1
Lens Manual Distortion Amount : 0
Perspective Vertical : 0
Perspective Horizontal : 0
Perspective Rotate : 0.0
Perspective Scale : 100
Perspective Aspect : 0
Perspective Upright : Auto
Perspective X : 0.00
Perspective Y : 0.00
Auto Lateral CA : 1
Exposure 2012 : 0.00
Contrast 2012 : -2
Highlights 2012 : 0
Shadows 2012 : 0
Whites 2012 : +38
Blacks 2012 : -17
Clarity 2012 : 0
Defringe Purple Amount : 0
Defringe Purple Hue Lo : 30
Defringe Purple Hue Hi : 70
Defringe Green Amount : 0
Defringe Green Hue Lo : 40
Defringe Green Hue Hi : 60
Dehaze : 0
Tone Map Strength : 0
Convert To Grayscale : False
Tone Curve Name : Linear
Tone Curve Name 2012 : Linear
Camera Profile : Adobe Standard
Lens Profile Setup : Custom
Lens Profile Name : Adobe (Zeiss Planar T* 2/50 ZM)
Lens Profile Filename : Leica Camera AG (Zeiss Planar T 2_50 ZM) - RAW.lcp
Lens Profile Distortion Scale : 100
Lens Profile Chromatic Aberration Scale : 100
Lens Profile Vignetting Scale : 100
Has Settings : True
Crop Top : 0.066243
Crop Left : 0.049182
Crop Bottom : 0.868487
Crop Right : 0.99999
Crop Angle : 0
Crop Constrain To Warp : 0
Has Crop : True
Already Applied : True
Creator : Derek Riehm
Rights : © Derek Riehm
Creator Postal Code : M4N 1B5
Creator Country : Canada
Creator Work Email : derek.riehm@yahoo.com
Creator Region : ON
Creator City : Toronto
Creator Address : 566 Blythwood Road
Usage Terms : Use it as you please
Tone Curve : 0, 0, 255, 255
Tone Curve Red : 0, 0, 255, 255
Tone Curve Green : 0, 0, 255, 255
Tone Curve Blue : 0, 0, 255, 255
Tone Curve PV2012 : 0, 0, 255, 255
Tone Curve PV2012 Red : 0, 0, 255, 255
Tone Curve PV2012 Green : 0, 0, 255, 255
Tone Curve PV2012 Blue : 0, 0, 255, 255
Image Width : 300
Image Height : 169
Bits Per Sample : 8
Color Components : 3
Image Size : 300x169
Megapixels : 0.051
Scale Factor To 35 mm Equivalent : 20.8
Shutter Speed : 1/125
Circle Of Confusion : 0.001 mm