Uber Exif Photo
By-line : Wassim Beydoun
Copyright Notice : 2016
Photometric Interpretation : RGB
Make : Canon
Camera Model Name : Canon EOS 5DS R
Orientation : Horizontal (normal)
Samples Per Pixel : 3
Software : Adobe Photoshop CC 2017 (Macintosh)
Modify Date : 2017:07:29 19:41:53
Artist : Wassim Beydoun
Copyright : 2016
Exposure Time : 1/80
F Number : 1.4
Exposure Program : Manual
ISO : 800
Sensitivity Type : Recommended Exposure Index
Recommended Exposure Index : 800
Date/Time Original : 2017:07:28 16:51:59
Create Date : 2017:07:28 16:51:59
Shutter Speed Value : 1/80
Aperture Value : 1.4
Exposure Compensation : 0
Max Aperture Value : 1.4
Metering Mode : Multi-segment
Flash : Off, Did not fire
Focal Length : 85.0 mm
Color Space : Uncalibrated
Exif Image Width : 2317
Exif Image Height : 3475
Custom Rendered : Normal
Exposure Mode : Manual
White Balance : Auto
Scene Capture Type : Standard
Serial Number : 063021000166
Lens Info : 85mm f/?
Lens Model : Zeiss Milvus 1.4/85 ZE
Lens Serial Number : 0000000000
Profile Description : Adobe RGB (1998)
Rating : 5
Creator Tool : Adobe Photoshop CC 2017 (Macintosh)
Format : image/jpeg
Lens : Zeiss Milvus 1.4/85 ZE
Image Number : 0
Flash Compensation : 0
Firmware : 1.0.1
Date Created : 2017:07:28 16:51:59.025
Color Mode : RGB
ICC Profile Name : Adobe RGB (1998)
Raw File Name : 0G6A6705.CR2
Version : 9.12
Process Version : 6.7
Color Temperature : 4400
Tint : +3
Saturation : +19
Sharpness : 128
Luminance Smoothing : 86
Color Noise Reduction : 36
Vignette Amount : 0
Shadow Tint : 0
Red Hue : 0
Red Saturation : 0
Green Hue : 0
Green Saturation : 0
Blue Hue : 0
Blue Saturation : 0
Vibrance : -17
Hue Adjustment Red : -13
Hue Adjustment Orange : +3
Hue Adjustment Yellow : -10
Hue Adjustment Green : -32
Hue Adjustment Aqua : -7
Hue Adjustment Blue : +29
Hue Adjustment Purple : +17
Hue Adjustment Magenta : +32
Saturation Adjustment Red : 0
Saturation Adjustment Orange : 0
Saturation Adjustment Yellow : 0
Saturation Adjustment Green : 0
Saturation Adjustment Aqua : 0
Saturation Adjustment Blue : 0
Saturation Adjustment Purple : 0
Saturation Adjustment Magenta : 0
Luminance Adjustment Red : 0
Luminance Adjustment Orange : 0
Luminance Adjustment Yellow : 0
Luminance Adjustment Green : 0
Luminance Adjustment Aqua : 0
Luminance Adjustment Blue : 0
Luminance Adjustment Purple : 0
Luminance Adjustment Magenta : 0
Split Toning Shadow Hue : 0
Split Toning Shadow Saturation : 0
Split Toning Highlight Hue : 177
Split Toning Highlight Saturation : 11
Split Toning Balance : -18
Parametric Shadows : -27
Parametric Darks : +3
Parametric Lights : -1
Parametric Highlights : -8
Parametric Shadow Split : 25
Parametric Midtone Split : 50
Parametric Highlight Split : 75
Sharpen Radius : +1.8
Sharpen Detail : 3
Sharpen Edge Masking : 26
Post Crop Vignette Amount : 0
Grain Amount : 0
Luminance Noise Reduction Detail : 50
Color Noise Reduction Detail : 50
Luminance Noise Reduction Contrast : 34
Color Noise Reduction Smoothness : 79
Lens Profile Enable : 0
Lens Manual Distortion Amount : 0
Perspective Vertical : 0
Perspective Horizontal : 0
Perspective Rotate : 0.0
Perspective Scale : 100
Perspective Aspect : 0
Perspective Upright : Off
Perspective X : 0.00
Perspective Y : 0.00
Auto Lateral CA : 0
Exposure 2012 : -0.40
Contrast 2012 : +38
Highlights 2012 : -80
Shadows 2012 : +84
Whites 2012 : +39
Blacks 2012 : +3
Clarity 2012 : +7
Defringe Purple Amount : 0
Defringe Purple Hue Lo : 30
Defringe Purple Hue Hi : 70
Defringe Green Amount : 0
Defringe Green Hue Lo : 40
Defringe Green Hue Hi : 60
Dehaze : -3
Tone Map Strength : 0
Convert To Grayscale : False
Tone Curve Name : Medium Contrast
Tone Curve Name 2012 : Linear
Camera Profile : Adobe Standard v2
Lens Profile Setup : LensDefaults
Has Settings : True
Has Crop : False
Already Applied : True
Creator : Wassim Beydoun
Rights : 2016
Tone Curve : 0, 0, 32, 22, 64, 56, 128, 128, 192, 196, 255, 255
Tone Curve Red : 0, 0, 255, 255
Tone Curve Green : 0, 0, 255, 255
Tone Curve Blue : 0, 0, 255, 255
Tone Curve PV2012 : 0, 0, 255, 255
Tone Curve PV2012 Red : 0, 0, 255, 255
Tone Curve PV2012 Green : 0, 0, 255, 255
Tone Curve PV2012 Blue : 0, 0, 255, 255
Image Width : 300
Image Height : 450
Bits Per Sample : 8
Color Components : 3
Aperture : 1.4
Image Size : 300x450
Megapixels : 0.135
Scale Factor To 35 mm Equivalent : 2.5
Shutter Speed : 1/80
Create Date : 2017:07:28 16:51:59.25
Date/Time Original : 2017:07:28 16:51:59.25
Modify Date : 2017:07:29 19:41:53.25
Circle Of Confusion : 0.012 mm
Field Of View : 9.7 deg
Focal Length : 85.0 mm (35 mm equivalent: 212.5 mm)
Hyperfocal Distance : 429.40 m
Light Value : 4.3
Lens ID : Zeiss Milvus 85mm f/1.4 or Sigma 85mm f/1.5 FF High-Speed Prime | 017