Uber Exif Photo
Make : SONY
Camera Model Name : ILCE-7RM2
Software : Adobe Photoshop Lightroom 6.5 (Macintosh)
Modify Date : 2016:10:09 19:28:31
Exposure Time : 1/640
F Number : 9.0
Exposure Program : Aperture-priority AE
ISO : 100
Sensitivity Type : Recommended Exposure Index
Recommended Exposure Index : 100
Date/Time Original : 2016:09:07 12:41:30
Create Date : 2016:09:07 12:41:30
Shutter Speed Value : 1/640
Aperture Value : 9.0
Brightness Value : 10.5796875
Exposure Compensation : -1
Max Aperture Value : 2.0
Metering Mode : Multi-segment
Light Source : Unknown
Flash : Off, Did not fire
Focal Length : 25.0 mm
Color Space : sRGB
Scene Type : Directly photographed
Custom Rendered : Normal
Exposure Mode : Auto
White Balance : Auto
Digital Zoom Ratio : 1
Focal Length In 35mm Format : 25 mm
Scene Capture Type : Standard
Contrast : Normal
Saturation : Normal
Sharpness : Normal
Lens Info : 25mm f/2
Lens Model : E 25mm F2
Profile Description : sRGB IEC61966-2.1
Creator Tool : Adobe Photoshop Lightroom 6.5 (Macintosh)
Lens : E 25mm F2
Lens Distort Info : 33158/32768 -55411922/1073741824 47974073/1073741824 -11943870/1073741824
Date Created : 2016:09:07 12:41:30
Format : image/jpeg
Version : 9.5
Process Version : 6.7
Auto White Version : 134348800
Color Temperature : 4700
Tint : +6
Luminance Smoothing : 0
Color Noise Reduction : 25
Vignette Amount : 0
Shadow Tint : -2
Red Hue : +18
Red Saturation : +30
Green Hue : +45
Green Saturation : +10
Blue Hue : -5
Blue Saturation : +35
Vibrance : +13
Hue Adjustment Red : 0
Hue Adjustment Orange : +2
Hue Adjustment Yellow : +5
Hue Adjustment Green : +20
Hue Adjustment Aqua : +10
Hue Adjustment Blue : -5
Hue Adjustment Purple : +20
Hue Adjustment Magenta : +20
Saturation Adjustment Red : -30
Saturation Adjustment Orange : -8
Saturation Adjustment Yellow : -15
Saturation Adjustment Green : -45
Saturation Adjustment Aqua : -50
Saturation Adjustment Blue : -30
Saturation Adjustment Purple : -50
Saturation Adjustment Magenta : -40
Luminance Adjustment Red : -53
Luminance Adjustment Orange : -54
Luminance Adjustment Yellow : +10
Luminance Adjustment Green : -5
Luminance Adjustment Aqua : -47
Luminance Adjustment Blue : -46
Luminance Adjustment Purple : +15
Luminance Adjustment Magenta : +20
Split Toning Shadow Hue : 0
Split Toning Shadow Saturation : 0
Split Toning Highlight Hue : 0
Split Toning Highlight Saturation : 0
Split Toning Balance : 0
Parametric Shadows : 0
Parametric Darks : 0
Parametric Lights : 0
Parametric Highlights : 0
Parametric Shadow Split : 14
Parametric Midtone Split : 60
Parametric Highlight Split : 75
Sharpen Radius : +0.7
Sharpen Detail : 48
Sharpen Edge Masking : 19
Post Crop Vignette Amount : 0
Grain Amount : 0
Color Noise Reduction Detail : 50
Color Noise Reduction Smoothness : 50
Lens Profile Enable : 0
Lens Manual Distortion Amount : 0
Perspective Vertical : 0
Perspective Horizontal : 0
Perspective Rotate : 0.0
Perspective Scale : 100
Perspective Aspect : 0
Perspective Upright : Off
Auto Lateral CA : 0
Exposure 2012 : +0.80
Contrast 2012 : 0
Highlights 2012 : -60
Shadows 2012 : +77
Whites 2012 : -45
Blacks 2012 : +15
Clarity 2012 : +11
Defringe Purple Amount : 0
Defringe Purple Hue Lo : 30
Defringe Purple Hue Hi : 70
Defringe Green Amount : 0
Defringe Green Hue Lo : 40
Defringe Green Hue Hi : 60
Dehaze : 0
Tone Map Strength : 0
Convert To Grayscale : False
Tone Curve Name : Linear
Tone Curve Name 2012 : Gold 100 Vibrant
Camera Profile : Kodak Gold 100 - SO
Lens Profile Setup : LensDefaults
Has Settings : True
Crop Top : 0.07239
Crop Left : 0.066313
Crop Bottom : 0.835504
Crop Right : 0.82981
Crop Angle : 0
Crop Constrain To Warp : 0
Has Crop : True
Already Applied : True
Tone Curve : 0, 0, 255, 255
Tone Curve Red : 0, 0, 255, 255
Tone Curve Green : 0, 0, 255, 255
Tone Curve Blue : 0, 0, 255, 255
Tone Curve PV2012 : 0, 0, 28, 24, 77, 74, 186, 187, 255, 250
Tone Curve PV2012 Red : 0, 0, 30, 9, 70, 51, 119, 122, 180, 196, 255, 255
Tone Curve PV2012 Green : 0, 0, 28, 9, 120, 124, 181, 198, 255, 255
Tone Curve PV2012 Blue : 0, 0, 24, 11, 83, 70, 119, 122, 183, 200, 255, 255
Circ Grad Based Corr What : Correction
Circ Grad Based Corr Amount : 1.000000
Circ Grad Based Corr Active : true
Circ Grad Based Corr Saturation : 0.000000
Circ Grad Based Corr Sharpness : 0.000000
Circ Grad Based Corr Brightness : 0.000000
Circ Grad Based Corr Toning Hue : 233.000000
Circ Grad Based Corr Toning Saturation : 0.000000
Circ Grad Based Corr Exposure 2012 : 0.180957
Circ Grad Based Corr Contrast 2012 : 0.202637
Circ Grad Based Corr Highlights 2012 : 0.000000
Circ Grad Based Corr Shadows 2012 : 0.000000
Circ Grad Based Corr Whites 2012 : 0.000000
Circ Grad Based Corr Blacks 2012 : 0.000000
Circ Grad Based Corr Clarity 2012 : 0.000000
Circ Grad Based Corr Dehaze : 0.000000
Circ Grad Based Corr Luminance Noise : -0.146143
Circ Grad Based Corr Moire : 0.000000
Circ Grad Based Corr Defringe : 0.000000
Circ Grad Based Corr Temperature : 0.000000
Circ Grad Based Corr Tint : 0.000000
Circ Grad Based Corr Mask What : Mask/CircularGradient
Circ Grad Based Corr Mask Value : 1.000000
Circ Grad Based Corr Mask Top : 0.754634
Circ Grad Based Corr Mask Left : 0.188262
Circ Grad Based Corr Mask Bottom : 0.743660
Circ Grad Based Corr Mask Right : 0.226031
Circ Grad Based Corr Mask Angle : -42.144100
Circ Grad Based Corr Mask Midpoint : +50
Circ Grad Based Corr Mask Roundness : 0
Circ Grad Based Corr Mask Feather : +50
Circ Grad Based Corr Mask Flipped : true
Circ Grad Based Corr Mask Version : +2
Image Width : 300
Image Height : 200
Bits Per Sample : 8
Color Components : 3
Aperture : 9.0
Image Size : 300x200
Megapixels : 0.060
Scale Factor To 35 mm Equivalent : 1.0
Shutter Speed : 1/640
Circle Of Confusion : 0.030 mm
Field Of View : 71.5 deg
Focal Length : 25.0 mm (35 mm equivalent: 25.0 mm)
Hyperfocal Distance : 2.31 m
Light Value : 15.7
Lens ID : E 25mm F2