Uber Exif Photo
Keywords : 2015, Cuba, December, Pinar del Rio, agricolture, cigar, cigars, countryside, farm, landscape, rural, tobacco, tourism, tourist, valley, vinales
By-line : Valerio Berdini
Country-Primary Location Code : CUB
Country-Primary Location Name : Cuba
Copyright Notice : Valerio Berdini
Caption-Abstract : A tourist admires the valley of Vinales from a viewpoint up a hill, 6 kilometres outside the village. Since January 2015 it has been easier for Americans to travel to Cuba and the ones going are allowed to take back to US up to $100 worth of Cuban cigars.
Copyright Flag : True
Image Description : A tourist admires the valley of Vinales from a viewpoint up a hill, 6 kilometres outside the village. Since January 2015 it has been easier for Americans to travel to Cuba and the ones going are allowed to take back to US up to $100 worth of Cuban cigars.
Make : NIKON CORPORATION
Camera Model Name : NIKON D800
Software : Adobe Photoshop Lightroom 6.7 (Macintosh)
Modify Date : 2016:11:09 21:24:04
Artist : Valerio Berdini
Copyright : Valerio Berdini
Exposure Time : 1/160
F Number : 11.0
Exposure Program : Manual
ISO : 500
Sensitivity Type : Recommended Exposure Index
Date/Time Original : 2015:12:19 12:15:16
Create Date : 2015:12:19 12:15:16
Shutter Speed Value : 1/160
Aperture Value : 11.0
Exposure Compensation : -1/3
Max Aperture Value : 1.4
Metering Mode : Multi-segment
Light Source : Unknown
Flash : Off, Did not fire
Focal Length : 50.0 mm
Color Space : sRGB
Sensing Method : One-chip color area
Scene Type : Directly photographed
CFA Pattern : [Red,Green][Green,Blue]
Custom Rendered : Normal
Exposure Mode : Manual
White Balance : Auto
Digital Zoom Ratio : 1
Focal Length In 35mm Format : 50 mm
Scene Capture Type : Standard
Gain Control : Low gain up
Contrast : Normal
Saturation : Normal
Sharpness : Normal
Subject Distance Range : Unknown
Serial Number : 6038969
Lens Info : 50mm f/1.4
Lens Model : Zeiss Planar T* 1.4/50 ZF.2
GPS Version ID : 2.2.0.0
GPS Latitude Ref : North
GPS Longitude Ref : West
GPS Altitude : 153.4248 m
Profile Description : sRGB IEC61966-2.1
Format : image/jpeg
Creator Tool : Adobe Photoshop Lightroom 6.7 (Macintosh)
Label : Yellow
Rating : 4
Lens : Zeiss Planar T* 1.4/50 ZF.2
Image Number : 44220
Date Created : 2015:12:19 12:15:16.80
City : Vinales
Country : Cuba
Headline : Admiring the Vinales valley
Marked : True
Country Code : CUB
Version : 9.7
Process Version : 6.7
Auto White Version : 134348800
Color Temperature : 5950
Tint : +13
Luminance Smoothing : 18
Color Noise Reduction : 25
Vignette Amount : 0
Shadow Tint : 0
Red Hue : 0
Red Saturation : 0
Green Hue : 0
Green Saturation : 0
Blue Hue : 0
Blue Saturation : 0
Vibrance : 0
Hue Adjustment Red : 0
Hue Adjustment Orange : 0
Hue Adjustment Yellow : 0
Hue Adjustment Green : 0
Hue Adjustment Aqua : 0
Hue Adjustment Blue : 0
Hue Adjustment Purple : 0
Hue Adjustment Magenta : 0
Saturation Adjustment Red : 0
Saturation Adjustment Orange : 0
Saturation Adjustment Yellow : 0
Saturation Adjustment Green : 0
Saturation Adjustment Aqua : 0
Saturation Adjustment Blue : 0
Saturation Adjustment Purple : 0
Saturation Adjustment Magenta : 0
Luminance Adjustment Red : 0
Luminance Adjustment Orange : 0
Luminance Adjustment Yellow : -16
Luminance Adjustment Green : -21
Luminance Adjustment Aqua : 0
Luminance Adjustment Blue : 0
Luminance Adjustment Purple : 0
Luminance Adjustment Magenta : 0
Split Toning Shadow Hue : 0
Split Toning Shadow Saturation : 0
Split Toning Highlight Hue : 0
Split Toning Highlight Saturation : 0
Split Toning Balance : 0
Parametric Shadows : 0
Parametric Darks : 0
Parametric Lights : 0
Parametric Highlights : 0
Parametric Shadow Split : 25
Parametric Midtone Split : 50
Parametric Highlight Split : 75
Sharpen Radius : +1.0
Sharpen Detail : 25
Sharpen Edge Masking : 0
Post Crop Vignette Amount : 0
Grain Amount : 0
Luminance Noise Reduction Detail : 50
Color Noise Reduction Detail : 50
Luminance Noise Reduction Contrast : 0
Color Noise Reduction Smoothness : 50
Lens Profile Enable : 1
Lens Manual Distortion Amount : 0
Perspective Vertical : 0
Perspective Horizontal : 0
Perspective Rotate : +0.2
Perspective Scale : 100
Perspective Aspect : 0
Perspective Upright : Off
Perspective X : 0.00
Perspective Y : 0.00
Auto Lateral CA : 0
Exposure 2012 : +0.50
Contrast 2012 : -5
Highlights 2012 : -61
Shadows 2012 : +63
Whites 2012 : +29
Blacks 2012 : 0
Clarity 2012 : 0
Defringe Purple Amount : 0
Defringe Purple Hue Lo : 30
Defringe Purple Hue Hi : 70
Defringe Green Amount : 0
Defringe Green Hue Lo : 40
Defringe Green Hue Hi : 60
Dehaze : +30
Tone Map Strength : 0
Convert To Grayscale : False
Tone Curve Name : Linear
Tone Curve Name 2012 : Linear
Camera Profile : Adobe Standard
Lens Profile Setup : LensDefaults
Lens Profile Name : Adobe (Zeiss Planar T* 1,4/50 ZF.2)
Lens Profile Filename : NIKON CORPORATION (Zeiss Planar T 1.4-50 ZF.2).lcp
Lens Profile Distortion Scale : 100
Lens Profile Chromatic Aberration Scale : 100
Lens Profile Vignetting Scale : 100
Has Settings : True
Crop Top : 0.025722
Crop Left : 0.057769
Crop Bottom : 0.780441
Crop Right : 0.850503
Crop Angle : -1.25869
Crop Constrain To Warp : 0
Has Crop : True
Already Applied : True
Creator : Valerio Berdini
Rights : Valerio Berdini
Description : A tourist admires the valley of Vinales from a viewpoint up a hill, 6 kilometres outside the village. Since January 2015 it has been easier for Americans to travel to Cuba and the ones going are allowed to take back to US up to $100 worth of Cuban cigars.
Subject : 2015, Cuba, December, Pinar del Rio, agricolture, cigar, cigars, countryside, farm, landscape, rural, tobacco, tourism, tourist, valley, vinales
Creator Work Email : vbphotography@gmail.com
Creator Work URL : valerioberdini.com
Tone Curve : 0, 0, 255, 255
Tone Curve Red : 0, 0, 255, 255
Tone Curve Green : 0, 0, 255, 255
Tone Curve Blue : 0, 0, 255, 255
Tone Curve PV2012 : 0, 0, 255, 255
Tone Curve PV2012 Red : 0, 0, 255, 255
Tone Curve PV2012 Green : 0, 0, 255, 255
Tone Curve PV2012 Blue : 0, 0, 255, 255
Image Width : 300
Image Height : 200
Bits Per Sample : 8
Color Components : 3
Aperture : 11.0
Image Size : 300x200
Megapixels : 0.060
Scale Factor To 35 mm Equivalent : 1.0
Shutter Speed : 1/160
Create Date : 2015:12:19 12:15:16.80
Date/Time Original : 2015:12:19 12:15:16.80
GPS Latitude : 22 deg 37' 0.59" N
GPS Longitude : 83 deg 42' 29.42" W
Circle Of Confusion : 0.030 mm
Field Of View : 39.6 deg
Focal Length : 50.0 mm (35 mm equivalent: 50.0 mm)
GPS Position : 22 deg 37' 0.59" N, 83 deg 42' 29.42" W
Hyperfocal Distance : 7.56 m
Light Value : 11.9