Uber Exif Photo
Object Name : New Day
Keywords : Africa, Coast, De Hoop, De Hoop Nature Reserve, Indian Ocean, National Park, South Africa, West Coast, Whale Coast, Zuid Afrika, cloud forest, clouds, fabric, ocean, orange, outdoor, red, rocks, sea, sunrise, water
By-line : Jeroen Florijn
Province-State : Western Cape
Country-Primary Location Code : ZA
Country-Primary Location Name : Zuid-Afrika
Copyright Notice : www.jeroenflorijn.com
Caption-Abstract : Sunrise over the Indian Ocean, Western Cape, South Africa.
Image Description : Sunrise over the Indian Ocean, Western Cape, South Africa.
Make : Canon
Camera Model Name : Canon EOS 5D Mark III
Software : Adobe Photoshop Lightroom 6.7 (Macintosh)
Modify Date : 2016:10:07 20:08:18
Artist : Jeroen Florijn
Copyright : www.jeroenflorijn.com
Exposure Time : 1/25
F Number : 8.0
Exposure Program : Aperture-priority AE
ISO : 100
Date/Time Original : 2016:08:31 07:09:57
Create Date : 2016:08:31 07:09:57
Shutter Speed Value : 1/25
Aperture Value : 8.0
Exposure Compensation : -1
Max Aperture Value : 2.8
Metering Mode : Multi-segment
Flash : No Flash
Focal Length : 21.0 mm
Color Space : sRGB
Exposure Mode : Auto bracket
White Balance : Auto
Scene Capture Type : Standard
Serial Number : 043023010559
Lens Info : 21mm f/?
Lens Model : Zeiss Distagon T* 2.8/21 ZE
Lens Serial Number : 0000000000
GPS Version ID : 2.3.0.0
GPS Latitude Ref : South
GPS Longitude Ref : East
GPS Altitude Ref : Above Sea Level
GPS Time Stamp : 05:09:43
GPS Satellites : 10
GPS Status : Measurement Active
GPS Measure Mode : 3-Dimensional Measurement
GPS Dilution Of Precision : 1.9
GPS Speed : 0
GPS Track : 0
GPS Img Direction Ref : Magnetic North
GPS Img Direction : 100
GPS Map Datum : WGS-84
GPS Dest Bearing : 0
GPS Dest Distance : 0
GPS Date Stamp : 2016:08:31
GPS Differential : No Correction
Profile Description : sRGB IEC61966-2.1
Firmware : 1.3.3
Flash Compensation : 0
Image Number : 0
Lens : Zeiss Distagon T* 2.8/21 ZE
Format : image/jpeg
Creator Tool : Adobe Photoshop Lightroom 6.7 (Macintosh)
Rating : 4
Date Created : 2016:08:31 07:09:57.30
City : Overberg DC
State : Western Cape
Country : Zuid-Afrika
Photographic Sensitivity : 100
Country Code : ZA
Version : 9.7
Process Version : 6.7
Auto White Version : 134348800
Incremental Temperature : 0
Incremental Tint : 0
Saturation : 0
Sharpness : 0
Luminance Smoothing : 0
Color Noise Reduction : 0
Vignette Amount : 0
Shadow Tint : 0
Red Hue : 0
Red Saturation : 0
Green Hue : 0
Green Saturation : 0
Blue Hue : 0
Blue Saturation : 0
Vibrance : 0
Hue Adjustment Red : 0
Hue Adjustment Orange : 0
Hue Adjustment Yellow : 0
Hue Adjustment Green : 0
Hue Adjustment Aqua : 0
Hue Adjustment Blue : 0
Hue Adjustment Purple : 0
Hue Adjustment Magenta : 0
Saturation Adjustment Red : 0
Saturation Adjustment Orange : 0
Saturation Adjustment Yellow : 0
Saturation Adjustment Green : 0
Saturation Adjustment Aqua : 0
Saturation Adjustment Blue : 0
Saturation Adjustment Purple : 0
Saturation Adjustment Magenta : 0
Luminance Adjustment Red : 0
Luminance Adjustment Orange : 0
Luminance Adjustment Yellow : 0
Luminance Adjustment Green : 0
Luminance Adjustment Aqua : 0
Luminance Adjustment Blue : 0
Luminance Adjustment Purple : 0
Luminance Adjustment Magenta : 0
Split Toning Shadow Hue : 0
Split Toning Shadow Saturation : 0
Split Toning Highlight Hue : 0
Split Toning Highlight Saturation : 0
Split Toning Balance : 0
Parametric Shadows : 0
Parametric Darks : 0
Parametric Lights : 0
Parametric Highlights : 0
Parametric Shadow Split : 25
Parametric Midtone Split : 50
Parametric Highlight Split : 75
Sharpen Radius : +1.0
Sharpen Detail : 25
Sharpen Edge Masking : 0
Post Crop Vignette Amount : 0
Grain Amount : 0
Lens Profile Enable : 0
Lens Manual Distortion Amount : 0
Perspective Vertical : 0
Perspective Horizontal : 0
Perspective Rotate : 0.0
Perspective Scale : 100
Perspective Aspect : 0
Perspective Upright : Off
Perspective X : 0.00
Perspective Y : 0.00
Auto Lateral CA : 0
Exposure 2012 : 0.00
Contrast 2012 : 0
Highlights 2012 : 0
Shadows 2012 : 0
Whites 2012 : 0
Blacks 2012 : 0
Clarity 2012 : 0
Defringe Purple Amount : 0
Defringe Purple Hue Lo : 30
Defringe Purple Hue Hi : 70
Defringe Green Amount : 0
Defringe Green Hue Lo : 40
Defringe Green Hue Hi : 60
Dehaze : 0
Tone Map Strength : 0
Convert To Grayscale : False
Tone Curve Name : Linear
Tone Curve Name 2012 : Linear
Camera Profile : Embedded
Lens Profile Setup : LensDefaults
Has Settings : True
Crop Top : 0
Crop Left : 0.003118
Crop Bottom : 0.99873
Crop Right : 0.996893
Crop Angle : 0.131634
Crop Constrain To Warp : 0
Has Crop : True
Already Applied : True
Creator : Jeroen Florijn
Title : New Day
Rights : www.jeroenflorijn.com
Description : Sunrise over the Indian Ocean, Western Cape, South Africa.
Subject : Africa, Coast, De Hoop, De Hoop Nature Reserve, Indian Ocean, National Park, South Africa, West Coast, Whale Coast, Zuid Afrika, cloud forest, clouds, fabric, ocean, orange, outdoor, red, rocks, sea, sunrise, water
Creator Country : Nederland
Creator Work Email : jeroen.anita@ziggo.nl
Creator Work URL : jeroenflorijn.nl
Tone Curve : 0, 0, 255, 255
Tone Curve Red : 0, 0, 255, 255
Tone Curve Green : 0, 0, 255, 255
Tone Curve Blue : 0, 0, 255, 255
Tone Curve PV2012 : 0, 0, 255, 255
Tone Curve PV2012 Red : 0, 0, 255, 255
Tone Curve PV2012 Green : 0, 0, 255, 255
Tone Curve PV2012 Blue : 0, 0, 255, 255
Paint Correction What : Correction
Paint Correction Amount : 1.000000
Paint Correction Active : true
Paint Correction Saturation : 0.000000
Paint Correction Sharpness : 0.000000
Paint Correction Brightness : 0.000000
Paint Correction Toning Hue : 240.000000
Paint Correction Toning Saturation : 0.000000
Paint Correction Exposure 2012 : -0.012500
Paint Correction Contrast 2012 : 0.000000
Paint Correction Highlights 2012 : 0.000000
Paint Correction Shadows 2012 : 0.000000
Paint Correction Whites 2012 : 0.000000
Paint Correction Blacks 2012 : 0.000000
Paint Correction Clarity 2012 : 0.000000
Paint Correction Dehaze : 0.000000
Paint Correction Luminance Noise : 0.000000
Paint Correction Moire : 0.000000
Paint Correction Defringe : 0.000000
Paint Correction Temperature : 0.000000
Paint Correction Tint : 0.000000
Paint Correction Mask What : Mask/Paint
Paint Correction Mask Value : 1.000000
Paint Correction Mask Radius : 0.034519
Paint Correction Mask Flow : 1.000000
Paint Correction Mask Center Weight : 0.000000
Gradient Based Corr What : Correction
Gradient Based Corr Amount : 1.000000
Gradient Based Corr Active : true
Gradient Based Corr Saturation : 0.000000
Gradient Based Corr Sharpness : 0.000000
Gradient Based Corr Brightness : 0.000000
Gradient Based Corr Toning Hue : 240.000000
Gradient Based Corr Toning Saturation : 0.000000
Gradient Based Corr Exposure 2012 : 0.057500
Gradient Based Corr Contrast 2012 : 0.000000
Gradient Based Corr Highlights 2012 : 0.000000
Gradient Based Corr Shadows 2012 : 0.000000
Gradient Based Corr Whites 2012 : 0.000000
Gradient Based Corr Blacks 2012 : 0.000000
Gradient Based Corr Clarity 2012 : 0.000000
Gradient Based Corr Dehaze : 0.000000
Gradient Based Corr Luminance Noise : 0.000000
Gradient Based Corr Moire : 0.000000
Gradient Based Corr Defringe : 0.000000
Gradient Based Corr Temperature : 0.000000
Gradient Based Corr Tint : 0.000000
Gradient Based Corr Mask What : Mask/Gradient
Gradient Based Corr Mask Value : 1.000000
Gradient Based Corr Mask Zero X : 0.493795
Gradient Based Corr Mask Zero Y : 0.373426
Gradient Based Corr Mask Full X : 0.493795
Gradient Based Corr Mask Full Y : 0.471029
Image Width : 300
Image Height : 200
Bits Per Sample : 8
Color Components : 3
Aperture : 8.0
Image Size : 300x200
Megapixels : 0.060
Scale Factor To 35 mm Equivalent : 19.2
Shutter Speed : 1/25
Create Date : 2016:08:31 07:09:57.30
Date/Time Original : 2016:08:31 07:09:57.3
GPS Altitude : 6.9 m Above Sea Level
GPS Date/Time : 2016:08:31 05:09:43Z
GPS Latitude : 34 deg 28' 29.30" S
GPS Longitude : 20 deg 31' 24.26" E
Circle Of Confusion : 0.002 mm
Field Of View : 5.1 deg
Focal Length : 21.0 mm (35 mm equivalent: 403.2 mm)
GPS Position : 34 deg 28' 29.30" S, 20 deg 31' 24.26" E
Hyperfocal Distance : 35.23 m
Light Value : 10.6
Lens ID : Carl Zeiss Distagon T* 21mm f/2.8 ZE