Uber Exif Photo
Keywords : Croatia, Europe, Rovinj, Европа, Ровинь, Хорватия
By-line : Photographer Alexey Pavin
Copyright Notice : Alexey Pavin
Caption-Abstract : Alexey Pavin
Copyright Flag : True
Image Description : Alexey Pavin
Make : Canon
Camera Model Name : Canon EOS 5D Mark III
Software : Adobe Photoshop Lightroom 6.2.1 (Macintosh)
Modify Date : 2015:12:16 22:27:55
Artist : Photographer Alexey Pavin
Copyright : Alexey Pavin
Exposure Time : 1/250
F Number : 2.8
Exposure Program : Aperture-priority AE
ISO : 12800
Sensitivity Type : Recommended Exposure Index
Recommended Exposure Index : 12800
Date/Time Original : 2014:09:29 19:31:16
Create Date : 2014:09:29 19:31:16
Shutter Speed Value : 1/250
Aperture Value : 2.8
Exposure Compensation : 0
Max Aperture Value : 2.0
Metering Mode : Multi-segment
Flash : Off, Did not fire
Focal Length : 135.0 mm
Custom Rendered : Normal
Exposure Mode : Auto
White Balance : Auto
Scene Capture Type : Standard
Owner Name : Alexey Pavin
Serial Number : 193029005753
Lens Info : 135mm f/?
Lens Model : Zeiss Apo Sonnar T* 2/135 ZE
Lens Serial Number : 0000000000
Profile Description : sRGB IEC61966-2.1
Creator Tool : Adobe Photoshop Lightroom 6.2.1 (Macintosh)
Format : image/jpeg
Lens : Zeiss Apo Sonnar T* 2/135 ZE
Image Number : 0
Flash Compensation : 0
Firmware : 1.2.3
Date Created : 2014:09:29 19:31:16.00
Marked : True
Version : 9.2
Process Version : 6.7
Auto White Version : 134348800
Color Temperature : 4800
Tint : +16
Saturation : 0
Sharpness : 25
Luminance Smoothing : 0
Color Noise Reduction : 25
Vignette Amount : 0
Shadow Tint : 0
Red Hue : 0
Red Saturation : 0
Green Hue : 0
Green Saturation : 0
Blue Hue : 0
Blue Saturation : 0
Vibrance : +19
Hue Adjustment Red : 0
Hue Adjustment Orange : 0
Hue Adjustment Yellow : 0
Hue Adjustment Green : 0
Hue Adjustment Aqua : 0
Hue Adjustment Blue : 0
Hue Adjustment Purple : 0
Hue Adjustment Magenta : 0
Saturation Adjustment Red : 0
Saturation Adjustment Orange : 0
Saturation Adjustment Yellow : 0
Saturation Adjustment Green : 0
Saturation Adjustment Aqua : 0
Saturation Adjustment Blue : 0
Saturation Adjustment Purple : 0
Saturation Adjustment Magenta : 0
Luminance Adjustment Red : 0
Luminance Adjustment Orange : 0
Luminance Adjustment Yellow : 0
Luminance Adjustment Green : 0
Luminance Adjustment Aqua : 0
Luminance Adjustment Blue : 0
Luminance Adjustment Purple : 0
Luminance Adjustment Magenta : 0
Split Toning Shadow Hue : 0
Split Toning Shadow Saturation : 0
Split Toning Highlight Hue : 0
Split Toning Highlight Saturation : 0
Split Toning Balance : 0
Parametric Shadows : 0
Parametric Darks : 0
Parametric Lights : 0
Parametric Highlights : 0
Parametric Shadow Split : 25
Parametric Midtone Split : 50
Parametric Highlight Split : 75
Sharpen Radius : +1.0
Sharpen Detail : 25
Sharpen Edge Masking : 0
Post Crop Vignette Amount : 0
Grain Amount : 0
Color Noise Reduction Detail : 50
Color Noise Reduction Smoothness : 50
Lens Profile Enable : 0
Lens Manual Distortion Amount : 0
Perspective Vertical : 0
Perspective Horizontal : 0
Perspective Rotate : 0.0
Perspective Scale : 100
Perspective Aspect : 0
Perspective Upright : Off
Auto Lateral CA : 0
Exposure 2012 : -0.25
Contrast 2012 : 0
Highlights 2012 : -29
Shadows 2012 : +48
Whites 2012 : +24
Blacks 2012 : 0
Clarity 2012 : +41
Defringe Purple Amount : 0
Defringe Purple Hue Lo : 30
Defringe Purple Hue Hi : 70
Defringe Green Amount : 0
Defringe Green Hue Lo : 40
Defringe Green Hue Hi : 60
Dehaze : 0
Tone Map Strength : 0
Convert To Grayscale : False
Tone Curve Name : Linear
Tone Curve Name 2012 : Medium Contrast
Camera Profile : Canon EOS 5D Mark III
Lens Profile Setup : LensDefaults
Has Settings : True
Has Crop : False
Already Applied : True
Creator : Photographer Alexey Pavin
Rights : Alexey Pavin
Description : Alexey Pavin
Subject : Croatia, Europe, Rovinj, Европа, Ровинь, Хорватия
Hierarchical Subject : Croatia, Europe, Rovinj, Европа, Ровинь, Хорватия
Tone Curve : 0, 0, 255, 255
Tone Curve Red : 0, 0, 255, 255
Tone Curve Green : 0, 0, 255, 255
Tone Curve Blue : 0, 0, 255, 255
Tone Curve PV2012 : 0, 0, 32, 22, 64, 56, 128, 128, 192, 196, 255, 255
Tone Curve PV2012 Red : 0, 0, 255, 255
Tone Curve PV2012 Green : 0, 0, 255, 255
Tone Curve PV2012 Blue : 0, 0, 255, 255
Gradient Based Corr What : Correction
Gradient Based Corr Amount : 1.000000
Gradient Based Corr Active : true
Gradient Based Corr Saturation : 0.000000
Gradient Based Corr Sharpness : 0.000000
Gradient Based Corr Brightness : 0.000000
Gradient Based Corr Toning Hue : 0.000000
Gradient Based Corr Toning Saturation : 0.000000
Gradient Based Corr Exposure 2012 : -0.171875
Gradient Based Corr Contrast 2012 : 0.000000
Gradient Based Corr Highlights 2012 : 0.000000
Gradient Based Corr Shadows 2012 : 0.000000
Gradient Based Corr Whites 2012 : 0.000000
Gradient Based Corr Blacks 2012 : 0.000000
Gradient Based Corr Clarity 2012 : 0.000000
Gradient Based Corr Dehaze : 0.000000
Gradient Based Corr Luminance Noise : 0.000000
Gradient Based Corr Moire : 0.000000
Gradient Based Corr Defringe : 0.000000
Gradient Based Corr Temperature : 0.000000
Gradient Based Corr Tint : 0.000000
Gradient Based Corr Mask What : Mask/Gradient
Gradient Based Corr Mask Value : 1.000000
Gradient Based Corr Mask Zero X : 0.184134
Gradient Based Corr Mask Zero Y : 0.618636
Gradient Based Corr Mask Full X : 0.098795
Gradient Based Corr Mask Full Y : 0.090116
Image Width : 300
Image Height : 200
Bits Per Sample : 8
Color Components : 3
Aperture : 2.8
Image Size : 300x200
Megapixels : 0.060
Scale Factor To 35 mm Equivalent : 19.2
Shutter Speed : 1/250
Create Date : 2014:09:29 19:31:16.00
Date/Time Original : 2014:09:29 19:31:16.00
Circle Of Confusion : 0.002 mm
Field Of View : 0.8 deg
Focal Length : 135.0 mm (35 mm equivalent: 2592.0 mm)
Hyperfocal Distance : 4159.30 m
Light Value : 3.9
Lens ID : Carl Zeiss Apo-Sonnar T* 135mm f/2 ZE