Uber Exif Photo
By-line : Grzegorz Rabalski
Copyright Notice : Grzegorz Rabalski
Copyright Flag : True
URL : rabalski@golden.net
Make : Canon
Camera Model Name : Canon EOS 5D Mark II
Software : Adobe Photoshop Lightroom 5.7 (Macintosh)
Modify Date : 2015:10:25 18:37:09
Artist : Grzegorz Rabalski
Copyright : Grzegorz Rabalski
Exposure Time : 1/160
F Number : 2.0
Exposure Program : Aperture-priority AE
ISO : 200
Date/Time Original : 2015:10:22 18:20:45
Create Date : 2015:10:22 18:20:45
Shutter Speed Value : 1/160
Aperture Value : 2.0
Exposure Compensation : -1/3
Max Aperture Value : 2.0
Metering Mode : Center-weighted average
Flash : Off, Did not fire
Focal Length : 135.0 mm
Color Space : sRGB
Custom Rendered : Normal
Exposure Mode : Auto
White Balance : Auto
Scene Capture Type : Standard
Serial Number : 1921200552
Lens Info : 135mm f/?
Lens Model : Zeiss Apo Sonnar T* 2/135 ZE
Profile Description : sRGB IEC61966-2.1
Lens : Zeiss Apo Sonnar T* 2/135 ZE
Image Number : 0
Flash Compensation : 0
Firmware : 2.1.2
Creator Tool : Adobe Photoshop Lightroom 5.7 (Macintosh)
Date Created : 2014:04:06 13:07:39.76
Format : image/jpeg
Marked : True
Web Statement : rabalski@golden.net
Version : 8.7
Process Version : 6.7
Auto White Version : 134348800
Color Temperature : 9810
Tint : +24
Saturation : -11
Sharpness : 40
Luminance Smoothing : 50
Color Noise Reduction : 51
Vignette Amount : 0
Shadow Tint : -34
Red Hue : -49
Red Saturation : 0
Green Hue : 0
Green Saturation : 0
Blue Hue : 0
Blue Saturation : 0
Vibrance : -36
Hue Adjustment Red : 0
Hue Adjustment Orange : +28
Hue Adjustment Yellow : +39
Hue Adjustment Green : +34
Hue Adjustment Aqua : 0
Hue Adjustment Blue : 0
Hue Adjustment Purple : 0
Hue Adjustment Magenta : 0
Saturation Adjustment Red : 0
Saturation Adjustment Orange : +55
Saturation Adjustment Yellow : +64
Saturation Adjustment Green : 0
Saturation Adjustment Aqua : 0
Saturation Adjustment Blue : 0
Saturation Adjustment Purple : 0
Saturation Adjustment Magenta : 0
Luminance Adjustment Red : 0
Luminance Adjustment Orange : -22
Luminance Adjustment Yellow : 0
Luminance Adjustment Green : 0
Luminance Adjustment Aqua : 0
Luminance Adjustment Blue : 0
Luminance Adjustment Purple : 0
Luminance Adjustment Magenta : 0
Split Toning Shadow Hue : 0
Split Toning Shadow Saturation : 0
Split Toning Highlight Hue : 0
Split Toning Highlight Saturation : 0
Split Toning Balance : 0
Parametric Shadows : -34
Parametric Darks : -14
Parametric Lights : -6
Parametric Highlights : +5
Parametric Shadow Split : 25
Parametric Midtone Split : 50
Parametric Highlight Split : 75
Sharpen Radius : +0.5
Sharpen Detail : 56
Sharpen Edge Masking : 73
Post Crop Vignette Amount : -57
Post Crop Vignette Midpoint : 48
Post Crop Vignette Feather : 73
Post Crop Vignette Roundness : +66
Post Crop Vignette Style : Highlight Priority
Post Crop Vignette Highlight Contrast : 0
Grain Amount : 0
Luminance Noise Reduction Detail : 50
Color Noise Reduction Detail : 50
Luminance Noise Reduction Contrast : 34
Color Noise Reduction Smoothness : 50
Lens Profile Enable : 0
Lens Manual Distortion Amount : 0
Perspective Vertical : 0
Perspective Horizontal : 0
Perspective Rotate : 0.0
Perspective Scale : 100
Perspective Aspect : 0
Perspective Upright : Off
Auto Lateral CA : 1
Exposure 2012 : +0.60
Contrast 2012 : +11
Highlights 2012 : -29
Shadows 2012 : +64
Whites 2012 : -20
Blacks 2012 : +28
Clarity 2012 : -69
Defringe Purple Amount : 0
Defringe Purple Hue Lo : 30
Defringe Purple Hue Hi : 70
Defringe Green Amount : 0
Defringe Green Hue Lo : 40
Defringe Green Hue Hi : 60
Convert To Grayscale : False
Tone Curve Name : Linear
Tone Curve Name 2012 : Linear
Camera Profile : Adobe Standard
Lens Profile Setup : LensDefaults
Has Settings : True
Crop Top : 0.011702
Crop Left : 0.002985
Crop Bottom : 0.899247
Crop Right : 0.965416
Crop Angle : -0.466778
Crop Constrain To Warp : 0
Has Crop : True
Already Applied : True
Creator : Grzegorz Rabalski
Rights : Grzegorz Rabalski
Usage Terms : contact via email
Creator Country : Canada
Creator Work Email : rabalski@golden.net
Tone Curve : 0, 0, 255, 255
Tone Curve Red : 0, 0, 255, 255
Tone Curve Green : 0, 0, 255, 255
Tone Curve Blue : 0, 0, 255, 255
Tone Curve PV2012 : 0, 0, 255, 255
Tone Curve PV2012 Red : 0, 0, 255, 255
Tone Curve PV2012 Green : 0, 0, 255, 255
Tone Curve PV2012 Blue : 0, 0, 255, 255
Image Width : 300
Image Height : 188
Bits Per Sample : 8
Color Components : 3
Aperture : 2.0
Image Size : 300x188
Megapixels : 0.056
Scale Factor To 35 mm Equivalent : 1.0
Shutter Speed : 1/160
Create Date : 2015:10:22 18:20:45.68
Date/Time Original : 2015:10:22 18:20:45.68
Circle Of Confusion : 0.031 mm
Field Of View : 15.6 deg
Focal Length : 135.0 mm (35 mm equivalent: 131.8 mm)
Hyperfocal Distance : 295.98 m
Light Value : 8.3
Lens ID : Carl Zeiss Apo-Sonnar T* 135mm f/2 ZE