Uber Exif Photo
By-line : Grzegorz Rabalski
Copyright Notice : Grzegorz Rabalski
Copyright Flag : True
URL : rabalski@golden.net
Make : Canon
Camera Model Name : Canon EOS 5D
Software : Adobe Photoshop Lightroom 5.7 (Macintosh)
Modify Date : 2015:04:18 22:03:50
Artist : Grzegorz Rabalski
Copyright : Grzegorz Rabalski
Exposure Time : 1/125
F Number : 4.0
Exposure Program : Aperture-priority AE
ISO : 500
Date/Time Original : 2014:02:08 20:46:01
Create Date : 2014:02:08 20:46:01
Shutter Speed Value : 1/125
Aperture Value : 4.0
Exposure Compensation : 0
Max Aperture Value : 1.4
Metering Mode : Partial
Flash : Off, Did not fire
Focal Length : 85.0 mm
Color Space : sRGB
Custom Rendered : Normal
Exposure Mode : Auto
White Balance : Manual
Scene Capture Type : Standard
Serial Number : 3021202358
Lens Info : 85mm f/?
Lens Model : 85.0 mm
Profile Description : sRGB IEC61966-2.1
Lens : 85.0 mm
Image Number : 32
Flash Compensation : 0
Firmware : 1.1.1
Creator Tool : Adobe Photoshop Lightroom 5.7 (Macintosh)
Date Created : 2014:04:06 13:07:39.76
Format : image/jpeg
Web Statement : rabalski@golden.net
Marked : True
Version : 8.7
Process Version : 6.7
Auto White Version : 134348800
Color Temperature : 3200
Tint : +7
Saturation : 0
Sharpness : 89
Luminance Smoothing : 71
Color Noise Reduction : 25
Vignette Amount : 0
Shadow Tint : 0
Red Hue : 0
Red Saturation : 0
Green Hue : 0
Green Saturation : 0
Blue Hue : 0
Blue Saturation : 0
Vibrance : +13
Hue Adjustment Red : 0
Hue Adjustment Orange : 0
Hue Adjustment Yellow : 0
Hue Adjustment Green : 0
Hue Adjustment Aqua : 0
Hue Adjustment Blue : 0
Hue Adjustment Purple : 0
Hue Adjustment Magenta : 0
Saturation Adjustment Red : -2
Saturation Adjustment Orange : 0
Saturation Adjustment Yellow : 0
Saturation Adjustment Green : 0
Saturation Adjustment Aqua : 0
Saturation Adjustment Blue : 0
Saturation Adjustment Purple : 0
Saturation Adjustment Magenta : 0
Luminance Adjustment Red : -8
Luminance Adjustment Orange : +4
Luminance Adjustment Yellow : 0
Luminance Adjustment Green : 0
Luminance Adjustment Aqua : 0
Luminance Adjustment Blue : 0
Luminance Adjustment Purple : 0
Luminance Adjustment Magenta : 0
Split Toning Shadow Hue : 0
Split Toning Shadow Saturation : 0
Split Toning Highlight Hue : 0
Split Toning Highlight Saturation : 0
Split Toning Balance : 0
Parametric Shadows : -8
Parametric Darks : -7
Parametric Lights : +8
Parametric Highlights : +1
Parametric Shadow Split : 25
Parametric Midtone Split : 50
Parametric Highlight Split : 75
Sharpen Radius : +0.5
Sharpen Detail : 26
Sharpen Edge Masking : 71
Post Crop Vignette Amount : 0
Grain Amount : 0
Luminance Noise Reduction Detail : 30
Color Noise Reduction Detail : 50
Luminance Noise Reduction Contrast : 0
Color Noise Reduction Smoothness : 50
Lens Profile Enable : 0
Lens Manual Distortion Amount : 0
Perspective Vertical : 0
Perspective Horizontal : 0
Perspective Rotate : 0.0
Perspective Scale : 100
Perspective Aspect : 0
Perspective Upright : Off
Auto Lateral CA : 1
Exposure 2012 : 0.00
Contrast 2012 : 0
Highlights 2012 : -78
Shadows 2012 : +74
Whites 2012 : +35
Blacks 2012 : -18
Clarity 2012 : +27
Defringe Purple Amount : 0
Defringe Purple Hue Lo : 30
Defringe Purple Hue Hi : 70
Defringe Green Amount : 0
Defringe Green Hue Lo : 40
Defringe Green Hue Hi : 60
Convert To Grayscale : False
Tone Curve Name : Linear
Tone Curve Name 2012 : Linear
Camera Profile : Adobe Standard
Lens Profile Setup : LensDefaults
Has Settings : True
Crop Top : 0.187486
Crop Left : 0.35688
Crop Bottom : 0.821475
Crop Right : 0.999897
Crop Angle : -0.33969
Crop Constrain To Warp : 0
Has Crop : True
Already Applied : True
Creator : Grzegorz Rabalski
Rights : Grzegorz Rabalski
Usage Terms : contact via email
Creator Country : Canada
Creator Work Email : rabalski@golden.net
Tone Curve : 0, 0, 255, 255
Tone Curve Red : 0, 0, 255, 255
Tone Curve Green : 0, 0, 255, 255
Tone Curve Blue : 0, 0, 255, 255
Tone Curve PV2012 : 0, 0, 255, 255
Tone Curve PV2012 Red : 0, 0, 255, 255
Tone Curve PV2012 Green : 0, 0, 255, 255
Tone Curve PV2012 Blue : 0, 0, 255, 255
Image Width : 200
Image Height : 300
Bits Per Sample : 8
Color Components : 3
Aperture : 4.0
Image Size : 200x300
Megapixels : 0.060
Scale Factor To 35 mm Equivalent : 1.0
Shutter Speed : 1/125
Circle Of Confusion : 0.030 mm
Field Of View : 23.9 deg
Focal Length : 85.0 mm (35 mm equivalent: 85.2 mm)
Hyperfocal Distance : 60.24 m
Light Value : 8.6
Lens ID : Unknown (33) 85mm