Uber Exif Photo
Copyright Notice : Jonathan Paul Jones
Copyright Flag : True
URL : jpjones56@btinternet.com
Make : Leica Camera AG
Camera Model Name : M Monochrom
Orientation : Horizontal (normal)
Software : Adobe Photoshop Elements 10.0 Windows
Modify Date : 2014:12:13 19:49:58
Copyright : Jonathan Paul Jones
Maker Note Safety : Safe
Exposure Time : 1/30
F Number : 4.8
Exposure Program : Aperture-priority AE
ISO : 1600
Date/Time Original : 2014:12:11 16:58:53
Create Date : 2014:12:11 16:58:53
Shutter Speed Value : 1/30
Aperture Value : 4.8
Exposure Compensation : +0.332
Max Aperture Value : 1.0
Metering Mode : Center-weighted average
Light Source : Unknown
Color Space : sRGB
Exif Image Width : 1200
Exif Image Height : 803
Scene Type : Directly photographed
Exposure Mode : Manual
Digital Zoom Ratio : 0
Scene Capture Type : Standard
Serial Number : 4348315
Profile Description : sRGB IEC61966-2.1
Creator Tool : Adobe Photoshop Lightroom 5.7 (Windows)
Date Created : 2014:12:11
Color Mode : RGB
ICC Profile Name : sRGB IEC61966-2.1
Format : image/jpeg
Web Statement : jpjones56@btinternet.com
Marked : True
Version : 8.7
Process Version : 6.7
Sharpness : 29
Luminance Smoothing : 0
Vignette Amount : 0
Split Toning Shadow Hue : 0
Split Toning Shadow Saturation : 0
Split Toning Highlight Hue : 236
Split Toning Highlight Saturation : 63
Split Toning Balance : 0
Parametric Shadows : 0
Parametric Darks : +26
Parametric Lights : 0
Parametric Highlights : 0
Parametric Shadow Split : 25
Parametric Midtone Split : 50
Parametric Highlight Split : 75
Sharpen Radius : +1.0
Sharpen Detail : 25
Sharpen Edge Masking : 0
Post Crop Vignette Amount : -14
Post Crop Vignette Midpoint : 50
Post Crop Vignette Feather : 50
Post Crop Vignette Roundness : 0
Post Crop Vignette Style : Highlight Priority
Post Crop Vignette Highlight Contrast : 0
Grain Amount : 0
Lens Profile Enable : 0
Lens Manual Distortion Amount : 0
Perspective Vertical : 0
Perspective Horizontal : 0
Perspective Rotate : 0.0
Perspective Scale : 100
Perspective Aspect : 0
Perspective Upright : Off
Exposure 2012 : +0.12
Contrast 2012 : +45
Highlights 2012 : -24
Shadows 2012 : +43
Whites 2012 : -10
Blacks 2012 : -14
Clarity 2012 : +19
Tone Curve Name : Linear
Tone Curve Name 2012 : Linear
Lens Profile Setup : LensDefaults
Has Settings : True
Crop Top : 0
Crop Left : 0
Crop Bottom : 1
Crop Right : 0.993804
Crop Angle : 0
Crop Constrain To Warp : 0
Has Crop : True
Already Applied : True
Rights : Jonathan Paul Jones
Usage Terms : All Rights Reserved
Tone Curve : 0, 0, 255, 255
Tone Curve Red : 0, 0, 255, 255
Tone Curve Green : 0, 0, 255, 255
Tone Curve Blue : 0, 0, 255, 255
Tone Curve PV2012 : 0, 0, 255, 255
Tone Curve PV2012 Red : 0, 0, 255, 255
Tone Curve PV2012 Green : 0, 0, 255, 255
Tone Curve PV2012 Blue : 0, 0, 255, 255
Flash Fired : False
Flash Return : No return detection
Flash Mode : Unknown
Flash Function : False
Flash Red Eye Mode : False
Image Width : 300
Image Height : 201
Bits Per Sample : 8
Color Components : 3
Aperture : 4.8
Image Size : 300x201
Megapixels : 0.060
Scale Factor To 35 mm Equivalent : 4.4
Shutter Speed : 1/30
Flash : No Flash
Circle Of Confusion : 0.007 mm
Light Value : 5.4