Uber Exif Photo
Photometric Interpretation : RGB
Make : SONY
Camera Model Name : SLT-A99
Orientation : Horizontal (normal)
Samples Per Pixel : 3
Software : Adobe Photoshop CS6 (Macintosh)
Modify Date : 2014:05:02 01:33:39
Exposure Time : 1/400
F Number : 1.4
Exposure Program : Manual
ISO : 200
Sensitivity Type : Recommended Exposure Index
Recommended Exposure Index : 200
Date/Time Original : 2014:04:30 19:06:08
Create Date : 2014:04:30 19:06:08
Shutter Speed Value : 1/400
Aperture Value : 1.4
Brightness Value : 5.3375
Exposure Compensation : 0
Max Aperture Value : 1.4
Metering Mode : Multi-segment
Light Source : Unknown
Flash : Off, Did not fire
Focal Length : 85.0 mm
Color Space : sRGB
Exif Image Width : 1000
Exif Image Height : 660
Scene Type : Directly photographed
Custom Rendered : Normal
Exposure Mode : Manual
White Balance : Manual
Digital Zoom Ratio : 1
Focal Length In 35mm Format : 85 mm
Scene Capture Type : Standard
Contrast : Low
Saturation : Normal
Sharpness : Soft
Lens Info : 85mm f/1.4
Lens Model : 85mm F1.4 ZA
Profile Description : sRGB IEC61966-2.1
Date Created : 2014:04:30 19:06:08+02:00
Color Mode : RGB
ICC Profile Name : sRGB IEC61966-2.1
Creator Tool : Adobe Photoshop CS6 (Macintosh)
Color Class : 0 (None)
Tagged : Yes
Prefs : Tagged:1, ColorClass:0, Rating:0, FrameNum:001864
PM Version : PM5
Image Number : 1864
Lens : 85mm F1.4 ZA
Lens Distort Info : 32822/32768 -5458390/1073741824 -1073181/1073741824 -370861/1073741824
Format : image/jpeg
Version : 8.4
Process Version : 6.7
Auto White Version : 134348800
Color Temperature : 5584
Tint : +4
Luminance Smoothing : 0
Color Noise Reduction : 25
Vignette Amount : 0
Shadow Tint : 0
Red Hue : 0
Red Saturation : 0
Green Hue : 0
Green Saturation : 0
Blue Hue : 0
Blue Saturation : +26
Vibrance : -6
Hue Adjustment Red : 0
Hue Adjustment Orange : 0
Hue Adjustment Yellow : +14
Hue Adjustment Green : +24
Hue Adjustment Aqua : 0
Hue Adjustment Blue : -3
Hue Adjustment Purple : 0
Hue Adjustment Magenta : 0
Saturation Adjustment Red : -2
Saturation Adjustment Orange : -11
Saturation Adjustment Yellow : -30
Saturation Adjustment Green : -20
Saturation Adjustment Aqua : 0
Saturation Adjustment Blue : -5
Saturation Adjustment Purple : 0
Saturation Adjustment Magenta : 0
Luminance Adjustment Red : +15
Luminance Adjustment Orange : +20
Luminance Adjustment Yellow : 0
Luminance Adjustment Green : 0
Luminance Adjustment Aqua : 0
Luminance Adjustment Blue : 0
Luminance Adjustment Purple : 0
Luminance Adjustment Magenta : 0
Split Toning Shadow Hue : 36
Split Toning Shadow Saturation : 10
Split Toning Highlight Hue : 45
Split Toning Highlight Saturation : 20
Split Toning Balance : -29
Parametric Shadows : -10
Parametric Darks : +19
Parametric Lights : 0
Parametric Highlights : -11
Parametric Shadow Split : 10
Parametric Midtone Split : 54
Parametric Highlight Split : 90
Sharpen Radius : +0.8
Sharpen Detail : 25
Sharpen Edge Masking : 0
Post Crop Vignette Amount : 0
Grain Amount : 10
Grain Size : 24
Grain Frequency : 33
Color Noise Reduction Detail : 50
Color Noise Reduction Smoothness : 50
Lens Profile Enable : 0
Lens Manual Distortion Amount : 0
Perspective Vertical : 0
Perspective Horizontal : 0
Perspective Rotate : 0.0
Perspective Scale : 100
Perspective Aspect : 0
Perspective Upright : Off
Auto Lateral CA : 0
Exposure 2012 : -0.05
Contrast 2012 : +20
Highlights 2012 : -32
Shadows 2012 : +24
Whites 2012 : 0
Blacks 2012 : -10
Clarity 2012 : +10
Defringe Purple Amount : 3
Defringe Purple Hue Lo : 41
Defringe Purple Hue Hi : 69
Defringe Green Amount : 0
Defringe Green Hue Lo : 40
Defringe Green Hue Hi : 60
Convert To Grayscale : False
Tone Curve Name : Linear
Tone Curve Name 2012 : curve1
Camera Profile : Adobe Standard
Lens Profile Setup : LensDefaults
Has Settings : True
Has Crop : False
Already Applied : True
Tone Curve : 0, 0, 255, 255
Tone Curve Red : 0, 0, 255, 255
Tone Curve Green : 0, 0, 255, 255
Tone Curve Blue : 0, 0, 255, 255
Tone Curve PV2012 : 0, 17, 32, 35, 64, 56, 130, 128, 197, 203, 255, 245
Tone Curve PV2012 Red : 0, 0, 255, 255
Tone Curve PV2012 Green : 0, 0, 255, 255
Tone Curve PV2012 Blue : 0, 0, 255, 255
Paint Correction What : Correction
Paint Correction Amount : 1.000000
Paint Correction Active : true
Paint Correction Saturation : 0.000000
Paint Correction Sharpness : 0.000000
Paint Correction Brightness : 0.000000
Paint Correction Toning Hue : 46.000000
Paint Correction Toning Saturation : 0.000000
Paint Correction Exposure 2012 : 0.071210
Paint Correction Contrast 2012 : 0.030000
Paint Correction Highlights 2012 : 0.000000
Paint Correction Shadows 2012 : 0.073303
Paint Correction Clarity 2012 : 0.004523
Paint Correction Luminance Noise : 0.000000
Paint Correction Moire : 0.000000
Paint Correction Defringe : 0.000000
Paint Correction Temperature : 0.000000
Paint Correction Tint : 0.000000
Paint Correction Mask What : Mask/Paint
Paint Correction Mask Value : 1.000000
Paint Correction Mask Radius : 0.020792
Paint Correction Mask Flow : 0.367907
Paint Correction Mask Center Weight : 0.000000
Image Width : 300
Image Height : 198
Bits Per Sample : 8
Color Components : 3
Aperture : 1.4
Image Size : 300x198
Megapixels : 0.059
Scale Factor To 35 mm Equivalent : 1.0
Shutter Speed : 1/400
Circle Of Confusion : 0.030 mm
Field Of View : 23.9 deg
Focal Length : 85.0 mm (35 mm equivalent: 85.0 mm)
Hyperfocal Distance : 171.76 m
Light Value : 8.6
Lens ID : Carl Zeiss Planar T* 85mm F1.4 ZA (SAL85F14Z)
Display settings: ORIGINAL format thumbnails | Fast loading WEBP thumbnails
Use Display settings menu option from the top menu to change