Uber Exif Photo
By-line : Jeroen Florijn
Copyright Notice : www.jeroenflorijn.com
Make : Canon
Camera Model Name : Canon EOS 5D Mark III
Software : Adobe Photoshop Lightroom 5.7 (Macintosh)
Modify Date : 2014:11:28 08:21:05
Artist : Jeroen Florijn
Copyright : www.jeroenflorijn.com
Exposure Time : 1/20
F Number : 5.0
Exposure Program : Aperture-priority AE
ISO : 100
Sensitivity Type : Recommended Exposure Index
Recommended Exposure Index : 100
Date/Time Original : 2014:11:01 14:39:15
Create Date : 2014:11:01 14:39:15
Shutter Speed Value : 1/20
Aperture Value : 5.0
Exposure Compensation : +1
Max Aperture Value : 1.4
Metering Mode : Multi-segment
Flash : No Flash
Focal Length : 55.0 mm
Color Space : sRGB
Custom Rendered : Normal
Exposure Mode : Auto bracket
White Balance : Auto
Scene Capture Type : Standard
Serial Number : 043023010559
Lens Info : 55mm f/?
Lens Model : Zeiss Otus 1.4/55 ZE
Lens Serial Number : 0000000000
Profile Description : sRGB IEC61966-2.1
Creator Tool : Adobe Photoshop Lightroom 5.7 (Macintosh)
Rating : 5
Format : image/jpeg
Lens : Zeiss Otus 1.4/55 ZE
Image Number : 0
Flash Compensation : 0
Firmware : 1.2.3
Date Created : 2014:11:01 14:39:15.75
Version : 8.7
Process Version : 6.7
Auto White Version : 134348800
Color Temperature : 5100
Tint : -5
Saturation : 0
Sharpness : 50
Luminance Smoothing : 0
Color Noise Reduction : 25
Vignette Amount : 0
Shadow Tint : 0
Red Hue : 0
Red Saturation : 0
Green Hue : 0
Green Saturation : 0
Blue Hue : 0
Blue Saturation : 0
Vibrance : +2
Hue Adjustment Red : 0
Hue Adjustment Orange : 0
Hue Adjustment Yellow : 0
Hue Adjustment Green : 0
Hue Adjustment Aqua : 0
Hue Adjustment Blue : 0
Hue Adjustment Purple : 0
Hue Adjustment Magenta : 0
Saturation Adjustment Red : 0
Saturation Adjustment Orange : 0
Saturation Adjustment Yellow : 0
Saturation Adjustment Green : 0
Saturation Adjustment Aqua : 0
Saturation Adjustment Blue : 0
Saturation Adjustment Purple : 0
Saturation Adjustment Magenta : 0
Luminance Adjustment Red : 0
Luminance Adjustment Orange : 0
Luminance Adjustment Yellow : 0
Luminance Adjustment Green : 0
Luminance Adjustment Aqua : 0
Luminance Adjustment Blue : 0
Luminance Adjustment Purple : 0
Luminance Adjustment Magenta : 0
Split Toning Shadow Hue : 0
Split Toning Shadow Saturation : 0
Split Toning Highlight Hue : 0
Split Toning Highlight Saturation : 0
Split Toning Balance : 0
Parametric Shadows : -32
Parametric Darks : -21
Parametric Lights : -27
Parametric Highlights : +40
Parametric Shadow Split : 25
Parametric Midtone Split : 50
Parametric Highlight Split : 75
Sharpen Radius : +0.8
Sharpen Detail : 70
Sharpen Edge Masking : 30
Post Crop Vignette Amount : -11
Post Crop Vignette Midpoint : 50
Post Crop Vignette Feather : 50
Post Crop Vignette Roundness : 0
Post Crop Vignette Style : Highlight Priority
Post Crop Vignette Highlight Contrast : 0
Grain Amount : 0
Color Noise Reduction Detail : 50
Color Noise Reduction Smoothness : 50
Lens Profile Enable : 1
Lens Manual Distortion Amount : 0
Perspective Vertical : 0
Perspective Horizontal : 0
Perspective Rotate : 0.0
Perspective Scale : 100
Perspective Aspect : 0
Perspective Upright : Off
Auto Lateral CA : 1
Exposure 2012 : +0.45
Contrast 2012 : 0
Highlights 2012 : -81
Shadows 2012 : +31
Whites 2012 : +14
Blacks 2012 : +26
Clarity 2012 : +17
Defringe Purple Amount : 0
Defringe Purple Hue Lo : 30
Defringe Purple Hue Hi : 70
Defringe Green Amount : 0
Defringe Green Hue Lo : 40
Defringe Green Hue Hi : 60
Convert To Grayscale : False
Tone Curve Name : Linear
Tone Curve Name 2012 : Linear
Camera Profile : Canon EOS 5D Mark III
Lens Profile Setup : LensDefaults
Lens Profile Name : Adobe (Zeiss Otus 1.4/55 ZE)
Lens Profile Filename : Canon (Zeiss Otus 55 f14 ZE) - RAW.lcp
Lens Profile Distortion Scale : 100
Lens Profile Chromatic Aberration Scale : 100
Lens Profile Vignetting Scale : 100
Has Settings : True
Has Crop : False
Already Applied : True
Creator : Jeroen Florijn
Rights : www.jeroenflorijn.com
Creator Work URL : jeroenflorijn.nl
Creator Country : Nederland
Creator Work Email : jeroen.anita@ziggo.nl
Tone Curve : 0, 0, 255, 255
Tone Curve Red : 0, 0, 255, 255
Tone Curve Green : 0, 0, 255, 255
Tone Curve Blue : 0, 0, 255, 255
Tone Curve PV2012 : 0, 0, 255, 255
Tone Curve PV2012 Red : 0, 0, 255, 255
Tone Curve PV2012 Green : 0, 0, 255, 255
Tone Curve PV2012 Blue : 0, 0, 255, 255
Paint Correction What : Correction
Paint Correction Amount : 1.000000
Paint Correction Active : true
Paint Correction Saturation : -0.067603
Paint Correction Sharpness : 0.000000
Paint Correction Brightness : 0.000000
Paint Correction Toning Hue : 240.000000
Paint Correction Toning Saturation : 0.000000
Paint Correction Exposure 2012 : -0.082500
Paint Correction Contrast 2012 : 0.000000
Paint Correction Highlights 2012 : -0.200000
Paint Correction Shadows 2012 : 0.000000
Paint Correction Clarity 2012 : -0.167404
Paint Correction Luminance Noise : 0.000000
Paint Correction Moire : 0.000000
Paint Correction Defringe : 0.000000
Paint Correction Temperature : 0.000000
Paint Correction Tint : 0.000000
Paint Correction Mask What : Mask/Paint
Paint Correction Mask Value : 0.701272
Paint Correction Mask Radius : 0.042553
Paint Correction Mask Flow : 0.551724
Paint Correction Mask Center Weight : 0.164337
Gradient Based Corr What : Correction
Gradient Based Corr Amount : 1.000000
Gradient Based Corr Active : true
Gradient Based Corr Saturation : 0.000000
Gradient Based Corr Sharpness : 0.000000
Gradient Based Corr Brightness : 0.000000
Gradient Based Corr Toning Hue : 240.000000
Gradient Based Corr Toning Saturation : 0.000000
Gradient Based Corr Exposure 2012 : -0.096776
Gradient Based Corr Contrast 2012 : 0.000000
Gradient Based Corr Highlights 2012 : -0.179462
Gradient Based Corr Shadows 2012 : -0.200190
Gradient Based Corr Clarity 2012 : 0.000000
Gradient Based Corr Luminance Noise : 0.000000
Gradient Based Corr Moire : 0.000000
Gradient Based Corr Defringe : 0.000000
Gradient Based Corr Temperature : 0.000000
Gradient Based Corr Tint : 0.000000
Gradient Based Corr Mask What : Mask/Gradient
Gradient Based Corr Mask Value : 1.000000
Gradient Based Corr Mask Zero X : 0.213444
Gradient Based Corr Mask Zero Y : 0.445986
Gradient Based Corr Mask Full X : 0.152460
Gradient Based Corr Mask Full Y : 0.256057
Image Width : 300
Image Height : 200
Bits Per Sample : 8
Color Components : 3
Aperture : 5.0
Image Size : 300x200
Megapixels : 0.060
Scale Factor To 35 mm Equivalent : 19.2
Shutter Speed : 1/20
Create Date : 2014:11:01 14:39:15.75
Date/Time Original : 2014:11:01 14:39:15.75
Circle Of Confusion : 0.002 mm
Field Of View : 2.0 deg
Focal Length : 55.0 mm (35 mm equivalent: 1056.0 mm)
Hyperfocal Distance : 386.60 m
Light Value : 9.0
Lens ID : Zeiss Otus 55mm f/1.4 ZE