Uber Exif Photo
Make : NIKON CORPORATION
Camera Model Name : NIKON D700
Software : Adobe Photoshop Lightroom 3.6 (Macintosh)
Modify Date : 2014:10:18 23:51:57
Exposure Time : 1/320
F Number : 8.0
Exposure Program : Aperture-priority AE
ISO : 200
Date/Time Original : 2014:10:18 15:31:09
Create Date : 2014:10:18 15:31:09
Shutter Speed Value : 1/320
Aperture Value : 8.0
Exposure Compensation : -2/3
Max Aperture Value : 1.0
Metering Mode : Center-weighted average
Light Source : Unknown
Flash : No Flash
Focal Length : 20.0 mm
Sensing Method : One-chip color area
Scene Type : Directly photographed
CFA Pattern : [Red,Green][Green,Blue]
Custom Rendered : Normal
Exposure Mode : Auto
White Balance : Auto
Digital Zoom Ratio : 1
Focal Length In 35mm Format : 20 mm
Scene Capture Type : Standard
Gain Control : None
Contrast : Normal
Saturation : Normal
Sharpness : Normal
Subject Distance Range : Unknown
Serial Number : 2148790
Lens Info : 0mm f/0
Lens Model : 0.0 mm f/0.0
Profile Description : sRGB IEC61966-2.1
Creator Tool : Adobe Photoshop Lightroom 3.6 (Macintosh)
Rating : 3
Lens : 0.0 mm f/0.0
Image Number : 88880
Date Created : 2014:10:18 15:31:09.00
Format : image/jpeg
Version : 6.6
Process Version : 5.7
Color Temperature : 6050
Tint : +6
Exposure : -0.10
Shadows : 5
Brightness : +50
Luminance Smoothing : 0
Color Noise Reduction : 25
Chromatic Aberration R : 0
Chromatic Aberration B : 0
Vignette Amount : 0
Shadow Tint : 0
Red Hue : 0
Red Saturation : 0
Green Hue : 0
Green Saturation : 0
Blue Hue : 0
Blue Saturation : 0
Fill Light : 14
Vibrance : 0
Highlight Recovery : 26
Clarity : 0
Defringe : 0
Hue Adjustment Red : 0
Hue Adjustment Orange : 0
Hue Adjustment Yellow : 0
Hue Adjustment Green : 0
Hue Adjustment Aqua : 0
Hue Adjustment Blue : 0
Hue Adjustment Purple : 0
Hue Adjustment Magenta : 0
Saturation Adjustment Red : 0
Saturation Adjustment Orange : 0
Saturation Adjustment Yellow : 0
Saturation Adjustment Green : 0
Saturation Adjustment Aqua : 0
Saturation Adjustment Blue : 0
Saturation Adjustment Purple : 0
Saturation Adjustment Magenta : 0
Luminance Adjustment Red : 0
Luminance Adjustment Orange : 0
Luminance Adjustment Yellow : 0
Luminance Adjustment Green : 0
Luminance Adjustment Aqua : 0
Luminance Adjustment Blue : 0
Luminance Adjustment Purple : 0
Luminance Adjustment Magenta : 0
Split Toning Shadow Hue : 0
Split Toning Shadow Saturation : 0
Split Toning Highlight Hue : 0
Split Toning Highlight Saturation : 0
Split Toning Balance : 0
Parametric Shadows : 0
Parametric Darks : 0
Parametric Lights : 0
Parametric Highlights : 0
Parametric Shadow Split : 25
Parametric Midtone Split : 50
Parametric Highlight Split : 75
Sharpen Radius : +1.0
Sharpen Detail : 25
Sharpen Edge Masking : 0
Post Crop Vignette Amount : 0
Grain Amount : 0
Color Noise Reduction Detail : 50
Lens Profile Enable : 0
Lens Manual Distortion Amount : 0
Perspective Vertical : 0
Perspective Horizontal : 0
Perspective Rotate : 0.0
Perspective Scale : 100
Convert To Grayscale : False
Tone Curve Name : Medium Contrast
Camera Profile : Camera D2X Mode 2
Lens Profile Setup : LensDefaults
Has Settings : True
Crop Top : 0.006599
Crop Left : 0.019265
Crop Bottom : 0.786142
Crop Right : 0.98389
Crop Angle : 1.6362
Crop Constrain To Warp : 0
Crop Width : 1600
Crop Height : 802
Crop Unit : pixels
Has Crop : True
Already Applied : True
Tone Curve : 0, 0, 32, 22, 64, 56, 128, 128, 192, 196, 255, 255
Gradient Based Corr What : Correction
Gradient Based Corr Amount : 1.000000
Gradient Based Corr Active : true
Gradient Based Corr Exposure : -0.403226
Gradient Based Corr Saturation : 0.145161
Gradient Based Corr Contrast : 1.000000
Gradient Based Corr Clarity : 0.209677
Gradient Based Corr Sharpness : 0.177419
Gradient Based Corr Brightness : -0.016129
Gradient Based Corr Toning Hue : 207.000000
Gradient Based Corr Toning Saturation : 0.230000
Gradient Based Corr Mask What : Mask/Gradient
Gradient Based Corr Mask Value : 1.000000
Gradient Based Corr Mask Zero X : 0.501790
Gradient Based Corr Mask Zero Y : 0.411322
Gradient Based Corr Mask Full X : 0.508062
Gradient Based Corr Mask Full Y : 0.029076
Image Width : 300
Image Height : 150
Bits Per Sample : 8
Color Components : 3
Aperture : 8.0
Image Size : 300x150
Megapixels : 0.045
Scale Factor To 35 mm Equivalent : 1.0
Shutter Speed : 1/320
Create Date : 2014:10:18 15:31:09.00
Date/Time Original : 2014:10:18 15:31:09.00
Circle Of Confusion : 0.030 mm
Field Of View : 84.0 deg
Focal Length : 20.0 mm (35 mm equivalent: 20.0 mm)
Hyperfocal Distance : 1.66 m
Light Value : 13.3
Lens ID : 0.0mm f/0.0