Uber Exif Photo
By-line : MIKE HOWLETT
Photometric Interpretation : RGB
Make : Canon
Camera Model Name : Canon EOS 5D Mark III
Orientation : Horizontal (normal)
Samples Per Pixel : 3
Software : Adobe Photoshop Elements 11.0 Windows
Modify Date : 2014:10:12 21:37:34
Artist : MIKE HOWLETT
Exposure Time : 1/500
F Number : 8.0
Exposure Program : Aperture-priority AE
ISO : 500
Sensitivity Type : Recommended Exposure Index
Recommended Exposure Index : 500
Date/Time Original : 2014:10:11 12:49:00
Create Date : 2014:10:11 12:49:00
Shutter Speed Value : 1/500
Aperture Value : 8.0
Exposure Compensation : 0
Max Aperture Value : 2.0
Metering Mode : Multi-segment
Flash : Off, Did not fire
Focal Length : 135.0 mm
Color Space : sRGB
Exif Image Width : 5281
Exif Image Height : 3521
Custom Rendered : Normal
Exposure Mode : Auto
White Balance : Auto
Scene Capture Type : Standard
Serial Number : 052024002286
Lens Info : 135mm f/?
Lens Model : 135mm
Lens Serial Number : 0000000000
Profile Description : sRGB IEC61966-2.1
Creator Tool : Adobe Photoshop Lightroom 4.4 (Windows)
Rating : 1
Format : image/jpeg
Lens : 135mm
Image Number : 0
Flash Compensation : 0
Firmware : 1.2.3
Date Created : 2014:10:11 12:49:00.003
Color Mode : RGB
ICC Profile Name : sRGB IEC61966-2.1
Version : 7.4
Process Version : 6.7
Color Temperature : 5200
Tint : +8
Saturation : 0
Sharpness : 45
Luminance Smoothing : 37
Color Noise Reduction : 25
Vignette Amount : 0
Shadow Tint : 0
Red Hue : 0
Red Saturation : 0
Green Hue : 0
Green Saturation : 0
Blue Hue : 0
Blue Saturation : 0
Vibrance : +17
Hue Adjustment Red : 0
Hue Adjustment Orange : 0
Hue Adjustment Yellow : 0
Hue Adjustment Green : 0
Hue Adjustment Aqua : 0
Hue Adjustment Blue : 0
Hue Adjustment Purple : 0
Hue Adjustment Magenta : 0
Saturation Adjustment Red : 0
Saturation Adjustment Orange : 0
Saturation Adjustment Yellow : 0
Saturation Adjustment Green : 0
Saturation Adjustment Aqua : 0
Saturation Adjustment Blue : 0
Saturation Adjustment Purple : 0
Saturation Adjustment Magenta : 0
Luminance Adjustment Red : 0
Luminance Adjustment Orange : 0
Luminance Adjustment Yellow : 0
Luminance Adjustment Green : 0
Luminance Adjustment Aqua : 0
Luminance Adjustment Blue : 0
Luminance Adjustment Purple : 0
Luminance Adjustment Magenta : 0
Split Toning Shadow Hue : 0
Split Toning Shadow Saturation : 0
Split Toning Highlight Hue : 0
Split Toning Highlight Saturation : 0
Split Toning Balance : 0
Parametric Shadows : 0
Parametric Darks : 0
Parametric Lights : 0
Parametric Highlights : 0
Parametric Shadow Split : 25
Parametric Midtone Split : 50
Parametric Highlight Split : 75
Sharpen Radius : +1.0
Sharpen Detail : 25
Sharpen Edge Masking : 0
Post Crop Vignette Amount : 0
Grain Amount : 0
Luminance Noise Reduction Detail : 50
Color Noise Reduction Detail : 50
Luminance Noise Reduction Contrast : 0
Lens Profile Enable : 0
Lens Manual Distortion Amount : 0
Perspective Vertical : 0
Perspective Horizontal : 0
Perspective Rotate : 0.0
Perspective Scale : 100
Auto Lateral CA : 0
Exposure 2012 : +0.12
Contrast 2012 : +24
Highlights 2012 : -62
Shadows 2012 : +7
Whites 2012 : 0
Blacks 2012 : -2
Clarity 2012 : +45
Defringe Purple Amount : 0
Defringe Purple Hue Lo : 30
Defringe Purple Hue Hi : 70
Defringe Green Amount : 0
Defringe Green Hue Lo : 40
Defringe Green Hue Hi : 60
Convert To Grayscale : False
Tone Curve Name 2012 : Linear
Camera Profile : Adobe Standard
Lens Profile Setup : LensDefaults
Has Settings : True
Crop Top : 0.04295
Crop Left : 0.068161
Crop Bottom : 0.95985
Crop Right : 0.985061
Crop Angle : 0
Crop Constrain To Warp : 0
Crop Width : 5281
Crop Height : 3521
Crop Unit : pixels
Has Crop : True
Already Applied : True
Creator : MIKE HOWLETT
Tone Curve PV2012 : 0, 0, 255, 255
Tone Curve PV2012 Red : 0, 0, 255, 255
Tone Curve PV2012 Green : 0, 0, 255, 255
Tone Curve PV2012 Blue : 0, 0, 255, 255
Paint Correction What : Correction
Paint Correction Amount : 1.000000
Paint Correction Active : true
Paint Correction Saturation : -1.000000
Paint Correction Sharpness : 0.000000
Paint Correction Brightness : 0.000000
Paint Correction Toning Hue : 2.000000
Paint Correction Toning Saturation : 0.020000
Paint Correction Exposure 2012 : 0.195500
Paint Correction Contrast 2012 : 1.000000
Paint Correction Highlights 2012 : -0.142860
Paint Correction Shadows 2012 : 0.000000
Paint Correction Clarity 2012 : 0.000000
Paint Correction Luminance Noise : 0.000000
Paint Correction Moire : 0.000000
Paint Correction Defringe : 0.000000
Paint Correction Temperature : 0.000000
Paint Correction Tint : 0.000000
Paint Correction Mask What : Mask/Paint
Paint Correction Mask Value : 1.000000
Paint Correction Mask Radius : 0.049716
Paint Correction Mask Flow : 1.000000
Paint Correction Mask Center Weight : 1.000000
Image Width : 300
Image Height : 200
Bits Per Sample : 8
Color Components : 3
Aperture : 8.0
Image Size : 300x200
Megapixels : 0.060
Scale Factor To 35 mm Equivalent : 1.1
Shutter Speed : 1/500
Create Date : 2014:10:11 12:49:00.03
Date/Time Original : 2014:10:11 12:49:00.03
Circle Of Confusion : 0.028 mm
Field Of View : 13.9 deg
Focal Length : 135.0 mm (35 mm equivalent: 147.2 mm)
Hyperfocal Distance : 82.70 m
Light Value : 12.6
Lens ID : Carl Zeiss Apo-Sonnar T* 135mm f/2 ZE