Uber Exif Photo
Caption-Abstract : Lobito, Angola - Nikon D700 + Carl Zeiss 85 mm f/1.4 ZF + f/4.0 + 1/1600s + ISO-200
By-line : Filipe Jorge da Silva Brandão
Object Name : Mucubal
Province-State : Namibe
Country-Primary Location Name : Angola
Keywords : 03_Autoria, 06_Lentes, 07_Máquinas, 09_Países, 10_Pessoas, 12_Tipo de Fotografia, Angola, Carl Zeiss, Carl Zeiss 85mm f/1.4 ZF, Nikon D700, Planar 85/1.4 ZF, Planar T* 1.4/85, Portrait, Retrato, Viagem, ZF, close-up, filipe brandão, mulher, travel, woman
Copyright Notice : @2010 FILIPE BRANDÃO
Copyright Flag : True
Photometric Interpretation : RGB
Image Description : Lobito, Angola - Nikon D700 + Carl Zeiss 85 mm f/1.4 ZF + f/4.0 + 1/1600s + ISO-200
Make : NIKON CORPORATION
Camera Model Name : NIKON D700
Orientation : Horizontal (normal)
Samples Per Pixel : 3
Software : Adobe Photoshop CS6 (Windows)
Modify Date : 2014:07:30 15:31:35
Artist : Filipe Jorge da Silva Brandão
Copyright : @2010 FILIPE BRANDÃO
Exposure Time : 1/1600
F Number : 4.0
Exposure Program : Aperture-priority AE
ISO : 200
Date/Time Original : 2010:09:18 12:05:05
Create Date : 2010:09:18 12:05:05
Shutter Speed Value : 1/1600
Aperture Value : 4.0
Exposure Compensation : 0
Max Aperture Value : 1.0
Metering Mode : Multi-segment
Light Source : Fine Weather
Flash : No Flash
Focal Length : 85.0 mm
Color Space : sRGB
Exif Image Width : 2705
Exif Image Height : 1800
Sensing Method : One-chip color area
Scene Type : Directly photographed
CFA Pattern : [Red,Green][Green,Blue]
Custom Rendered : Normal
Exposure Mode : Auto
White Balance : Manual
Digital Zoom Ratio : 1
Focal Length In 35mm Format : 85 mm
Scene Capture Type : Standard
Gain Control : None
Contrast : Normal
Saturation : Normal
Sharpness : Hard
Subject Distance Range : Unknown
Serial Number : 2261265
Lens Info : 0mm f/0
Lens Model : 0.0 mm f/0.0
GPS Version ID : 2.2.0.0
GPS Latitude Ref : South
GPS Longitude Ref : East
GPS Altitude Ref : Above Sea Level
GPS Time Stamp : 11:05:05
GPS Satellites : 07
GPS Map Datum : WGS 84
GPS Date Stamp : 2010:09:18
Profile Description : sRGB IEC61966-2.1
Format : image/jpeg
Creator Tool : Adobe Photoshop Lightroom 5.3 (Windows)
Rating : 3
Lens : 0.0 mm f/0.0
Image Number : 2495
Date Created : 2010:09:18 12:05:05.032
City : Caraculo
State : Namibe
Country : Angola
Color Mode : RGB
ICC Profile Name : sRGB IEC61966-2.1
Marked : True
Version : 8.3
Process Version : 6.7
Auto White Version : 134348800
Color Temperature : 5000
Tint : -6
Luminance Smoothing : 0
Color Noise Reduction : 0
Vignette Amount : 0
Shadow Tint : 0
Red Hue : 0
Red Saturation : 0
Green Hue : 0
Green Saturation : 0
Blue Hue : 0
Blue Saturation : 0
Vibrance : +7
Hue Adjustment Red : 0
Hue Adjustment Orange : 0
Hue Adjustment Yellow : 0
Hue Adjustment Green : 0
Hue Adjustment Aqua : 0
Hue Adjustment Blue : 0
Hue Adjustment Purple : 0
Hue Adjustment Magenta : 0
Saturation Adjustment Red : 0
Saturation Adjustment Orange : 0
Saturation Adjustment Yellow : 0
Saturation Adjustment Green : 0
Saturation Adjustment Aqua : 0
Saturation Adjustment Blue : 0
Saturation Adjustment Purple : 0
Saturation Adjustment Magenta : 0
Luminance Adjustment Red : 0
Luminance Adjustment Orange : 0
Luminance Adjustment Yellow : 0
Luminance Adjustment Green : 0
Luminance Adjustment Aqua : 0
Luminance Adjustment Blue : 0
Luminance Adjustment Purple : 0
Luminance Adjustment Magenta : 0
Split Toning Shadow Hue : 0
Split Toning Shadow Saturation : 0
Split Toning Highlight Hue : 0
Split Toning Highlight Saturation : 0
Split Toning Balance : 0
Parametric Shadows : 0
Parametric Darks : 0
Parametric Lights : 0
Parametric Highlights : 0
Parametric Shadow Split : 25
Parametric Midtone Split : 50
Parametric Highlight Split : 75
Sharpen Radius : +0.5
Sharpen Detail : 25
Sharpen Edge Masking : 5
Post Crop Vignette Amount : 0
Grain Amount : 0
Lens Profile Enable : 0
Lens Manual Distortion Amount : 0
Perspective Vertical : 0
Perspective Horizontal : 0
Perspective Rotate : 0.0
Perspective Scale : 100
Perspective Aspect : 0
Perspective Upright : Off
Auto Lateral CA : 0
Exposure 2012 : +0.48
Contrast 2012 : +12
Highlights 2012 : 0
Shadows 2012 : +33
Whites 2012 : +19
Blacks 2012 : 0
Clarity 2012 : +12
Defringe Purple Amount : 0
Defringe Purple Hue Lo : 30
Defringe Purple Hue Hi : 70
Defringe Green Amount : 0
Defringe Green Hue Lo : 40
Defringe Green Hue Hi : 60
Convert To Grayscale : False
Tone Curve Name 2012 : Linear
Camera Profile : Adobe Standard
Lens Profile Setup : LensDefaults
Has Settings : True
Has Crop : False
Already Applied : True
Creator : Filipe Jorge da Silva Brandão
Title : Mucubal
Rights : @2010 FILIPE BRANDÃO
Subject : 03_Autoria, 06_Lentes, 07_Máquinas, 09_Países, 10_Pessoas, 12_Tipo de Fotografia, Angola, Carl Zeiss, Carl Zeiss 85mm f/1.4 ZF, Nikon D700, Planar 85/1.4 ZF, Planar T* 1.4/85, Portrait, Retrato, Viagem, ZF, close-up, filipe brandão, mulher, travel, woman
Description : Lobito, Angola - Nikon D700 + Carl Zeiss 85 mm f/1.4 ZF + f/4.0 + 1/1600s + ISO-200
Tone Curve PV2012 : 0, 0, 255, 255
Tone Curve PV2012 Red : 0, 0, 255, 255
Tone Curve PV2012 Green : 0, 0, 255, 255
Tone Curve PV2012 Blue : 0, 0, 255, 255
Creator Country : Portugal
Creator City : Porto
Creator Work Email : filipejsbrandao@yahoo.co.uk
Creator Work URL : www.flickr.com/photos/mustha
Image Width : 300
Image Height : 200
Bits Per Sample : 8
Color Components : 3
Aperture : 4.0
Image Size : 300x200
Megapixels : 0.060
Scale Factor To 35 mm Equivalent : 1.0
Shutter Speed : 1/1600
Create Date : 2010:09:18 12:05:05.32
Date/Time Original : 2010:09:18 12:05:05.32
GPS Altitude : 474 m Above Sea Level
GPS Date/Time : 2010:09:18 11:05:05Z
GPS Latitude : 15 deg 1' 16.34" S
GPS Longitude : 12 deg 39' 25.23" E
Circle Of Confusion : 0.030 mm
Field Of View : 23.9 deg
Focal Length : 85.0 mm (35 mm equivalent: 85.0 mm)
GPS Position : 15 deg 1' 16.34" S, 12 deg 39' 25.23" E
Hyperfocal Distance : 60.12 m
Light Value : 13.6
Lens ID : 0.0mm f/0.0