Uber Exif Photo
Make : SONY
Camera Model Name : ILCE-7
Orientation : Horizontal (normal)
Software : Adobe Photoshop CS6 (Windows)
Modify Date : 2014:07:27 06:49:54
Exposure Time : 1/50
F Number : 2.8
Exposure Program : Manual
ISO : 640
Sensitivity Type : Recommended Exposure Index
Recommended Exposure Index : 640
Date/Time Original : 2014:07:26 09:23:50
Create Date : 2014:07:26 09:23:50
Shutter Speed Value : 1/50
Aperture Value : 2.8
Brightness Value : -1.6625
Exposure Compensation : 0
Max Aperture Value : 1.7
Metering Mode : Multi-segment
Light Source : Unknown
Flash : Off, Did not fire
Focal Length : 50.0 mm
Color Space : sRGB
Exif Image Width : 5600
Exif Image Height : 4000
Scene Type : Directly photographed
Custom Rendered : Normal
Exposure Mode : Manual
White Balance : Auto
Digital Zoom Ratio : 1
Focal Length In 35mm Format : 75 mm
Scene Capture Type : Standard
Contrast : Normal
Saturation : Normal
Sharpness : Normal
Lens Info : 50mm f/1.7
Lens Model : Carl Zeiss Planar 1.4/50 C/Y
Profile Description : sRGB IEC61966-2.1
Lens : Carl Zeiss Planar 1.4/50 C/Y
Format : image/jpeg
Color Mode : RGB
Date Created : 2014:07:26 09:23:50
ICC Profile Name : sRGB IEC61966-2.1
Creator Tool : Adobe Photoshop CS6 (Windows)
Rating : 0
Already Applied : True
Auto Lateral CA : 1
Auto White Version : 134348800
Blacks 2012 : -32
Blue Hue : 0
Blue Saturation : 0
Camera Profile : Adobe Standard
Clarity 2012 : +15
Color Noise Reduction : 25
Color Noise Reduction Detail : 50
Color Noise Reduction Smoothness : 50
Contrast 2012 : +90
Convert To Grayscale : False
Defringe Green Amount : 0
Defringe Green Hue Hi : 60
Defringe Green Hue Lo : 40
Defringe Purple Amount : 0
Defringe Purple Hue Hi : 70
Defringe Purple Hue Lo : 30
Exposure 2012 : +0.30
Grain Amount : 0
Green Hue : 0
Green Saturation : 0
Has Crop : False
Has Settings : True
Highlights 2012 : -94
Hue Adjustment Aqua : 0
Hue Adjustment Blue : 0
Hue Adjustment Green : 0
Hue Adjustment Magenta : 0
Hue Adjustment Orange : 0
Hue Adjustment Purple : 0
Hue Adjustment Red : 0
Hue Adjustment Yellow : 0
Lens Manual Distortion Amount : 0
Lens Profile Enable : 0
Lens Profile Setup : LensDefaults
Luminance Adjustment Aqua : 0
Luminance Adjustment Blue : 0
Luminance Adjustment Green : 0
Luminance Adjustment Magenta : 0
Luminance Adjustment Orange : 0
Luminance Adjustment Purple : 0
Luminance Adjustment Red : 0
Luminance Adjustment Yellow : 0
Luminance Noise Reduction Contrast : 0
Luminance Noise Reduction Detail : 50
Luminance Smoothing : 50
Parametric Darks : 0
Parametric Highlight Split : 75
Parametric Highlights : 0
Parametric Lights : 0
Parametric Midtone Split : 50
Parametric Shadow Split : 25
Parametric Shadows : 0
Perspective Aspect : 0
Perspective Horizontal : 0
Perspective Rotate : 0.0
Perspective Scale : 100
Perspective Upright : Off
Perspective Vertical : 0
Post Crop Vignette Amount : 0
Process Version : 6.7
Raw File Name : _DSC5758.ARW
Red Hue : 0
Red Saturation : 0
Saturation Adjustment Aqua : 0
Saturation Adjustment Blue : 0
Saturation Adjustment Green : 0
Saturation Adjustment Magenta : 0
Saturation Adjustment Orange : 0
Saturation Adjustment Purple : 0
Saturation Adjustment Red : 0
Saturation Adjustment Yellow : 0
Shadow Tint : 0
Shadows 2012 : +50
Sharpen Detail : 25
Sharpen Edge Masking : 78
Sharpen Radius : +1.0
Split Toning Balance : 0
Split Toning Highlight Hue : 0
Split Toning Highlight Saturation : 0
Split Toning Shadow Hue : 0
Split Toning Shadow Saturation : 0
Color Temperature : 4300
Tint : +16
Tone Curve Name 2012 : Linear
Tone Curve PV2012 : 0, 0, 255, 255
Tone Curve PV2012 Blue : 0, 0, 255, 255
Tone Curve PV2012 Green : 0, 0, 255, 255
Tone Curve PV2012 Red : 0, 0, 255, 255
Version : 8.3
Vibrance : 0
Vignette Amount : 0
Whites 2012 : +14
Image Width : 300
Image Height : 214
Bits Per Sample : 8
Color Components : 3
Aperture : 2.8
Image Size : 300x214
Megapixels : 0.064
Scale Factor To 35 mm Equivalent : 1.5
Shutter Speed : 1/50
Circle Of Confusion : 0.020 mm
Field Of View : 27.0 deg
Focal Length : 50.0 mm (35 mm equivalent: 75.0 mm)
Hyperfocal Distance : 44.57 m
Light Value : 5.9