Uber Exif Photo
By-line : Ronny@Olsson
Copyright Notice : Ronny@Olsson
Photometric Interpretation : RGB
Make : NIKON CORPORATION
Camera Model Name : NIKON D700
Orientation : Horizontal (normal)
Samples Per Pixel : 3
Planar Configuration : Chunky
Software : Adobe Photoshop CS5 Windows
Modify Date : 2014:04:06 19:49:39
Artist : Ronny@Olsson
Copyright : Ronny@Olsson
Exposure Time : 122
F Number : 16.0
Exposure Program : Manual
ISO : 200
Date/Time Original : 2014:04:05 14:16:11
Create Date : 2014:04:05 14:16:11
Shutter Speed Value : 122
Aperture Value : 16.0
Exposure Compensation : 0
Max Aperture Value : 1.0
Metering Mode : Multi-segment
Light Source : Unknown
Flash : No Flash
Focal Length : 35.0 mm
Color Space : sRGB
Exif Image Width : 1600
Exif Image Height : 1065
Sensing Method : One-chip color area
Scene Type : Directly photographed
CFA Pattern : [Red,Green][Green,Blue]
Custom Rendered : Custom
Exposure Mode : Manual
White Balance : Auto
Digital Zoom Ratio : 1
Focal Length In 35mm Format : 35 mm
Scene Capture Type : Standard
Gain Control : None
Contrast : Normal
Saturation : Normal
Sharpness : Normal
Subject Distance Range : Unknown
Serial Number : 2460783
Lens Info : 0mm f/0
Lens Model : 0.0 mm f/0.0
Profile Description : sRGB IEC61966-2.1
Format : image/jpeg
Creator Tool : Adobe Photoshop Lightroom 5.3 (Windows)
Lens : 0.0 mm f/0.0
Image Number : 51481
Date Created : 2014:04:05 14:16:11.025
Color Mode : RGB
ICC Profile Name : sRGB IEC61966-2.1
Version : 8.3
Process Version : 6.7
Auto White Version : 134348800
Color Temperature : 8700
Tint : +35
Luminance Smoothing : 0
Color Noise Reduction : 25
Vignette Amount : 0
Shadow Tint : 0
Red Hue : 0
Red Saturation : 0
Green Hue : 0
Green Saturation : 0
Blue Hue : 0
Blue Saturation : 0
Vibrance : 0
Hue Adjustment Red : 0
Hue Adjustment Orange : 0
Hue Adjustment Yellow : 0
Hue Adjustment Green : 0
Hue Adjustment Aqua : 0
Hue Adjustment Blue : 0
Hue Adjustment Purple : 0
Hue Adjustment Magenta : 0
Saturation Adjustment Red : 0
Saturation Adjustment Orange : 0
Saturation Adjustment Yellow : 0
Saturation Adjustment Green : 0
Saturation Adjustment Aqua : 0
Saturation Adjustment Blue : 0
Saturation Adjustment Purple : 0
Saturation Adjustment Magenta : 0
Luminance Adjustment Red : 0
Luminance Adjustment Orange : 0
Luminance Adjustment Yellow : 0
Luminance Adjustment Green : 0
Luminance Adjustment Aqua : 0
Luminance Adjustment Blue : 0
Luminance Adjustment Purple : 0
Luminance Adjustment Magenta : 0
Split Toning Shadow Hue : 0
Split Toning Shadow Saturation : 0
Split Toning Highlight Hue : 0
Split Toning Highlight Saturation : 0
Split Toning Balance : 0
Parametric Shadows : -14
Parametric Darks : -13
Parametric Lights : -26
Parametric Highlights : +36
Parametric Shadow Split : 25
Parametric Midtone Split : 50
Parametric Highlight Split : 75
Sharpen Radius : +1.0
Sharpen Detail : 25
Sharpen Edge Masking : 0
Post Crop Vignette Amount : 0
Grain Amount : 0
Color Noise Reduction Detail : 50
Color Noise Reduction Smoothness : 50
Lens Profile Enable : 1
Lens Manual Distortion Amount : 0
Perspective Vertical : 0
Perspective Horizontal : 0
Perspective Rotate : 0.0
Perspective Scale : 100
Perspective Aspect : 0
Perspective Upright : Off
Auto Lateral CA : 1
Exposure 2012 : -1.31
Contrast 2012 : +38
Highlights 2012 : -100
Shadows 2012 : +100
Whites 2012 : 0
Blacks 2012 : 0
Clarity 2012 : +30
Defringe Purple Amount : 0
Defringe Purple Hue Lo : 30
Defringe Purple Hue Hi : 70
Defringe Green Amount : 0
Defringe Green Hue Lo : 40
Defringe Green Hue Hi : 60
Convert To Grayscale : False
Tone Curve Name 2012 : Linear
Camera Profile : Adobe Standard
Lens Profile Setup : Custom
Lens Profile Name : Adobe (Zeiss Distagon T* 2/35 ZF.2)
Lens Profile Filename : NIKON CORPORATION (Zeiss Distagon T 2-35 ZF.2).lcp
Lens Profile Distortion Scale : 100
Lens Profile Chromatic Aberration Scale : 100
Lens Profile Vignetting Scale : 100
Has Settings : True
Has Crop : False
Already Applied : True
Creator : Ronny@Olsson
Rights : Ronny@Olsson
Tone Curve PV2012 : 0, 0, 255, 255
Tone Curve PV2012 Red : 0, 0, 255, 255
Tone Curve PV2012 Green : 0, 0, 255, 255
Tone Curve PV2012 Blue : 0, 0, 255, 255
Image Width : 300
Image Height : 200
Bits Per Sample : 8
Color Components : 3
Aperture : 16.0
Image Size : 300x200
Megapixels : 0.060
Scale Factor To 35 mm Equivalent : 1.0
Shutter Speed : 122
Create Date : 2014:04:05 14:16:11.25
Date/Time Original : 2014:04:05 14:16:11.25
Circle Of Confusion : 0.030 mm
Field Of View : 54.4 deg
Focal Length : 35.0 mm (35 mm equivalent: 35.0 mm)
Hyperfocal Distance : 2.55 m
Light Value : 0.1
Lens ID : 0.0mm f/0.0