Uber Exif Photo
By-line : Photographer: Michael Wong
Make : Canon
Camera Model Name : Canon EOS 5D Mark II
Software : Adobe Photoshop Lightroom 4.4 (Windows)
Modify Date : 2014:03:25 10:24:17
Artist : Photographer: Michael Wong
Exposure Time : 1/25
F Number : 3.5
ISO : 800
Date/Time Original : 2014:03:23 17:36:02
Create Date : 2014:03:23 17:36:02
Shutter Speed Value : 1/25
Aperture Value : 3.5
Exposure Compensation : +1/3
Max Aperture Value : 3.4
Flash : Off, Did not fire
Focal Length : 24.0 mm
Custom Rendered : Normal
Exposure Mode : Auto
White Balance : Manual
Scene Capture Type : Standard
Owner Name : Simon Wong
Serial Number : 1631003950
Lens Info : 24-85mm f/?
Lens Model : 24-85mm
Profile Description : sRGB IEC61966-2.1
Format : image/jpeg
Creator Tool : Adobe Photoshop Lightroom 4.4 (Windows)
Lens : 24-85mm
Image Number : 0
Approximate Focus Distance : 20.6
Flash Compensation : 0
Firmware : 2.0.9
Date Created : 2014:03:23 17:36:02
Version : 7.4
Process Version : 6.7
Incremental Temperature : -7
Incremental Tint : 0
Saturation : 0
Sharpness : 0
Luminance Smoothing : 0
Color Noise Reduction : 0
Vignette Amount : +33
Vignette Midpoint : 50
Shadow Tint : 0
Red Hue : 0
Red Saturation : 0
Green Hue : 0
Green Saturation : 0
Blue Hue : 0
Blue Saturation : 0
Vibrance : 0
Hue Adjustment Red : 0
Hue Adjustment Orange : 0
Hue Adjustment Yellow : 0
Hue Adjustment Green : 0
Hue Adjustment Aqua : 0
Hue Adjustment Blue : 0
Hue Adjustment Purple : 0
Hue Adjustment Magenta : 0
Saturation Adjustment Red : 0
Saturation Adjustment Orange : 0
Saturation Adjustment Yellow : 0
Saturation Adjustment Green : 0
Saturation Adjustment Aqua : 0
Saturation Adjustment Blue : 0
Saturation Adjustment Purple : 0
Saturation Adjustment Magenta : 0
Luminance Adjustment Red : 0
Luminance Adjustment Orange : 0
Luminance Adjustment Yellow : 0
Luminance Adjustment Green : 0
Luminance Adjustment Aqua : 0
Luminance Adjustment Blue : 0
Luminance Adjustment Purple : 0
Luminance Adjustment Magenta : 0
Split Toning Shadow Hue : 0
Split Toning Shadow Saturation : 0
Split Toning Highlight Hue : 0
Split Toning Highlight Saturation : 0
Split Toning Balance : 0
Parametric Shadows : 0
Parametric Darks : 0
Parametric Lights : 0
Parametric Highlights : 0
Parametric Shadow Split : 25
Parametric Midtone Split : 50
Parametric Highlight Split : 75
Sharpen Radius : +1.0
Sharpen Detail : 25
Sharpen Edge Masking : 0
Post Crop Vignette Amount : 0
Grain Amount : 0
Lens Profile Enable : 0
Lens Manual Distortion Amount : 0
Perspective Vertical : 0
Perspective Horizontal : 0
Perspective Rotate : +0.2
Perspective Scale : 100
Auto Lateral CA : 0
Exposure 2012 : 0.00
Contrast 2012 : 0
Highlights 2012 : -60
Shadows 2012 : +19
Whites 2012 : +60
Blacks 2012 : 0
Clarity 2012 : +17
Defringe Purple Amount : 0
Defringe Purple Hue Lo : 30
Defringe Purple Hue Hi : 70
Defringe Green Amount : 0
Defringe Green Hue Lo : 40
Defringe Green Hue Hi : 60
Convert To Grayscale : False
Tone Curve Name 2012 : Linear
Camera Profile : Embedded
Lens Profile Setup : LensDefaults
Has Settings : True
Crop Top : 0.005602
Crop Left : 0.012605
Crop Bottom : 0.97479
Crop Right : 0.983193
Crop Angle : 0
Crop Constrain To Warp : 0
Crop Width : 3634
Crop Height : 5443
Crop Unit : pixels
Has Crop : True
Already Applied : True
Creator : Photographer: Michael Wong
Tone Curve PV2012 : 0, 0, 255, 255
Tone Curve PV2012 Red : 0, 0, 255, 255
Tone Curve PV2012 Green : 0, 0, 255, 255
Tone Curve PV2012 Blue : 0, 0, 255, 255
Image Width : 200
Image Height : 300
Bits Per Sample : 8
Color Components : 3
Aperture : 3.5
Image Size : 200x300
Megapixels : 0.060
Scale Factor To 35 mm Equivalent : 18.4
Shutter Speed : 1/25
Circle Of Confusion : 0.002 mm
Depth Of Field : 8.79 m (17.10 - 25.89 m)
Field Of View : 4.7 deg
Focal Length : 24.0 mm (35 mm equivalent: 441.0 mm)
Hyperfocal Distance : 100.65 m
Light Value : 5.3
Lens ID : 24-85mm