Uber Exif Photo
Keywords : LensTagger
Make : Canon
Camera Model Name : Canon EOS DIGITAL REBEL XSi
Software : Adobe Photoshop Lightroom 4.4 (Windows)
Modify Date : 2013:08:19 11:13:36
Exposure Time : 1/80
F Number : 2.0
Exposure Program : Manual
ISO : 400
Date/Time Original : 2013:08:17 14:24:47
Create Date : 2013:08:17 14:24:47
Shutter Speed Value : 1/80
Aperture Value : 2.0
Exposure Compensation : 0
Max Aperture Value : 4.0
Metering Mode : Multi-segment
Flash : Off, Did not fire
Focal Length : 200.0 mm
Custom Rendered : Normal
Exposure Mode : Manual
White Balance : Auto
Scene Capture Type : Standard
Serial Number : 970371233
Lens Info : 50mm f/?
Lens Model : Carl Zeiss Vario-Sonnar 80-200 f/4
Profile Description : sRGB IEC61966-2.1
Lens : Carl Zeiss Vario-Sonnar 80-200 f/4
Image Number : 0
Flash Compensation : 0
Firmware : 1.0.9
Date Created : 2013:08:17 14:24:47.02
Format : image/jpeg
Creator Tool : Adobe Photoshop Lightroom 4.4 (Windows)
Version : 7.4
Process Version : 6.7
Color Temperature : 4600
Tint : 0
Saturation : +17
Sharpness : 45
Luminance Smoothing : 0
Color Noise Reduction : 25
Vignette Amount : 0
Shadow Tint : 0
Red Hue : 0
Red Saturation : 0
Green Hue : 0
Green Saturation : 0
Blue Hue : 0
Blue Saturation : 0
Vibrance : +40
Hue Adjustment Red : 0
Hue Adjustment Orange : 0
Hue Adjustment Yellow : 0
Hue Adjustment Green : 0
Hue Adjustment Aqua : 0
Hue Adjustment Blue : 0
Hue Adjustment Purple : 0
Hue Adjustment Magenta : 0
Saturation Adjustment Red : 0
Saturation Adjustment Orange : 0
Saturation Adjustment Yellow : 0
Saturation Adjustment Green : 0
Saturation Adjustment Aqua : 0
Saturation Adjustment Blue : 0
Saturation Adjustment Purple : 0
Saturation Adjustment Magenta : 0
Luminance Adjustment Red : 0
Luminance Adjustment Orange : 0
Luminance Adjustment Yellow : 0
Luminance Adjustment Green : 0
Luminance Adjustment Aqua : 0
Luminance Adjustment Blue : 0
Luminance Adjustment Purple : 0
Luminance Adjustment Magenta : 0
Split Toning Shadow Hue : 0
Split Toning Shadow Saturation : 0
Split Toning Highlight Hue : 0
Split Toning Highlight Saturation : 0
Split Toning Balance : 0
Parametric Shadows : 0
Parametric Darks : 0
Parametric Lights : 0
Parametric Highlights : 0
Parametric Shadow Split : 25
Parametric Midtone Split : 50
Parametric Highlight Split : 75
Sharpen Radius : +0.5
Sharpen Detail : 42
Sharpen Edge Masking : 30
Post Crop Vignette Amount : 0
Grain Amount : 0
Color Noise Reduction Detail : 50
Lens Profile Enable : 0
Lens Manual Distortion Amount : 0
Perspective Vertical : 0
Perspective Horizontal : 0
Perspective Rotate : 0.0
Perspective Scale : 100
Auto Lateral CA : 0
Exposure 2012 : 0.00
Contrast 2012 : +10
Highlights 2012 : -10
Shadows 2012 : 0
Whites 2012 : 0
Blacks 2012 : -15
Clarity 2012 : +10
Defringe Purple Amount : 0
Defringe Purple Hue Lo : 30
Defringe Purple Hue Hi : 70
Defringe Green Amount : 0
Defringe Green Hue Lo : 40
Defringe Green Hue Hi : 60
Convert To Grayscale : False
Tone Curve Name 2012 : Linear
Camera Profile : Adobe Standard
Lens Profile Setup : LensDefaults
Has Settings : True
Crop Top : 0
Crop Left : 0
Crop Bottom : 0.981693
Crop Right : 0.740854
Crop Angle : 0
Crop Constrain To Warp : 0
Crop Width : 1024
Crop Height : 905
Crop Unit : pixels
Has Crop : True
Already Applied : True
Subject : LensTagger
Tone Curve PV2012 : 0, 0, 255, 255
Tone Curve PV2012 Red : 0, 0, 255, 255
Tone Curve PV2012 Green : 0, 0, 255, 255
Tone Curve PV2012 Blue : 0, 0, 255, 255
Paint Correction What : Correction
Paint Correction Amount : 1.000000
Paint Correction Active : true
Paint Correction Saturation : 0.000000
Paint Correction Sharpness : 0.402300
Paint Correction Brightness : 0.000000
Paint Correction Toning Hue : 347.000000
Paint Correction Toning Saturation : 0.000000
Paint Correction Exposure 2012 : 0.000000
Paint Correction Contrast 2012 : 0.000000
Paint Correction Highlights 2012 : 0.000000
Paint Correction Shadows 2012 : 0.000000
Paint Correction Clarity 2012 : 0.402300
Paint Correction Luminance Noise : 0.000000
Paint Correction Moire : 0.000000
Paint Correction Defringe : 0.000000
Paint Correction Temperature : 0.000000
Paint Correction Tint : 0.000000
Paint Correction Mask What : Mask/Paint
Paint Correction Mask Value : 0.551000
Paint Correction Mask Radius : 0.081096
Paint Correction Mask Flow : 1.000000
Paint Correction Mask Center Weight : 0.173734
Image Width : 265
Image Height : 300
Bits Per Sample : 8
Color Components : 3
Aperture : 2.0
Image Size : 265x300
Megapixels : 0.080
Scale Factor To 35 mm Equivalent : 1.6
Shutter Speed : 1/80
Create Date : 2013:08:17 14:24:47.02
Date/Time Original : 2013:08:17 14:24:47.02
Circle Of Confusion : 0.019 mm
Field Of View : 6.4 deg
Focal Length : 200.0 mm (35 mm equivalent: 323.1 mm)
Hyperfocal Distance : 1075.27 m
Light Value : 6.3
Lens ID : Canon EF 35-80mm f/4-5.6