Uber Exif Photo
By-line : BUDI AFRIANTO
Copyright Notice : Copyright@BUDIBOYO
Photometric Interpretation : RGB
Make : NIKON CORPORATION
Camera Model Name : NIKON D700
Orientation : Horizontal (normal)
Samples Per Pixel : 3
Software : Adobe Photoshop CS5.1 Macintosh
Modify Date : 2012:11:25 20:29:58
Artist : BUDI AFRIANTO
Copyright : Copyright@BUDIBOYO
Exposure Time : 1/30
F Number : 4.0
Exposure Program : Manual
ISO : 400
Date/Time Original : 2012:10:19 20:15:23
Create Date : 2012:10:19 20:15:23
Shutter Speed Value : 1/30
Aperture Value : 4.0
Exposure Compensation : 0
Max Aperture Value : 2.0
Metering Mode : Multi-segment
Light Source : Unknown
Flash : No Flash
Focal Length : 100.0 mm
Color Space : sRGB
Exif Image Width : 1275
Exif Image Height : 1280
Sensing Method : One-chip color area
Scene Type : Directly photographed
CFA Pattern : [Red,Green][Green,Blue]
Custom Rendered : Normal
Exposure Mode : Manual
White Balance : Auto
Digital Zoom Ratio : 1
Focal Length In 35mm Format : 100 mm
Scene Capture Type : Standard
Gain Control : Low gain up
Contrast : Normal
Saturation : Normal
Sharpness : Normal
Subject Distance Range : Unknown
Serial Number : 2374238
Lens Info : 100mm f/2
Lens Model : Zeiss Makro-Planar T* 2/100 ZF.2
Format : image/jpeg
Creator Tool : Adobe Photoshop Lightroom 3.6 (Macintosh)
Lens : Zeiss Makro-Planar T* 2/100 ZF.2
Image Number : 8800
Date Created : 2012:10:19 20:15:23.092
Color Mode : RGB
ICC Profile Name : sRGB IEC61966-2.1
Version : 6.6
Process Version : 5.7
Color Temperature : 3400
Tint : -22
Exposure : +0.40
Shadows : 21
Brightness : -7
Luminance Smoothing : 20
Color Noise Reduction : 0
Chromatic Aberration R : 0
Chromatic Aberration B : 0
Vignette Amount : 0
Shadow Tint : 0
Red Hue : 0
Red Saturation : 0
Green Hue : 0
Green Saturation : 0
Blue Hue : 0
Blue Saturation : 0
Fill Light : 9
Highlight Recovery : 0
Clarity : +36
Defringe : 0
Gray Mixer Red : -8
Gray Mixer Orange : -15
Gray Mixer Yellow : +14
Gray Mixer Green : -24
Gray Mixer Aqua : +5
Gray Mixer Blue : +5
Gray Mixer Purple : +15
Gray Mixer Magenta : +5
Split Toning Shadow Hue : 0
Split Toning Shadow Saturation : 0
Split Toning Highlight Hue : 0
Split Toning Highlight Saturation : 0
Split Toning Balance : 0
Parametric Shadows : -20
Parametric Darks : -6
Parametric Lights : -37
Parametric Highlights : -12
Parametric Shadow Split : 25
Parametric Midtone Split : 50
Parametric Highlight Split : 75
Sharpen Radius : +1.0
Sharpen Detail : 25
Sharpen Edge Masking : 0
Post Crop Vignette Amount : -60
Post Crop Vignette Midpoint : 33
Post Crop Vignette Feather : 25
Post Crop Vignette Roundness : -25
Post Crop Vignette Style : Highlight Priority
Post Crop Vignette Highlight Contrast : 0
Grain Amount : 0
Luminance Noise Reduction Detail : 30
Luminance Noise Reduction Contrast : 0
Lens Profile Enable : 0
Lens Manual Distortion Amount : 0
Perspective Vertical : 0
Perspective Horizontal : 0
Perspective Rotate : 0.0
Perspective Scale : 100
Convert To Grayscale : True
Tone Curve Name : Medium Contrast
Camera Profile : Embedded
Lens Profile Setup : LensDefaults
Has Settings : True
Crop Top : 0.18238
Crop Left : 0.319533
Crop Bottom : 0.866451
Crop Right : 0.776396
Crop Angle : 0
Crop Constrain To Warp : 0
Crop Width : 1944
Crop Height : 1937
Crop Unit : pixels
Has Crop : True
Already Applied : True
Creator : BUDI AFRIANTO
Rights : Copyright@BUDIBOYO
Tone Curve : 0, 0, 32, 22, 64, 56, 128, 128, 192, 196, 255, 255
Paint Correction What : Correction
Paint Correction Amount : 1.000000
Paint Correction Active : true
Paint Correction Exposure : -0.764535
Paint Correction Saturation : 0.396569
Paint Correction Contrast : 0.142450
Paint Correction Clarity : 0.762720
Paint Correction Sharpness : 0.713963
Paint Correction Brightness : 0.049693
Paint Correction Toning Hue : 240.000000
Paint Correction Toning Saturation : 0.000000
Paint Correction Mask What : Mask/Paint
Paint Correction Mask Value : 0.439341
Paint Correction Mask Radius : 0.031739
Paint Correction Mask Flow : 0.719873
Paint Correction Mask Center Weight : 0.003512
Image Width : 299
Image Height : 300
Bits Per Sample : 8
Color Components : 1
Aperture : 4.0
Image Size : 299x300
Megapixels : 0.090
Scale Factor To 35 mm Equivalent : 1.0
Shutter Speed : 1/30
Create Date : 2012:10:19 20:15:23.92
Date/Time Original : 2012:10:19 20:15:23.92
Circle Of Confusion : 0.030 mm
Field Of View : 20.4 deg
Focal Length : 100.0 mm (35 mm equivalent: 100.0 mm)
Hyperfocal Distance : 83.21 m
Light Value : 6.9