Uber Exif Photo
By-line : Donn Anning Jones
Copyright Notice : Donn Anning Jones
Make : NIKON CORPORATION
Camera Model Name : NIKON D800E
Software : Adobe Photoshop Lightroom 3.6 (Macintosh)
Modify Date : 2013:12:18 22:37:12
Artist : Donn Anning Jones
Copyright : Donn Anning Jones
Exposure Time : 1/30
F Number : 2.8
Exposure Program : Aperture-priority AE
ISO : 400
Sensitivity Type : Recommended Exposure Index
Date/Time Original : 2013:11:11 10:11:03
Create Date : 2013:11:11 10:11:03
Shutter Speed Value : 1/30
Aperture Value : 2.8
Exposure Compensation : +1/3
Max Aperture Value : 2.8
Metering Mode : Multi-segment
Light Source : Unknown
Flash : Off, Did not fire
Focal Length : 21.0 mm
Sensing Method : One-chip color area
Scene Type : Directly photographed
CFA Pattern : [Red,Green][Green,Blue]
Custom Rendered : Normal
Exposure Mode : Auto
White Balance : Auto
Digital Zoom Ratio : 1
Focal Length In 35mm Format : 21 mm
Scene Capture Type : Standard
Gain Control : Low gain up
Contrast : Normal
Saturation : Normal
Sharpness : Normal
Subject Distance Range : Unknown
Serial Number : 3000766
Lens Info : 21mm f/2.8
Lens Model : Zeiss Distagon T* 2.8/21 ZF.2
Profile Description : ProPhoto RGB
Format : image/jpeg
Creator Tool : Adobe Photoshop Lightroom 3.6 (Macintosh)
Lens : Zeiss Distagon T* 2.8/21 ZF.2
Image Number : 12265
Date Created : 2013:11:11 10:11:03.40-08:00
Preserved File Name : _DAJ0820.NEF
Version : 6.6
Process Version : 5.7
Color Temperature : 4150
Tint : +10
Exposure : 0.00
Shadows : 5
Brightness : +50
Luminance Smoothing : 0
Color Noise Reduction : 25
Chromatic Aberration R : 0
Chromatic Aberration B : 0
Vignette Amount : 0
Shadow Tint : 0
Red Hue : 0
Red Saturation : 0
Green Hue : 0
Green Saturation : 0
Blue Hue : 0
Blue Saturation : 0
Fill Light : 0
Highlight Recovery : 0
Clarity : 0
Defringe : 0
Gray Mixer Red : +25
Gray Mixer Orange : -15
Gray Mixer Yellow : -27
Gray Mixer Green : -17
Gray Mixer Aqua : -10
Gray Mixer Blue : -31
Gray Mixer Purple : -19
Gray Mixer Magenta : +69
Split Toning Shadow Hue : 291
Split Toning Shadow Saturation : 11
Split Toning Highlight Hue : 40
Split Toning Highlight Saturation : 15
Split Toning Balance : +50
Parametric Shadows : -28
Parametric Darks : -3
Parametric Lights : +17
Parametric Highlights : +16
Parametric Shadow Split : 25
Parametric Midtone Split : 50
Parametric Highlight Split : 75
Sharpen Radius : +1.0
Sharpen Detail : 25
Sharpen Edge Masking : 0
Post Crop Vignette Amount : 0
Grain Amount : 0
Color Noise Reduction Detail : 50
Lens Profile Enable : 1
Lens Manual Distortion Amount : 0
Perspective Vertical : 0
Perspective Horizontal : 0
Perspective Rotate : 0.0
Perspective Scale : 100
Convert To Grayscale : True
Tone Curve Name : Medium Contrast
Camera Profile : Adobe Standard
Lens Profile Setup : LensDefaults
Lens Profile Name : Adobe (Zeiss Distagon T* 2,8/21 ZF.2)
Lens Profile Filename : NIKON CORPORATION (Zeiss Distagon T 2.8-21 ZF.2).lcp
Lens Profile Distortion Scale : 100
Lens Profile Chromatic Aberration Scale : 100
Lens Profile Vignetting Scale : 100
Has Settings : True
Crop Top : 0
Crop Left : 0
Crop Bottom : 1
Crop Right : 0.69852
Crop Angle : 0
Crop Constrain To Warp : 0
Crop Width : 1382
Crop Height : 1320
Crop Unit : pixels
Has Crop : True
Already Applied : True
Creator : Donn Anning Jones
Rights : Donn Anning Jones
Tone Curve : 0, 0, 32, 22, 64, 56, 128, 128, 192, 196, 255, 255
Image Width : 300
Image Height : 287
Bits Per Sample : 8
Color Components : 3
Aperture : 2.8
Image Size : 300x287
Megapixels : 0.086
Scale Factor To 35 mm Equivalent : 1.0
Shutter Speed : 1/30
Create Date : 2013:11:11 10:11:03.40
Date/Time Original : 2013:11:11 10:11:03.40
Circle Of Confusion : 0.030 mm
Field Of View : 81.2 deg
Focal Length : 21.0 mm (35 mm equivalent: 21.0 mm)
Hyperfocal Distance : 5.24 m
Light Value : 5.9