Uber Exif Photo
Make : SONY
Camera Model Name : NEX-7
Software : Adobe Photoshop Lightroom 5.0 (Windows)
Modify Date : 2013:12:02 20:29:25
Exposure Time : 1/200
F Number : 1.8
Exposure Program : Aperture-priority AE
ISO : 800
Sensitivity Type : Recommended Exposure Index
Recommended Exposure Index : 800
Date/Time Original : 2013:11:28 13:53:39
Create Date : 2013:11:28 13:53:39
Shutter Speed Value : 1/200
Aperture Value : 1.8
Brightness Value : 1.4078125
Exposure Compensation : 0
Max Aperture Value : 1.8
Metering Mode : Multi-segment
Light Source : Unknown
Flash : Off, Did not fire
Focal Length : 32.0 mm
Scene Type : Directly photographed
Custom Rendered : Normal
Exposure Mode : Auto
White Balance : Manual
Focal Length In 35mm Format : 48 mm
Scene Capture Type : Standard
Contrast : High
Saturation : Low
Sharpness : Hard
Lens Info : 32mm f/1.8
Lens Model : E 32mm F1.8
Profile Description : sRGB IEC61966-2.1
Creator Tool : Adobe Photoshop Lightroom 5.0 (Windows)
Lens : E 32mm F1.8
Date Created : 2013:11:28 13:53:39
Version : 8.1
Process Version : 6.7
Color Temperature : 4262
Tint : +11
Luminance Smoothing : 0
Color Noise Reduction : 25
Vignette Amount : 0
Shadow Tint : -4
Red Hue : 0
Red Saturation : 0
Green Hue : 0
Green Saturation : 0
Blue Hue : 0
Blue Saturation : 0
Vibrance : -17
Hue Adjustment Red : +6
Hue Adjustment Orange : -16
Hue Adjustment Yellow : +12
Hue Adjustment Green : +15
Hue Adjustment Aqua : 0
Hue Adjustment Blue : +5
Hue Adjustment Purple : +15
Hue Adjustment Magenta : +25
Saturation Adjustment Red : -15
Saturation Adjustment Orange : -2
Saturation Adjustment Yellow : -20
Saturation Adjustment Green : -25
Saturation Adjustment Aqua : -5
Saturation Adjustment Blue : -20
Saturation Adjustment Purple : -30
Saturation Adjustment Magenta : -10
Luminance Adjustment Red : 0
Luminance Adjustment Orange : 0
Luminance Adjustment Yellow : -10
Luminance Adjustment Green : -15
Luminance Adjustment Aqua : 0
Luminance Adjustment Blue : -20
Luminance Adjustment Purple : 0
Luminance Adjustment Magenta : 0
Split Toning Shadow Hue : 65
Split Toning Shadow Saturation : 5
Split Toning Highlight Hue : 250
Split Toning Highlight Saturation : 5
Split Toning Balance : 0
Parametric Shadows : 0
Parametric Darks : 0
Parametric Lights : 0
Parametric Highlights : 0
Parametric Shadow Split : 25
Parametric Midtone Split : 50
Parametric Highlight Split : 75
Sharpen Radius : +1.0
Sharpen Detail : 25
Sharpen Edge Masking : 0
Post Crop Vignette Amount : 0
Grain Amount : 20
Grain Size : 30
Grain Frequency : 30
Color Noise Reduction Detail : 50
Lens Profile Enable : 0
Lens Manual Distortion Amount : 0
Perspective Vertical : 0
Perspective Horizontal : 0
Perspective Rotate : 0.0
Perspective Scale : 100
Perspective Aspect : 0
Perspective Upright : Off
Auto Lateral CA : 0
Exposure 2012 : +0.48
Contrast 2012 : 0
Highlights 2012 : -69
Shadows 2012 : +21
Whites 2012 : -10
Blacks 2012 : +25
Clarity 2012 : 0
Defringe Purple Amount : 0
Defringe Purple Hue Lo : 30
Defringe Purple Hue Hi : 70
Defringe Green Amount : 0
Defringe Green Hue Lo : 40
Defringe Green Hue Hi : 60
Convert To Grayscale : False
Tone Curve Name 2012 : Custom
Camera Profile : Agfa Scala 200 - SO
Lens Profile Setup : LensDefaults
Has Settings : True
Crop Top : 0.111036
Crop Left : 0.004844
Crop Bottom : 0.963616
Crop Right : 0.995156
Crop Angle : 0.495795
Crop Constrain To Warp : 0
Has Crop : True
Already Applied : True
Format : image/jpeg
Tone Curve PV2012 : 0, 32, 41, 57, 118, 121, 255, 249
Tone Curve PV2012 Red : 0, 6, 42, 21, 118, 127, 193, 202, 255, 255
Tone Curve PV2012 Green : 0, 5, 40, 22, 117, 125, 193, 202, 255, 255
Tone Curve PV2012 Blue : 0, 0, 45, 21, 122, 124, 194, 201, 255, 255
Image Width : 300
Image Height : 169
Bits Per Sample : 8
Color Components : 3
Aperture : 1.8
Image Size : 300x169
Megapixels : 0.051
Scale Factor To 35 mm Equivalent : 1.5
Shutter Speed : 1/200
Circle Of Confusion : 0.020 mm
Field Of View : 41.1 deg
Focal Length : 32.0 mm (35 mm equivalent: 48.0 mm)
Hyperfocal Distance : 28.40 m
Light Value : 6.3
Lens ID : E 32mm F1.8