Uber Exif Photo
Make : NIKON CORPORATION
Camera Model Name : NIKON D800
Software : Adobe Photoshop Camera Raw 6.7 (Windows)
Modify Date : 2013:11:28 11:37:43
Exposure Time : 1/80
F Number : 4.5
Exposure Program : Manual
ISO : 2000
Sensitivity Type : Recommended Exposure Index
Date/Time Original : 2013:11:16 17:53:02
Create Date : 2013:11:16 17:53:02
Shutter Speed Value : 1/80
Aperture Value : 4.5
Exposure Compensation : 0
Max Aperture Value : 1.4
Metering Mode : Multi-segment
Light Source : Unknown
Flash : Off, Did not fire
Focal Length : 85.0 mm
Sensing Method : One-chip color area
Scene Type : Directly photographed
CFA Pattern : [Red,Green][Green,Blue]
Custom Rendered : Normal
Exposure Mode : Manual
White Balance : Auto
Digital Zoom Ratio : 1
Focal Length In 35mm Format : 85 mm
Scene Capture Type : Standard
Gain Control : High gain up
Contrast : Normal
Saturation : Normal
Sharpness : Normal
Subject Distance Range : Unknown
Serial Number : 3015224
Lens Info : 85mm f/1.4
Lens Model : Zeiss Planar T* 1.4/85 ZF.2
Profile Description : sRGB IEC61966-2.1
Creator Tool : Adobe Photoshop Camera Raw 6.7 (Windows)
Label : Approved
Lens : Zeiss Planar T* 1.4/85 ZF.2
Image Number : 2497
Date Created : 2013:11:16 17:53:02.90
Format : image/jpeg
Raw File Name : _DSC4905.NEF
Version : 6.7
Process Version : 5.7
Color Temperature : 5250
Tint : -8
Exposure : -1.20
Shadows : 5
Brightness : +50
Luminance Smoothing : 21
Color Noise Reduction : 25
Vignette Amount : 0
Shadow Tint : 0
Red Hue : 0
Red Saturation : 0
Green Hue : 0
Green Saturation : 0
Blue Hue : 0
Blue Saturation : 0
Fill Light : 0
Vibrance : +13
Highlight Recovery : 0
Clarity : +11
Defringe : 0
Hue Adjustment Red : 0
Hue Adjustment Orange : 0
Hue Adjustment Yellow : 0
Hue Adjustment Green : 0
Hue Adjustment Aqua : 0
Hue Adjustment Blue : 0
Hue Adjustment Purple : 0
Hue Adjustment Magenta : 0
Saturation Adjustment Red : 0
Saturation Adjustment Orange : 0
Saturation Adjustment Yellow : 0
Saturation Adjustment Green : 0
Saturation Adjustment Aqua : 0
Saturation Adjustment Blue : 0
Saturation Adjustment Purple : 0
Saturation Adjustment Magenta : 0
Luminance Adjustment Red : 0
Luminance Adjustment Orange : 0
Luminance Adjustment Yellow : 0
Luminance Adjustment Green : 0
Luminance Adjustment Aqua : 0
Luminance Adjustment Blue : 0
Luminance Adjustment Purple : 0
Luminance Adjustment Magenta : 0
Split Toning Shadow Hue : 0
Split Toning Shadow Saturation : 0
Split Toning Highlight Hue : 0
Split Toning Highlight Saturation : 0
Split Toning Balance : 0
Parametric Shadows : 0
Parametric Darks : 0
Parametric Lights : 0
Parametric Highlights : 0
Parametric Shadow Split : 25
Parametric Midtone Split : 50
Parametric Highlight Split : 75
Sharpen Radius : +1.2
Sharpen Detail : 25
Sharpen Edge Masking : 31
Post Crop Vignette Amount : -32
Post Crop Vignette Midpoint : 50
Post Crop Vignette Feather : 50
Post Crop Vignette Roundness : 0
Post Crop Vignette Style : Highlight Priority
Post Crop Vignette Highlight Contrast : 0
Grain Amount : 0
Luminance Noise Reduction Detail : 50
Color Noise Reduction Detail : 50
Luminance Noise Reduction Contrast : 0
Lens Profile Enable : 1
Lens Manual Distortion Amount : 0
Perspective Vertical : 0
Perspective Horizontal : 0
Perspective Rotate : 0.0
Perspective Scale : 100
Auto Lateral CA : 0
Exposure 2012 : 0.00
Contrast 2012 : 0
Highlights 2012 : 0
Shadows 2012 : 0
Whites 2012 : 0
Blacks 2012 : 0
Clarity 2012 : 0
Convert To Grayscale : False
Tone Curve Name : Custom
Tone Curve Name 2012 : Linear
Camera Profile : Adobe Standard
Lens Profile Setup : LensDefaults
Lens Profile Name : Adobe (Zeiss Planar T* 1,4/85 ZF.2)
Lens Profile Filename : NIKON CORPORATION (Zeiss Planar T 1.4-85 ZF.2).lcp
Lens Profile Distortion Scale : 100
Lens Profile Chromatic Aberration Scale : 100
Lens Profile Vignetting Scale : 100
Has Settings : True
Has Crop : False
Already Applied : True
Tone Curve : 0, 0, 32, 22, 64, 56, 128, 128, 190, 209, 255, 255
Tone Curve Red : 0, 0, 255, 255
Tone Curve Green : 0, 0, 255, 255
Tone Curve Blue : 0, 0, 255, 255
Tone Curve PV2012 : 0, 0, 255, 255
Tone Curve PV2012 Red : 0, 0, 255, 255
Tone Curve PV2012 Green : 0, 0, 255, 255
Tone Curve PV2012 Blue : 0, 0, 255, 255
Image Width : 200
Image Height : 300
Bits Per Sample : 8
Color Components : 3
Aperture : 4.5
Image Size : 200x300
Megapixels : 0.060
Scale Factor To 35 mm Equivalent : 1.0
Shutter Speed : 1/80
Create Date : 2013:11:16 17:53:02.90
Date/Time Original : 2013:11:16 17:53:02.90
Circle Of Confusion : 0.030 mm
Field Of View : 23.9 deg
Focal Length : 85.0 mm (35 mm equivalent: 85.0 mm)
Hyperfocal Distance : 53.44 m
Light Value : 6.3