Uber Exif Photo
Make : SONY
Camera Model Name : DSC-RX100
Orientation : Horizontal (normal)
Software : Adobe Photoshop CS5 Macintosh
Modify Date : 2013:11:17 06:13:42
Exposure Time : 1/800
F Number : 2.2
Exposure Program : Aperture-priority AE
ISO : 80
Sensitivity Type : Recommended Exposure Index
Recommended Exposure Index : 80
Date/Time Original : 2013:11:16 23:46:38
Create Date : 2013:11:16 23:46:38
Shutter Speed Value : 1/800
Aperture Value : 2.2
Brightness Value : 7.88046875
Exposure Compensation : 0
Max Aperture Value : 1.8
Metering Mode : Multi-segment
Light Source : Shade
Flash : Off, Did not fire
Focal Length : 10.4 mm
Color Space : Uncalibrated
Exif Image Width : 1111
Exif Image Height : 742
Scene Type : Directly photographed
Custom Rendered : Normal
Exposure Mode : Auto
White Balance : Manual
Digital Zoom Ratio : 1
Focal Length In 35mm Format : 28 mm
Scene Capture Type : Standard
Contrast : Normal
Saturation : Normal
Sharpness : Normal
Lens Info : 10.4-37.1mm f/1.8-4.9
Lens Model : 28-100mm F1.8-4.9
Profile Description : Adobe RGB (1998)
Creator Tool : Adobe Photoshop CS5 Macintosh
Rating : 0
Lens : 28-100mm F1.8-4.9
Date Created : 2013:11:16 23:46:38
Color Mode : RGB
ICC Profile Name : Adobe RGB (1998)
Format : image/jpeg
Raw File Name : DSC00550.dng
Version : 6.6
Process Version : 5.7
Color Temperature : 6750
Tint : +10
Exposure : -0.65
Shadows : 5
Brightness : +50
Luminance Smoothing : 0
Color Noise Reduction : 25
Chromatic Aberration R : 0
Chromatic Aberration B : 0
Vignette Amount : 0
Shadow Tint : 0
Red Hue : 0
Red Saturation : 0
Green Hue : 0
Green Saturation : 0
Blue Hue : 0
Blue Saturation : 0
Fill Light : 0
Vibrance : 0
Highlight Recovery : 8
Clarity : 0
Defringe : 0
Hue Adjustment Red : 0
Hue Adjustment Orange : 0
Hue Adjustment Yellow : 0
Hue Adjustment Green : 0
Hue Adjustment Aqua : 0
Hue Adjustment Blue : 0
Hue Adjustment Purple : 0
Hue Adjustment Magenta : 0
Saturation Adjustment Red : 0
Saturation Adjustment Orange : 0
Saturation Adjustment Yellow : 0
Saturation Adjustment Green : 0
Saturation Adjustment Aqua : 0
Saturation Adjustment Blue : 0
Saturation Adjustment Purple : 0
Saturation Adjustment Magenta : 0
Luminance Adjustment Red : 0
Luminance Adjustment Orange : 0
Luminance Adjustment Yellow : 0
Luminance Adjustment Green : 0
Luminance Adjustment Aqua : 0
Luminance Adjustment Blue : 0
Luminance Adjustment Purple : 0
Luminance Adjustment Magenta : 0
Split Toning Shadow Hue : 0
Split Toning Shadow Saturation : 0
Split Toning Highlight Hue : 0
Split Toning Highlight Saturation : 0
Split Toning Balance : 0
Parametric Shadows : 0
Parametric Darks : 0
Parametric Lights : 0
Parametric Highlights : 0
Parametric Shadow Split : 25
Parametric Midtone Split : 50
Parametric Highlight Split : 75
Sharpen Radius : +0.9
Sharpen Detail : 40
Sharpen Edge Masking : 28
Post Crop Vignette Amount : 0
Grain Amount : 0
Color Noise Reduction Detail : 50
Lens Profile Enable : 0
Lens Manual Distortion Amount : 0
Perspective Vertical : 0
Perspective Horizontal : 0
Perspective Rotate : 0.0
Perspective Scale : 100
Convert To Grayscale : False
Tone Curve Name : Medium Contrast
Camera Profile : Adobe Standard
Lens Profile Setup : LensDefaults
Has Settings : True
Has Crop : False
Already Applied : True
Tone Curve : 0, 0, 32, 22, 64, 56, 128, 128, 192, 196, 255, 255
Image Width : 300
Image Height : 200
Bits Per Sample : 8
Color Components : 3
Aperture : 2.2
Image Size : 300x200
Megapixels : 0.060
Scale Factor To 35 mm Equivalent : 2.7
Shutter Speed : 1/800
Circle Of Confusion : 0.011 mm
Field Of View : 65.5 deg
Focal Length : 10.4 mm (35 mm equivalent: 28.0 mm)
Hyperfocal Distance : 4.41 m
Light Value : 12.2
Lens ID : 28-100mm F1.8-4.9