Uber Exif Photo
Object Name : Spiraling
Keywords : 03_Autoria, 04_Cidades, 05_Eventos, 06_Lentes, 07_Máquinas, 09_Países, 10_Pessoas, 12_Tipo de Fotografia, Carl Zeiss, Diogo Borges, Distagon 25/2.8 ZF.2, Distagon T* 2.8/25, EMILIA, Fotografia de Cena, Nikon D700, Porto, Portugal, Reportage, Reportagem, Set photography, ZF.2, filipe brandão
By-line : Filipe J S Brandão
Copyright Notice : ©2013 Filipe Brandão
Caption-Abstract : EMILIA Set photography - director and cinematographer walking the scene - Porto, Portugal
Copyright Flag : True
Image Description : EMILIA Set photography - director and cinematographer walking the scene - Porto, Portugal
Make : NIKON CORPORATION
Camera Model Name : NIKON D700
Software : Adobe Photoshop Lightroom 4.1 (Windows)
Modify Date : 2013:11:13 11:03:02
Artist : Filipe J S Brandão
Copyright : ©2013 Filipe Brandão
Exposure Time : 1/40
F Number : 3.5
Exposure Program : Aperture-priority AE
ISO : 3200
Date/Time Original : 2013:01:08 11:49:49
Create Date : 2013:01:08 11:49:49
Shutter Speed Value : 1/40
Aperture Value : 3.5
Exposure Compensation : 0
Max Aperture Value : 2.8
Metering Mode : Multi-segment
Light Source : Unknown
Flash : No Flash
Focal Length : 25.0 mm
Sensing Method : One-chip color area
Scene Type : Directly photographed
CFA Pattern : [Red,Green][Green,Blue]
Custom Rendered : Normal
Exposure Mode : Auto
White Balance : Auto
Digital Zoom Ratio : 1
Focal Length In 35mm Format : 25 mm
Scene Capture Type : Standard
Gain Control : High gain up
Contrast : Normal
Saturation : Normal
Sharpness : Normal
Subject Distance Range : Unknown
Serial Number : 2261265
Lens Info : 25mm f/2.8
Lens Model : Zeiss Distagon T* 2.8/25 ZF.2
Format : image/jpeg
Creator Tool : Adobe Photoshop Lightroom 4.1 (Windows)
Rating : 3
Lens : Zeiss Distagon T* 2.8/25 ZF.2
Image Number : 10068
Date Created : 2013:01:08 11:49:49.47
Marked : True
Version : 7.1
Process Version : 6.7
Color Temperature : 3350
Tint : -10
Luminance Smoothing : 4
Color Noise Reduction : 25
Vignette Amount : 0
Shadow Tint : 0
Red Hue : 0
Red Saturation : 0
Green Hue : 0
Green Saturation : 0
Blue Hue : 0
Blue Saturation : 0
Gray Mixer Red : -9
Gray Mixer Orange : -18
Gray Mixer Yellow : -22
Gray Mixer Green : -26
Gray Mixer Aqua : -17
Gray Mixer Blue : +10
Gray Mixer Purple : +15
Gray Mixer Magenta : +3
Split Toning Shadow Hue : 0
Split Toning Shadow Saturation : 0
Split Toning Highlight Hue : 0
Split Toning Highlight Saturation : 0
Split Toning Balance : 0
Parametric Shadows : 0
Parametric Darks : 0
Parametric Lights : 0
Parametric Highlights : 0
Parametric Shadow Split : 25
Parametric Midtone Split : 50
Parametric Highlight Split : 75
Sharpen Radius : +1.1
Sharpen Detail : 25
Sharpen Edge Masking : 11
Post Crop Vignette Amount : 0
Grain Amount : 0
Luminance Noise Reduction Detail : 50
Color Noise Reduction Detail : 50
Luminance Noise Reduction Contrast : 0
Lens Profile Enable : 0
Lens Manual Distortion Amount : 0
Perspective Vertical : 0
Perspective Horizontal : 0
Perspective Rotate : 0.0
Perspective Scale : 100
Auto Lateral CA : 0
Exposure 2012 : +0.36
Contrast 2012 : +19
Highlights 2012 : -12
Shadows 2012 : +2
Whites 2012 : -10
Blacks 2012 : 0
Clarity 2012 : +12
Convert To Grayscale : True
Tone Curve Name 2012 : Medium Contrast
Camera Profile : Adobe Standard
Lens Profile Setup : LensDefaults
Has Settings : True
Has Crop : False
Already Applied : True
Creator : Filipe J S Brandão
Title : Spiraling
Rights : ©2013 Filipe Brandão
Subject : 03_Autoria, 04_Cidades, 05_Eventos, 06_Lentes, 07_Máquinas, 09_Países, 10_Pessoas, 12_Tipo de Fotografia, Carl Zeiss, Diogo Borges, Distagon 25/2.8 ZF.2, Distagon T* 2.8/25, EMILIA, Fotografia de Cena, Nikon D700, Porto, Portugal, Reportage, Reportagem, Set photography, ZF.2, filipe brandão
Description : EMILIA Set photography - director and cinematographer walking the scene - Porto, Portugal
Creator Country : Portugal
Creator City : Porto
Creator Work Email : filipejsbrandao@yahoo.co.uk
Creator Work URL : www.flickr.com/photos/mustha
Tone Curve PV2012 : 0, 0, 32, 22, 64, 56, 128, 128, 192, 196, 255, 255
Tone Curve PV2012 Red : 0, 0, 255, 255
Tone Curve PV2012 Green : 0, 0, 255, 255
Tone Curve PV2012 Blue : 0, 0, 255, 255
Image Width : 300
Image Height : 200
Bits Per Sample : 8
Color Components : 1
Aperture : 3.5
Image Size : 300x200
Megapixels : 0.060
Scale Factor To 35 mm Equivalent : 1.0
Shutter Speed : 1/40
Create Date : 2013:01:08 11:49:49.47
Date/Time Original : 2013:01:08 11:49:49.47
Circle Of Confusion : 0.030 mm
Field Of View : 71.5 deg
Focal Length : 25.0 mm (35 mm equivalent: 25.0 mm)
Hyperfocal Distance : 5.94 m
Light Value : 3.9