Uber Exif Photo
Make : Nokia
Camera Model Name : 808 PureView
Software : Adobe Photoshop Lightroom 4.1 (Windows)
Modify Date : 2012:10:05 16:36:03
Exposure Time : 1/270
F Number : 2.4
ISO : 64
Date/Time Original : 2012:10:05 16:08:09
Create Date : 2012:10:05 16:08:09
Shutter Speed Value : 1/270
Aperture Value : 2.4
Exposure Compensation : 0
Light Source : Unknown
Flash : Auto, Did not fire
Focal Length : 8.0 mm
Custom Rendered : Custom
Exposure Mode : Auto
White Balance : Auto
Digital Zoom Ratio : 1.68
Scene Capture Type : Standard
Gain Control : Low gain up
Profile Description : sRGB IEC61966-2.1
Creator Tool : Adobe Photoshop Lightroom 4.1 (Windows)
Date Created : 2012:10:05 16:08:09.949
Format : image/jpeg
Version : 7.1
Process Version : 6.7
Incremental Temperature : +21
Incremental Tint : 0
Saturation : +9
Sharpness : 37
Luminance Smoothing : 0
Color Noise Reduction : 0
Vignette Amount : 0
Shadow Tint : 0
Red Hue : 0
Red Saturation : 0
Green Hue : 0
Green Saturation : 0
Blue Hue : 0
Blue Saturation : 0
Vibrance : +12
Hue Adjustment Red : 0
Hue Adjustment Orange : 0
Hue Adjustment Yellow : 0
Hue Adjustment Green : 0
Hue Adjustment Aqua : 0
Hue Adjustment Blue : 0
Hue Adjustment Purple : 0
Hue Adjustment Magenta : 0
Saturation Adjustment Red : 0
Saturation Adjustment Orange : 0
Saturation Adjustment Yellow : 0
Saturation Adjustment Green : 0
Saturation Adjustment Aqua : 0
Saturation Adjustment Blue : 0
Saturation Adjustment Purple : 0
Saturation Adjustment Magenta : 0
Luminance Adjustment Red : 0
Luminance Adjustment Orange : 0
Luminance Adjustment Yellow : 0
Luminance Adjustment Green : 0
Luminance Adjustment Aqua : 0
Luminance Adjustment Blue : 0
Luminance Adjustment Purple : 0
Luminance Adjustment Magenta : 0
Split Toning Shadow Hue : 0
Split Toning Shadow Saturation : 0
Split Toning Highlight Hue : 0
Split Toning Highlight Saturation : 0
Split Toning Balance : 0
Parametric Shadows : 0
Parametric Darks : 0
Parametric Lights : 0
Parametric Highlights : 0
Parametric Shadow Split : 25
Parametric Midtone Split : 50
Parametric Highlight Split : 75
Sharpen Radius : +1.0
Sharpen Detail : 25
Sharpen Edge Masking : 0
Post Crop Vignette Amount : 0
Grain Amount : 0
Lens Profile Enable : 0
Lens Manual Distortion Amount : 0
Perspective Vertical : 0
Perspective Horizontal : 0
Perspective Rotate : 0.0
Perspective Scale : 100
Auto Lateral CA : 0
Exposure 2012 : -0.24
Contrast 2012 : +24
Highlights 2012 : -90
Shadows 2012 : +100
Whites 2012 : +33
Blacks 2012 : +14
Clarity 2012 : +26
Defringe Purple Amount : 0
Defringe Purple Hue Lo : 30
Defringe Purple Hue Hi : 70
Defringe Green Amount : 0
Defringe Green Hue Lo : 40
Defringe Green Hue Hi : 60
Convert To Grayscale : False
Tone Curve Name 2012 : Linear
Camera Profile : Embedded
Lens Profile Setup : LensDefaults
Has Settings : True
Crop Top : 0.333334
Crop Left : 0
Crop Bottom : 1
Crop Right : 0.844574
Crop Angle : 0
Crop Constrain To Warp : 0
Crop Width : 2595
Crop Height : 1152
Crop Unit : pixels
Has Crop : True
Already Applied : True
Tone Curve PV2012 : 0, 0, 255, 255
Tone Curve PV2012 Red : 0, 0, 255, 255
Tone Curve PV2012 Green : 0, 0, 255, 255
Tone Curve PV2012 Blue : 0, 0, 255, 255
Image Width : 300
Image Height : 133
Bits Per Sample : 8
Color Components : 3
Aperture : 2.4
Image Size : 300x133
Megapixels : 0.040
Shutter Speed : 1/270
Create Date : 2012:10:05 16:08:09.949
Date/Time Original : 2012:10:05 16:08:09.949
Light Value : 11.2