Uber Exif Photo
Make : NIKON CORPORATION
Camera Model Name : NIKON D4
Software : Adobe Photoshop Lightroom 4.4 (Windows)
Modify Date : 2013:08:12 18:34:28
Exposure Time : 1/400
F Number : 8.0
Exposure Program : Aperture-priority AE
ISO : 160
Sensitivity Type : Recommended Exposure Index
Date/Time Original : 2013:08:09 09:45:14
Create Date : 2013:08:09 09:45:14
Shutter Speed Value : 1/400
Aperture Value : 8.0
Exposure Compensation : -1/2
Max Aperture Value : 2.8
Metering Mode : Multi-segment
Light Source : Unknown
Flash : No Flash
Focal Length : 21.0 mm
Sensing Method : One-chip color area
Scene Type : Directly photographed
CFA Pattern : [Red,Green][Green,Blue]
Custom Rendered : Normal
Exposure Mode : Auto
White Balance : Auto
Digital Zoom Ratio : 1
Focal Length In 35mm Format : 21 mm
Scene Capture Type : Standard
Gain Control : None
Contrast : Normal
Saturation : Normal
Sharpness : Normal
Subject Distance Range : Unknown
Serial Number : 2017489
Lens Info : 21mm f/2.8
Lens Model : Zeiss Distagon T* 2.8/21 ZF.2
Profile Description : sRGB IEC61966-2.1
Creator Tool : Adobe Photoshop Lightroom 4.4 (Windows)
Lens : Zeiss Distagon T* 2.8/21 ZF.2
Image Number : 8479
Date Created : 2013:08:09 09:45:14.70
Format : image/jpeg
Version : 7.4
Process Version : 6.7
Incremental Temperature : +5
Incremental Tint : 0
Luminance Smoothing : 0
Color Noise Reduction : 0
Vignette Amount : 0
Shadow Tint : 0
Red Hue : 0
Red Saturation : 0
Green Hue : 0
Green Saturation : 0
Blue Hue : 0
Blue Saturation : 0
Vibrance : 0
Hue Adjustment Red : 0
Hue Adjustment Orange : 0
Hue Adjustment Yellow : 0
Hue Adjustment Green : 0
Hue Adjustment Aqua : 0
Hue Adjustment Blue : 0
Hue Adjustment Purple : 0
Hue Adjustment Magenta : 0
Saturation Adjustment Red : 0
Saturation Adjustment Orange : 0
Saturation Adjustment Yellow : 0
Saturation Adjustment Green : 0
Saturation Adjustment Aqua : 0
Saturation Adjustment Blue : 0
Saturation Adjustment Purple : 0
Saturation Adjustment Magenta : 0
Luminance Adjustment Red : 0
Luminance Adjustment Orange : 0
Luminance Adjustment Yellow : 0
Luminance Adjustment Green : 0
Luminance Adjustment Aqua : 0
Luminance Adjustment Blue : 0
Luminance Adjustment Purple : 0
Luminance Adjustment Magenta : 0
Split Toning Shadow Hue : 0
Split Toning Shadow Saturation : 0
Split Toning Highlight Hue : 0
Split Toning Highlight Saturation : 0
Split Toning Balance : 0
Parametric Shadows : 0
Parametric Darks : 0
Parametric Lights : 0
Parametric Highlights : 0
Parametric Shadow Split : 25
Parametric Midtone Split : 50
Parametric Highlight Split : 75
Sharpen Radius : +1.0
Sharpen Detail : 25
Sharpen Edge Masking : 0
Post Crop Vignette Amount : 0
Grain Amount : 0
Lens Profile Enable : 0
Lens Manual Distortion Amount : 0
Perspective Vertical : 0
Perspective Horizontal : 0
Perspective Rotate : 0.0
Perspective Scale : 100
Auto Lateral CA : 0
Exposure 2012 : +0.12
Contrast 2012 : +19
Highlights 2012 : -7
Shadows 2012 : 0
Whites 2012 : 0
Blacks 2012 : 0
Clarity 2012 : 0
Defringe Purple Amount : 0
Defringe Purple Hue Lo : 30
Defringe Purple Hue Hi : 70
Defringe Green Amount : 0
Defringe Green Hue Lo : 40
Defringe Green Hue Hi : 60
Convert To Grayscale : False
Tone Curve Name 2012 : Linear
Camera Profile : Embedded
Lens Profile Setup : LensDefaults
Has Settings : True
Crop Top : 0.057269
Crop Left : 0
Crop Bottom : 1
Crop Right : 0.985337
Crop Angle : 0
Crop Constrain To Warp : 0
Crop Width : 2170
Crop Height : 1382
Crop Unit : pixels
Has Crop : True
Already Applied : True
Tone Curve PV2012 : 0, 0, 255, 255
Tone Curve PV2012 Red : 0, 0, 255, 255
Tone Curve PV2012 Green : 0, 0, 255, 255
Tone Curve PV2012 Blue : 0, 0, 255, 255
Image Width : 300
Image Height : 191
Bits Per Sample : 8
Color Components : 3
Aperture : 8.0
Image Size : 300x191
Megapixels : 0.057
Scale Factor To 35 mm Equivalent : 1.0
Shutter Speed : 1/400
Create Date : 2013:08:09 09:45:14.70
Date/Time Original : 2013:08:09 09:45:14.70
Circle Of Confusion : 0.030 mm
Field Of View : 81.2 deg
Focal Length : 21.0 mm (35 mm equivalent: 21.0 mm)
Hyperfocal Distance : 1.83 m
Light Value : 14.0