Uber Exif Photo
By-line : Copyright Lloyd Gagnon 2013
Make : Canon
Camera Model Name : Canon EOS 5D
Software : Adobe Photoshop Lightroom 4.4 (Windows)
Modify Date : 2013:08:31 15:09:49
Artist : Copyright Lloyd Gagnon 2013
Exposure Time : 1/160
F Number : 13.0
Exposure Program : Aperture-priority AE
ISO : 1600
Date/Time Original : 2013:08:31 10:08:15
Create Date : 2013:08:31 10:08:15
Shutter Speed Value : 1/160
Aperture Value : 13.0
Exposure Compensation : +2/3
Max Aperture Value : 2.0
Metering Mode : Multi-segment
Flash : Off, Did not fire
Focal Length : 50.0 mm
Custom Rendered : Normal
Exposure Mode : Auto bracket
White Balance : Auto
Scene Capture Type : Standard
Owner Name : Copyright Lloyd Gagnon 2013
Serial Number : 1220800464
Lens Info : 50mm f/?
Lens Model : 50.0 mm
Profile Description : sRGB IEC61966-2.1
Format : image/jpeg
Lens : 50.0 mm
Image Number : 24
Flash Compensation : 0
Firmware : 1.1.1
Rating : 3
Creator Tool : Adobe Photoshop Lightroom 4.4 (Windows)
Date Created : 2013:08:31 10:08:15
Version : 7.4
Process Version : 6.7
Color Temperature : 4400
Tint : -3
Saturation : 0
Sharpness : 71
Luminance Smoothing : 43
Color Noise Reduction : 25
Vignette Amount : 0
Shadow Tint : 0
Red Hue : 0
Red Saturation : 0
Green Hue : 0
Green Saturation : 0
Blue Hue : 0
Blue Saturation : 0
Vibrance : +17
Hue Adjustment Red : 0
Hue Adjustment Orange : 0
Hue Adjustment Yellow : 0
Hue Adjustment Green : 0
Hue Adjustment Aqua : 0
Hue Adjustment Blue : 0
Hue Adjustment Purple : 0
Hue Adjustment Magenta : 0
Saturation Adjustment Red : 0
Saturation Adjustment Orange : 0
Saturation Adjustment Yellow : 0
Saturation Adjustment Green : 0
Saturation Adjustment Aqua : 0
Saturation Adjustment Blue : 0
Saturation Adjustment Purple : 0
Saturation Adjustment Magenta : 0
Luminance Adjustment Red : 0
Luminance Adjustment Orange : 0
Luminance Adjustment Yellow : 0
Luminance Adjustment Green : 0
Luminance Adjustment Aqua : 0
Luminance Adjustment Blue : 0
Luminance Adjustment Purple : 0
Luminance Adjustment Magenta : 0
Split Toning Shadow Hue : 0
Split Toning Shadow Saturation : 0
Split Toning Highlight Hue : 0
Split Toning Highlight Saturation : 0
Split Toning Balance : 0
Parametric Shadows : +13
Parametric Darks : +7
Parametric Lights : -11
Parametric Highlights : -24
Parametric Shadow Split : 25
Parametric Midtone Split : 50
Parametric Highlight Split : 75
Sharpen Radius : +0.8
Sharpen Detail : 25
Sharpen Edge Masking : 0
Post Crop Vignette Amount : -38
Post Crop Vignette Midpoint : 50
Post Crop Vignette Feather : 50
Post Crop Vignette Roundness : 0
Post Crop Vignette Style : Highlight Priority
Post Crop Vignette Highlight Contrast : 0
Grain Amount : 0
Luminance Noise Reduction Detail : 60
Color Noise Reduction Detail : 50
Luminance Noise Reduction Contrast : 0
Lens Profile Enable : 1
Lens Manual Distortion Amount : 0
Perspective Vertical : 0
Perspective Horizontal : 0
Perspective Rotate : 0.0
Perspective Scale : 100
Auto Lateral CA : 0
Exposure 2012 : +0.80
Contrast 2012 : +10
Highlights 2012 : -21
Shadows 2012 : 0
Whites 2012 : +31
Blacks 2012 : -31
Clarity 2012 : +33
Defringe Purple Amount : 0
Defringe Purple Hue Lo : 30
Defringe Purple Hue Hi : 70
Defringe Green Amount : 0
Defringe Green Hue Lo : 40
Defringe Green Hue Hi : 60
Convert To Grayscale : False
Tone Curve Name 2012 : Linear
Camera Profile : Adobe Standard
Lens Profile Setup : Custom
Lens Profile Name : Adobe (Zeiss Makro-Planar T* 2/50 ZE)
Lens Profile Filename : Canon (Zeiss Makro-Planar T 50 f2 ZE).lcp
Lens Profile Distortion Scale : 100
Lens Profile Chromatic Aberration Scale : 100
Lens Profile Vignetting Scale : 100
Has Settings : True
Crop Top : 0
Crop Left : 0.173784
Crop Bottom : 0.871234
Crop Right : 0.899812
Crop Angle : 0
Crop Constrain To Warp : 0
Crop Width : 1000
Crop Height : 800
Crop Unit : pixels
Has Crop : True
Already Applied : True
Creator : Copyright Lloyd Gagnon 2013
Tone Curve PV2012 : 0, 0, 255, 255
Tone Curve PV2012 Red : 0, 0, 255, 255
Tone Curve PV2012 Green : 0, 0, 255, 255
Tone Curve PV2012 Blue : 0, 0, 255, 255
Image Width : 300
Image Height : 240
Bits Per Sample : 8
Color Components : 3
Aperture : 13.0
Image Size : 300x240
Megapixels : 0.072
Scale Factor To 35 mm Equivalent : 1.0
Shutter Speed : 1/160
Circle Of Confusion : 0.030 mm
Field Of View : 39.5 deg
Focal Length : 50.0 mm (35 mm equivalent: 50.1 mm)
Hyperfocal Distance : 6.41 m
Light Value : 10.7
Lens ID : Carl Zeiss Makro-Planar T* 50mm f/2 ZE