Uber Exif Photo
Object Name : Aspinall Livingstone Lodge African Safari Experience
Keywords : 300mmf4, Aspinall, Aspinall Foundation, Canon 6D, Contax Zeiss, Port Lympne, Safari
By-line : Ben Scott
Copyright Notice : All rights reserved
Caption-Abstract : Livingstone Lodge African Safari
Image Description : Livingstone Lodge African Safari
Make : Canon
Camera Model Name : Canon EOS 6D
Software : Adobe Photoshop Lightroom 4.3 (Windows)
Modify Date : 2013:06:04 00:17:25
Artist : Ben Scott
Copyright : All rights reserved
Exposure Time : 1/320
Exposure Program : Manual
ISO : 400
Sensitivity Type : Recommended Exposure Index
Recommended Exposure Index : 400
Date/Time Original : 2013:05:22 15:26:11
Create Date : 2013:05:22 15:26:11
Shutter Speed Value : 1/320
Exposure Compensation : 0
Metering Mode : Center-weighted average
Flash : Off, Did not fire
Custom Rendered : Normal
Exposure Mode : Manual
White Balance : Manual
Scene Capture Type : Standard
Serial Number : 048024003345
Lens Serial Number : 0000000000
Profile Description : sRGB IEC61966-2.1
Creator Tool : Adobe Photoshop Lightroom 4.3 (Windows)
Format : image/jpeg
Image Number : 0
Flash Compensation : 0
Firmware : 1.1.3
Date Created : 2013:05:22 15:26:11.47
Version : 7.3
Process Version : 6.7
Color Temperature : 5550
Tint : +8
Saturation : -31
Sharpness : 77
Luminance Smoothing : 20
Color Noise Reduction : 66
Vignette Amount : 0
Shadow Tint : 0
Red Hue : 0
Red Saturation : 0
Green Hue : 0
Green Saturation : 0
Blue Hue : 0
Blue Saturation : 0
Vibrance : +36
Hue Adjustment Red : 0
Hue Adjustment Orange : 0
Hue Adjustment Yellow : 0
Hue Adjustment Green : 0
Hue Adjustment Aqua : 0
Hue Adjustment Blue : 0
Hue Adjustment Purple : 0
Hue Adjustment Magenta : 0
Saturation Adjustment Red : 0
Saturation Adjustment Orange : 0
Saturation Adjustment Yellow : 0
Saturation Adjustment Green : 0
Saturation Adjustment Aqua : 0
Saturation Adjustment Blue : 0
Saturation Adjustment Purple : 0
Saturation Adjustment Magenta : 0
Luminance Adjustment Red : 0
Luminance Adjustment Orange : 0
Luminance Adjustment Yellow : 0
Luminance Adjustment Green : 0
Luminance Adjustment Aqua : 0
Luminance Adjustment Blue : 0
Luminance Adjustment Purple : 0
Luminance Adjustment Magenta : 0
Split Toning Shadow Hue : 0
Split Toning Shadow Saturation : 0
Split Toning Highlight Hue : 0
Split Toning Highlight Saturation : 0
Split Toning Balance : 0
Parametric Shadows : 0
Parametric Darks : 0
Parametric Lights : 0
Parametric Highlights : 0
Parametric Shadow Split : 25
Parametric Midtone Split : 50
Parametric Highlight Split : 75
Sharpen Radius : +1.0
Sharpen Detail : 25
Sharpen Edge Masking : 0
Post Crop Vignette Amount : -24
Post Crop Vignette Midpoint : 50
Post Crop Vignette Feather : 50
Post Crop Vignette Roundness : 0
Post Crop Vignette Style : Highlight Priority
Post Crop Vignette Highlight Contrast : 0
Grain Amount : 0
Luminance Noise Reduction Detail : 50
Color Noise Reduction Detail : 50
Luminance Noise Reduction Contrast : 0
Lens Profile Enable : 0
Lens Manual Distortion Amount : 0
Perspective Vertical : 0
Perspective Horizontal : 0
Perspective Rotate : 0.0
Perspective Scale : 100
Auto Lateral CA : 1
Exposure 2012 : 0.00
Contrast 2012 : +13
Highlights 2012 : 0
Shadows 2012 : 0
Whites 2012 : +40
Blacks 2012 : -62
Clarity 2012 : +33
Defringe Purple Amount : 0
Defringe Purple Hue Lo : 30
Defringe Purple Hue Hi : 70
Defringe Green Amount : 0
Defringe Green Hue Lo : 40
Defringe Green Hue Hi : 60
Convert To Grayscale : False
Tone Curve Name 2012 : Custom
Camera Profile : Adobe Standard
Lens Profile Setup : LensDefaults
Has Settings : True
Crop Top : 0
Crop Left : 0.031746
Crop Bottom : 0.921876
Crop Right : 1
Crop Angle : 0
Crop Constrain To Warp : 0
Crop Width : 1701
Crop Height : 1080
Crop Unit : pixels
Has Crop : True
Already Applied : True
Creator : Ben Scott
Title : Aspinall Livingstone Lodge African Safari Experience
Rights : All rights reserved
Subject : 300mmf4, Aspinall, Aspinall Foundation, Canon 6D, Contax Zeiss, Port Lympne, Safari
Description : Livingstone Lodge African Safari
Tone Curve PV2012 : 0, 0, 17, 26, 34, 44, 51, 60, 68, 74, 85, 89, 102, 105, 119, 120, 136, 135, 153, 151, 170, 167, 187, 183, 204, 200, 221, 218, 238, 236, 255, 255
Tone Curve PV2012 Red : 0, 0, 255, 255
Tone Curve PV2012 Green : 0, 0, 255, 255
Tone Curve PV2012 Blue : 0, 0, 255, 255
Image Width : 300
Image Height : 190
Bits Per Sample : 8
Color Components : 3
Image Size : 300x190
Megapixels : 0.057
Scale Factor To 35 mm Equivalent : 18.5
Shutter Speed : 1/320
Create Date : 2013:05:22 15:26:11.47
Date/Time Original : 2013:05:22 15:26:11.47
Circle Of Confusion : 0.002 mm