Uber Exif Photo
By-line : SvyatLypynskyy www.lipik.com.ua
Photometric Interpretation : RGB
Make : Canon
Camera Model Name : Canon EOS-1Ds Mark III
Orientation : Horizontal (normal)
Samples Per Pixel : 3
Software : Adobe Photoshop CS6 (Windows)
Modify Date : 2013:04:15 22:45:37
Artist : SvyatLypynskyy www.lipik.com.ua
Exposure Time : 1/50
F Number : 11.0
Exposure Program : Aperture-priority AE
ISO : 125
Date/Time Original : 2013:04:14 16:59:56
Create Date : 2013:04:14 16:59:56
Shutter Speed Value : 1/50
Aperture Value : 11.0
Exposure Compensation : +5/3
Max Aperture Value : 2.0
Metering Mode : Spot
Flash : Off, Did not fire
Focal Length : 35.0 mm
Color Space : sRGB
Exif Image Width : 5287
Exif Image Height : 3320
Custom Rendered : Normal
Exposure Mode : Auto
White Balance : Auto
Scene Capture Type : Standard
Owner Name : SvyatLypynskyy www.lipik.com.ua
Serial Number : 602019
Lens Info : 35mm f/?
Lens Model : Zeiss Distagon T* 2/35 ZE
Profile Description : sRGB IEC61966-2.1
Format : image/jpeg
Lens : Zeiss Distagon T* 2/35 ZE
Image Number : 0
Flash Compensation : 0
Firmware : 1.1.4
Rating : 0
Creator Tool : Adobe Photoshop CS6 (Windows)
Date Created : 2013:04:14 16:59:56
Color Mode : RGB
ICC Profile Name : sRGB IEC61966-2.1
Raw File Name : AAAA9958.CR2
Version : 7.3
Process Version : 6.7
Color Temperature : 5600
Tint : +2
Saturation : 0
Sharpness : 25
Luminance Smoothing : 0
Color Noise Reduction : 25
Vignette Amount : 0
Shadow Tint : 0
Red Hue : 0
Red Saturation : 0
Green Hue : 0
Green Saturation : 0
Blue Hue : 0
Blue Saturation : 0
Vibrance : +53
Hue Adjustment Red : 0
Hue Adjustment Orange : 0
Hue Adjustment Yellow : 0
Hue Adjustment Green : 0
Hue Adjustment Aqua : 0
Hue Adjustment Blue : 0
Hue Adjustment Purple : 0
Hue Adjustment Magenta : 0
Saturation Adjustment Red : 0
Saturation Adjustment Orange : 0
Saturation Adjustment Yellow : 0
Saturation Adjustment Green : 0
Saturation Adjustment Aqua : 0
Saturation Adjustment Blue : 0
Saturation Adjustment Purple : 0
Saturation Adjustment Magenta : 0
Luminance Adjustment Red : 0
Luminance Adjustment Orange : 0
Luminance Adjustment Yellow : 0
Luminance Adjustment Green : 0
Luminance Adjustment Aqua : 0
Luminance Adjustment Blue : 0
Luminance Adjustment Purple : 0
Luminance Adjustment Magenta : 0
Split Toning Shadow Hue : 0
Split Toning Shadow Saturation : 0
Split Toning Highlight Hue : 0
Split Toning Highlight Saturation : 0
Split Toning Balance : 0
Parametric Shadows : 0
Parametric Darks : 0
Parametric Lights : 0
Parametric Highlights : 0
Parametric Shadow Split : 25
Parametric Midtone Split : 50
Parametric Highlight Split : 75
Sharpen Radius : +1.0
Sharpen Detail : 25
Sharpen Edge Masking : 0
Post Crop Vignette Amount : 0
Grain Amount : 0
Color Noise Reduction Detail : 50
Lens Profile Enable : 0
Lens Manual Distortion Amount : 0
Perspective Vertical : 0
Perspective Horizontal : 0
Perspective Rotate : 0.0
Perspective Scale : 100
Auto Lateral CA : 0
Exposure 2012 : -2.60
Contrast 2012 : 0
Highlights 2012 : -11
Shadows 2012 : +68
Whites 2012 : 0
Blacks 2012 : +48
Clarity 2012 : +23
Defringe Purple Amount : 0
Defringe Purple Hue Lo : 30
Defringe Purple Hue Hi : 70
Defringe Green Amount : 0
Defringe Green Hue Lo : 40
Defringe Green Hue Hi : 60
Convert To Grayscale : False
Tone Curve Name 2012 : Linear
Camera Profile : Adobe Standard
Lens Profile Setup : LensDefaults
Has Settings : True
Has Crop : False
Already Applied : True
Creator : SvyatLypynskyy www.lipik.com.ua
Tone Curve PV2012 : 0, 0, 255, 255
Tone Curve PV2012 Red : 0, 0, 255, 255
Tone Curve PV2012 Green : 0, 0, 255, 255
Tone Curve PV2012 Blue : 0, 0, 255, 255
Paint Correction What : Correction
Paint Correction Amount : 1.000000
Paint Correction Active : true
Paint Correction Exposure : 0.000000
Paint Correction Saturation : 0.070000
Paint Correction Contrast : 0.000000
Paint Correction Clarity : 0.000000
Paint Correction Sharpness : -0.100000
Paint Correction Brightness : 0.000000
Paint Correction Toning Hue : 0.000000
Paint Correction Toning Saturation : 0.000000
Paint Correction Exposure 2012 : 0.062500
Paint Correction Contrast 2012 : -0.270000
Paint Correction Highlights 2012 : -0.830000
Paint Correction Shadows 2012 : 0.800000
Paint Correction Clarity 2012 : 0.080000
Paint Correction Luminance Noise : 0.590000
Paint Correction Moire : -1.000000
Paint Correction Defringe : -0.070000
Paint Correction Temperature : 0.190000
Paint Correction Tint : 0.110000
Paint Correction Mask What : Mask/Paint
Paint Correction Mask Value : 0.450000
Paint Correction Mask Radius : 0.063218
Paint Correction Mask Flow : 0.888889
Paint Correction Mask Center Weight : 0.168881
Gradient Based Corr What : Correction
Gradient Based Corr Amount : 1.000000
Gradient Based Corr Active : true
Gradient Based Corr Exposure : 0.000000
Gradient Based Corr Saturation : 0.070000
Gradient Based Corr Contrast : 0.000000
Gradient Based Corr Clarity : 0.000000
Gradient Based Corr Sharpness : -0.100000
Gradient Based Corr Brightness : 0.000000
Gradient Based Corr Toning Hue : 0.000000
Gradient Based Corr Toning Saturation : 0.000000
Gradient Based Corr Exposure 2012 : 0.175000
Gradient Based Corr Contrast 2012 : -0.270000
Gradient Based Corr Highlights 2012 : 0.450000
Gradient Based Corr Shadows 2012 : -0.160000
Gradient Based Corr Clarity 2012 : 0.080000
Gradient Based Corr Luminance Noise : 0.590000
Gradient Based Corr Moire : -1.000000
Gradient Based Corr Defringe : -0.070000
Gradient Based Corr Temperature : 0.190000
Gradient Based Corr Tint : 0.110000
Gradient Based Corr Mask What : Mask/Gradient
Gradient Based Corr Mask Value : 1.000000
Gradient Based Corr Mask Zero X : 0.453737
Gradient Based Corr Mask Zero Y : 0.575062
Gradient Based Corr Mask Full X : 0.452381
Gradient Based Corr Mask Full Y : 0.645767
Image Width : 300
Image Height : 188
Bits Per Sample : 8
Color Components : 3
Aperture : 11.0
Image Size : 300x188
Megapixels : 0.056
Scale Factor To 35 mm Equivalent : 1.0
Shutter Speed : 1/50
Create Date : 2013:04:14 16:59:56.00
Date/Time Original : 2013:04:14 16:59:56.00
Modify Date : 2013:04:15 22:45:37.00
Circle Of Confusion : 0.030 mm
Field Of View : 54.5 deg
Focal Length : 35.0 mm (35 mm equivalent: 35.0 mm)
Hyperfocal Distance : 3.70 m
Light Value : 12.2
Lens ID : Carl Zeiss Distagon T* 35mm f/2 ZE