Uber Exif Photo
Date Created : 2013:03:02
Make : SONY
Camera Model Name : NEX-7
Orientation : Horizontal (normal)
Software : Adobe Photoshop CS6 (Windows)
Modify Date : 2013:03:03 16:10:44
Artist : Wojciech Zielinski
Copyright : 03.03.2013
Exposure Time : 1/40
F Number : 2.0
Exposure Program : Manual
ISO : 400
Sensitivity Type : Recommended Exposure Index
Recommended Exposure Index : 400
Date/Time Original : 2013:03:02 19:24:53
Create Date : 2013:03:02 19:24:53
Shutter Speed Value : 1/40
Aperture Value : 2.0
Brightness Value : -4.08828125
Exposure Compensation : 0
Max Aperture Value : 1.0
Metering Mode : Center-weighted average
Light Source : Unknown
Flash : Off, Did not fire
Color Space : Adobe RGB
Exif Image Width : 6000
Exif Image Height : 4000
Scene Type : Directly photographed
Custom Rendered : Normal
Exposure Mode : Manual
White Balance : Auto
Scene Capture Type : Standard
Contrast : Low
Saturation : Low
Sharpness : Hard
Lens Model : ----
Profile Description : Adobe RGB (1998)
Local Clarity 2012 : 0.000000
Local Contrast : 0.000000
Local Contrast 2012 : 0.000000
Local Exposure : 0.000000
Local Exposure 2012 : -0.100000
Local Highlights 2012 : 0.000000
Local Luminance Noise : 0.000000
Local Moire : 0.000000
Local Saturation : -1.000000
Local Shadows 2012 : 0.000000
Local Sharpness : 0.000000
Local Temperature : 0.000000
Local Tint : 0.000000
Local Toning Hue : 0.000000
Local Toning Saturation : 0.000000
Correction Active : true
Correction Amount : 1.000000
Correction Masks Center Weight : 0.000000
Correction Masks Flow : 0.888889
Correction Masks Mask Value : 1.000000
Correction Masks Radius : 0.003441
Correction Masks What : Mask/Paint
Local Brightness : 0.000000
Local Clarity : 0.000000
What : Correction
Parametric Darks : 0
Parametric Highlight Split : 75
Parametric Highlights : 0
Parametric Lights : 0
Parametric Midtone Split : 50
Parametric Shadow Split : 25
Parametric Shadows : 0
Perspective Horizontal : 0
Perspective Rotate : -0.1
Perspective Scale : 100
Perspective Vertical : -5
Post Crop Vignette Amount : 0
Process Version : 6.7
Raw File Name : _DSC8190.ARW
Red Hue : 0
Red Saturation : 0
Saturation Adjustment Aqua : 0
Saturation Adjustment Blue : 0
Saturation Adjustment Green : 0
Saturation Adjustment Magenta : 0
Saturation Adjustment Orange : 0
Saturation Adjustment Purple : 0
Saturation Adjustment Red : 0
Saturation Adjustment Yellow : 0
Shadow Tint : 0
Shadows : 5
Shadows 2012 : +35
Sharpen Detail : 25
Sharpen Edge Masking : 100
Sharpen Radius : +1.0
Split Toning Balance : 0
Split Toning Highlight Hue : 0
Split Toning Highlight Saturation : 0
Split Toning Shadow Hue : 0
Split Toning Shadow Saturation : 0
Color Temperature : 3000
Tint : +2
Tone Curve : 0, 0, 32, 22, 64, 56, 128, 128, 192, 196, 255, 255
Tone Curve Blue : 0, 0, 255, 255
Tone Curve Green : 0, 0, 255, 255
Tone Curve Name : Medium Contrast
Tone Curve Name 2012 : Linear
Tone Curve PV2012 : 0, 0, 255, 255
Tone Curve PV2012 Blue : 0, 0, 255, 255
Tone Curve PV2012 Green : 0, 0, 255, 255
Tone Curve PV2012 Red : 0, 0, 255, 255
Tone Curve Red : 0, 0, 255, 255
Version : 7.0
Vibrance : 0
Vignette Amount : 0
Whites 2012 : +8
Image Width : 300
Image Height : 200
Bits Per Sample : 8
Color Components : 3
Aperture : 2.0
Image Size : 300x200
Megapixels : 0.060
Scale Factor To 35 mm Equivalent : 1.5
Shutter Speed : 1/40
Circle Of Confusion : 0.020 mm
Light Value : 5.3