Uber Exif Photo
Date Created : 2013:03:02
Make : SONY
Camera Model Name : NEX-7
Orientation : Horizontal (normal)
Software : Adobe Photoshop CS6 (Windows)
Modify Date : 2013:03:03 00:21:01
Artist : Wojciech Zielinski
Copyright : 03.03.2013
Exposure Time : 1/25
F Number : 2.0
Exposure Program : Manual
ISO : 200
Sensitivity Type : Recommended Exposure Index
Recommended Exposure Index : 200
Date/Time Original : 2013:03:02 19:14:19
Create Date : 2013:03:02 19:14:19
Shutter Speed Value : 1/25
Aperture Value : 2.0
Brightness Value : -5.22890625
Exposure Compensation : 0
Max Aperture Value : 1.4
Metering Mode : Center-weighted average
Light Source : Unknown
Flash : Off, Did not fire
Focal Length : 35.0 mm
Color Space : Adobe RGB
Exif Image Width : 4500
Exif Image Height : 3000
Scene Type : Directly photographed
Custom Rendered : Normal
Exposure Mode : Manual
White Balance : Auto
Focal Length In 35mm Format : 53 mm
Scene Capture Type : Standard
Contrast : Low
Saturation : Low
Sharpness : Hard
Lens Info : 35mm f/1.4
Lens Model : Carl Zeiss Distagon 1.4/35 ZF.2
Profile Description : Adobe RGB (1998)
Flow : 0.888889
Mask Value : 1.000000
Radius : 0.001923
Center Weight : 0.000000
Local Brightness : 0.000000
Local Clarity : 0.000000
Local Clarity 2012 : 0.000000
Local Contrast : 0.000000
Local Contrast 2012 : 0.000000
Local Exposure : 0.000000
Local Exposure 2012 : -0.150000
Local Highlights 2012 : 0.000000
Local Luminance Noise : 0.000000
Local Moire : 0.000000
Local Saturation : -1.000000
Local Shadows 2012 : 0.000000
Local Sharpness : 0.000000
Local Temperature : 0.000000
Local Tint : 0.000000
Local Toning Hue : 0.000000
Local Toning Saturation : 0.000000
Correction Active : true
Correction Amount : 1.000000
Correction Masks Center Weight : 0.000000
Correction Masks Flow : 0.888889
Correction Masks Mask Value : 1.000000
Correction Masks Radius : 0.002537
Correction Masks What : Mask/Paint
What : Correction
Parametric Darks : 0
Parametric Highlight Split : 75
Parametric Highlights : 0
Parametric Lights : 0
Parametric Midtone Split : 50
Parametric Shadow Split : 25
Parametric Shadows : 0
Perspective Horizontal : 0
Perspective Rotate : -0.9
Perspective Scale : 100
Perspective Vertical : -5
Post Crop Vignette Amount : 0
Process Version : 6.7
Raw File Name : _DSC8141.ARW
Red Hue : 0
Red Saturation : 0
Saturation Adjustment Aqua : 0
Saturation Adjustment Blue : 0
Saturation Adjustment Green : 0
Saturation Adjustment Magenta : 0
Saturation Adjustment Orange : 0
Saturation Adjustment Purple : 0
Saturation Adjustment Red : 0
Saturation Adjustment Yellow : 0
Shadow Tint : 0
Shadows : 5
Shadows 2012 : 0
Sharpen Detail : 25
Sharpen Edge Masking : 100
Sharpen Radius : +1.0
Split Toning Balance : 0
Split Toning Highlight Hue : 0
Split Toning Highlight Saturation : 0
Split Toning Shadow Hue : 0
Split Toning Shadow Saturation : 0
Color Temperature : 2850
Tint : +4
Tone Curve : 0, 0, 32, 22, 64, 56, 128, 128, 192, 196, 255, 255
Tone Curve Blue : 0, 0, 255, 255
Tone Curve Green : 0, 0, 255, 255
Tone Curve Name : Medium Contrast
Tone Curve Name 2012 : Linear
Tone Curve PV2012 : 0, 0, 255, 255
Tone Curve PV2012 Blue : 0, 0, 255, 255
Tone Curve PV2012 Green : 0, 0, 255, 255
Tone Curve PV2012 Red : 0, 0, 255, 255
Tone Curve Red : 0, 0, 255, 255
Version : 7.0
Vibrance : 0
Vignette Amount : 0
Whites 2012 : 0
Image Width : 300
Image Height : 200
Bits Per Sample : 8
Color Components : 3
Aperture : 2.0
Image Size : 300x200
Megapixels : 0.060
Scale Factor To 35 mm Equivalent : 1.5
Shutter Speed : 1/25
Circle Of Confusion : 0.020 mm
Field Of View : 37.5 deg
Focal Length : 35.0 mm (35 mm equivalent: 53.0 mm)
Hyperfocal Distance : 30.87 m
Light Value : 5.6