Uber Exif Photo
By-line : Nick Depree
Make : NIKON CORPORATION
Camera Model Name : NIKON D700
Software : Adobe Photoshop Lightroom 4.1 (Windows)
Modify Date : 2012:11:28 16:35:50
Artist : Nick Depree
Exposure Time : 1/2000
F Number : 4.0
Exposure Program : Aperture-priority AE
ISO : 1600
Date/Time Original : 2012:06:18 01:12:20
Create Date : 2012:06:18 01:12:20
Shutter Speed Value : 1/2000
Aperture Value : 4.0
Exposure Compensation : +1
Max Aperture Value : 2.8
Metering Mode : Multi-segment
Light Source : Unknown
Flash : No Flash
Focal Length : 25.0 mm
Sensing Method : One-chip color area
Scene Type : Directly photographed
CFA Pattern : [Red,Green][Green,Blue]
Custom Rendered : Normal
Exposure Mode : Auto
White Balance : Auto
Digital Zoom Ratio : 1
Focal Length In 35mm Format : 25 mm
Scene Capture Type : Standard
Gain Control : High gain up
Contrast : Normal
Saturation : Normal
Sharpness : Normal
Subject Distance Range : Unknown
Serial Number : 2525930
Lens Info : 25mm f/2.8
Lens Model : Zeiss Distagon T* 2.8/25 ZF.2
Profile Description : sRGB IEC61966-2.1
Format : image/jpeg
Creator Tool : Adobe Photoshop Lightroom 4.1 (Windows)
Rating : 3
Lens : Zeiss Distagon T* 2.8/25 ZF.2
Image Number : 1325
Date Created : 2012:06:18 01:12:20.42
Version : 7.1
Process Version : 6.7
Color Temperature : 4950
Tint : -1
Luminance Smoothing : 0
Color Noise Reduction : 25
Vignette Amount : 0
Shadow Tint : 0
Red Hue : 0
Red Saturation : 0
Green Hue : 0
Green Saturation : 0
Blue Hue : 0
Blue Saturation : 0
Vibrance : 0
Hue Adjustment Red : 0
Hue Adjustment Orange : 0
Hue Adjustment Yellow : 0
Hue Adjustment Green : 0
Hue Adjustment Aqua : 0
Hue Adjustment Blue : 0
Hue Adjustment Purple : 0
Hue Adjustment Magenta : 0
Saturation Adjustment Red : 0
Saturation Adjustment Orange : 0
Saturation Adjustment Yellow : 0
Saturation Adjustment Green : 0
Saturation Adjustment Aqua : 0
Saturation Adjustment Blue : 0
Saturation Adjustment Purple : 0
Saturation Adjustment Magenta : 0
Luminance Adjustment Red : 0
Luminance Adjustment Orange : 0
Luminance Adjustment Yellow : 0
Luminance Adjustment Green : 0
Luminance Adjustment Aqua : 0
Luminance Adjustment Blue : 0
Luminance Adjustment Purple : 0
Luminance Adjustment Magenta : 0
Split Toning Shadow Hue : 0
Split Toning Shadow Saturation : 0
Split Toning Highlight Hue : 0
Split Toning Highlight Saturation : 0
Split Toning Balance : 0
Parametric Shadows : -56
Parametric Darks : 0
Parametric Lights : +31
Parametric Highlights : 0
Parametric Shadow Split : 25
Parametric Midtone Split : 50
Parametric Highlight Split : 75
Sharpen Radius : +1.0
Sharpen Detail : 25
Sharpen Edge Masking : 0
Post Crop Vignette Amount : 0
Grain Amount : 0
Color Noise Reduction Detail : 50
Lens Profile Enable : 0
Lens Manual Distortion Amount : 0
Perspective Vertical : 0
Perspective Horizontal : -4
Perspective Rotate : +0.7
Perspective Scale : 100
Auto Lateral CA : 0
Exposure 2012 : 0.00
Contrast 2012 : 0
Highlights 2012 : -76
Shadows 2012 : +41
Whites 2012 : 0
Blacks 2012 : 0
Clarity 2012 : +66
Defringe Purple Amount : 0
Defringe Purple Hue Lo : 30
Defringe Purple Hue Hi : 70
Defringe Green Amount : 0
Defringe Green Hue Lo : 40
Defringe Green Hue Hi : 60
Convert To Grayscale : False
Tone Curve Name 2012 : Linear
Camera Profile : Adobe Standard
Lens Profile Setup : LensDefaults
Has Settings : True
Crop Top : 0.018416
Crop Left : 0.000324
Crop Bottom : 0.999257
Crop Right : 0.981166
Crop Angle : 0
Crop Constrain To Warp : 1
Crop Width : 2000
Crop Height : 1331
Crop Unit : pixels
Has Crop : True
Already Applied : True
Creator : Nick Depree
Tone Curve PV2012 : 0, 0, 255, 255
Tone Curve PV2012 Red : 0, 0, 255, 255
Tone Curve PV2012 Green : 0, 0, 255, 255
Tone Curve PV2012 Blue : 0, 0, 255, 255
Image Width : 200
Image Height : 300
Bits Per Sample : 8
Color Components : 3
Aperture : 4.0
Image Size : 200x300
Megapixels : 0.060
Scale Factor To 35 mm Equivalent : 1.0
Shutter Speed : 1/2000
Create Date : 2012:06:18 01:12:20.42
Date/Time Original : 2012:06:18 01:12:20.42
Circle Of Confusion : 0.030 mm
Field Of View : 71.5 deg
Focal Length : 25.0 mm (35 mm equivalent: 25.0 mm)
Hyperfocal Distance : 5.20 m
Light Value : 11.0