Uber Exif Photo
Keywords : BW, HiRes, New Orleans
Photometric Interpretation : RGB
Make : Canon
Camera Model Name : Canon EOS 5D Mark II
Orientation : Horizontal (normal)
Samples Per Pixel : 3
Planar Configuration : Chunky
Software : Adobe Photoshop CS6 (Macintosh)
Modify Date : 2012:11:21 11:37:38
Exposure Time : 1/50
F Number : 2.8
Exposure Program : Manual
ISO : 200
Date/Time Original : 2011:10:20 16:10:26
Create Date : 2011:10:20 16:10:26
Shutter Speed Value : 1/50
Aperture Value : 2.8
Exposure Compensation : 0
Max Aperture Value : 2.0
Metering Mode : Center-weighted average
Flash : Off, Did not fire
Focal Length : 50.0 mm
Color Space : Uncalibrated
Exif Image Width : 1685
Exif Image Height : 1123
Custom Rendered : Normal
Exposure Mode : Manual
White Balance : Manual
Scene Capture Type : Standard
Rating : 0
Creator Tool : Adobe Photoshop CS4 Macintosh
Serial Number : 2921504677
Lens Info : 50mm f/?
Lens : Zeiss Makro-Planar T* 2/50 ZE
Image Number : 0
Flash Compensation : 0
Firmware : 2.0.8
Raw File Name : _MG_1622.CR2
Version : 5.7
Process Version : 5.0
Color Temperature : 4150
Tint : +2
Exposure : +0.60
Shadows : 5
Brightness : +50
Contrast : +25
Saturation : 0
Sharpness : 25
Luminance Smoothing : 0
Color Noise Reduction : 25
Chromatic Aberration R : 0
Chromatic Aberration B : 0
Vignette Amount : 0
Shadow Tint : 0
Red Hue : 0
Red Saturation : 0
Green Hue : 0
Green Saturation : 0
Blue Hue : 0
Blue Saturation : 0
Fill Light : 0
Vibrance : +11
Highlight Recovery : 0
Clarity : +25
Defringe : 0
Hue Adjustment Red : 0
Hue Adjustment Orange : 0
Hue Adjustment Yellow : 0
Hue Adjustment Green : 0
Hue Adjustment Aqua : 0
Hue Adjustment Blue : 0
Hue Adjustment Purple : 0
Hue Adjustment Magenta : 0
Saturation Adjustment Red : 0
Saturation Adjustment Orange : 0
Saturation Adjustment Yellow : 0
Saturation Adjustment Green : 0
Saturation Adjustment Aqua : 0
Saturation Adjustment Blue : 0
Saturation Adjustment Purple : 0
Saturation Adjustment Magenta : 0
Luminance Adjustment Red : 0
Luminance Adjustment Orange : 0
Luminance Adjustment Yellow : 0
Luminance Adjustment Green : 0
Luminance Adjustment Aqua : 0
Luminance Adjustment Blue : 0
Luminance Adjustment Purple : 0
Luminance Adjustment Magenta : 0
Split Toning Shadow Hue : 0
Split Toning Shadow Saturation : 0
Split Toning Highlight Hue : 0
Split Toning Highlight Saturation : 0
Split Toning Balance : 0
Parametric Shadows : 0
Parametric Darks : 0
Parametric Lights : 0
Parametric Highlights : 0
Parametric Shadow Split : 25
Parametric Midtone Split : 50
Parametric Highlight Split : 75
Sharpen Radius : +1.0
Sharpen Detail : 25
Sharpen Edge Masking : 0
Post Crop Vignette Amount : 0
Grain Amount : 0
Convert To Grayscale : False
Tone Curve Name : Medium Contrast
Camera Profile : Adobe Standard
Has Settings : True
Has Crop : False
Already Applied : True
Date Created : 2011:10:20 16:10:26.058
Color Mode : RGB
ICC Profile Name : Adobe RGB (1998)
Format : image/jpeg
Tone Curve : 0, 0, 32, 22, 64, 56, 128, 128, 192, 196, 255, 255
Subject : BW, HiRes, New Orleans
Hierarchical Subject : Places|New Orleans, BW, HiRes
Image Width : 300
Image Height : 200
Bits Per Sample : 8
Color Components : 1
Aperture : 2.8
Image Size : 300x200
Megapixels : 0.060
Scale Factor To 35 mm Equivalent : 1.0
Shutter Speed : 1/50
Date/Time Original : 2011:10:20 16:10:26.58
Circle Of Confusion : 0.031 mm
Field Of View : 40.5 deg
Focal Length : 50.0 mm (35 mm equivalent: 48.8 mm)
Hyperfocal Distance : 29.00 m
Light Value : 7.6
Lens ID : Carl Zeiss Makro-Planar T* 50mm f/2 ZE