Uber Exif Photo
Make : Canon
Camera Model Name : Canon EOS 5D Mark II
Orientation : Horizontal (normal)
Software : Adobe Photoshop CS4 Macintosh
Modify Date : 2009:02:01 21:39:28
Exposure Time : 1/1000
F Number : 2.8
Exposure Program : Manual
ISO : 200
Date/Time Original : 2009:02:01 16:30:58
Create Date : 2009:02:01 16:30:58
Shutter Speed Value : 1/1000
Aperture Value : 2.8
Exposure Compensation : 0
Max Aperture Value : 2.8
Metering Mode : Multi-segment
Focal Length : 28.0 mm
Color Space : Uncalibrated
Exif Image Width : 5504
Exif Image Height : 3662
Custom Rendered : Normal
Exposure Mode : Manual
White Balance : Auto
Scene Capture Type : Standard
Photometric Interpretation : BlackIsZero
Samples Per Pixel : 1
Date/Time Digitized : 2009:02:01 16:30:58.81-05:00
Rating : 0
Serial Number : 320104245
Lens Info : 28mm f/?
Lens : 28-28mm
Image Number : 0
Flash Compensation : 0
Firmware : 1.0.7
Raw File Name : _MG_0080.CR2
Version : 5.2
Color Temperature : 3850
Tint : +17
Exposure : -1.17
Shadows : 1
Brightness : +31
Contrast : +18
Saturation : 0
Sharpness : 25
Luminance Smoothing : 0
Color Noise Reduction : 25
Chromatic Aberration R : 0
Chromatic Aberration B : 0
Vignette Amount : 0
Shadow Tint : 0
Red Hue : 0
Red Saturation : 0
Green Hue : 0
Green Saturation : 0
Blue Hue : 0
Blue Saturation : 0
Fill Light : 0
Vibrance : 0
Highlight Recovery : 54
Clarity : 0
Defringe : 0
Hue Adjustment Red : 0
Hue Adjustment Orange : 0
Hue Adjustment Yellow : 0
Hue Adjustment Green : 0
Hue Adjustment Aqua : 0
Hue Adjustment Blue : 0
Hue Adjustment Purple : 0
Hue Adjustment Magenta : 0
Saturation Adjustment Red : 0
Saturation Adjustment Orange : 0
Saturation Adjustment Yellow : 0
Saturation Adjustment Green : 0
Saturation Adjustment Aqua : 0
Saturation Adjustment Blue : 0
Saturation Adjustment Purple : 0
Saturation Adjustment Magenta : 0
Luminance Adjustment Red : 0
Luminance Adjustment Orange : 0
Luminance Adjustment Yellow : 0
Luminance Adjustment Green : 0
Luminance Adjustment Aqua : 0
Luminance Adjustment Blue : 0
Luminance Adjustment Purple : 0
Luminance Adjustment Magenta : 0
Split Toning Shadow Hue : 0
Split Toning Shadow Saturation : 0
Split Toning Highlight Hue : 0
Split Toning Highlight Saturation : 0
Split Toning Balance : 0
Parametric Shadows : 0
Parametric Darks : 0
Parametric Lights : 0
Parametric Highlights : 0
Parametric Shadow Split : 25
Parametric Midtone Split : 50
Parametric Highlight Split : 75
Sharpen Radius : +1.0
Sharpen Detail : 25
Sharpen Edge Masking : 0
Post Crop Vignette Amount : 0
Convert To Grayscale : False
Tone Curve Name : Medium Contrast
Camera Profile : Adobe Standard
Has Settings : True
Crop Top : 0
Crop Left : 0
Crop Bottom : 1
Crop Right : 1
Crop Angle : 0
Has Crop : True
Already Applied : True
Format : image/jpeg
Color Mode : Grayscale
ICC Profile Name : Dot Gain 20%
Flash Fired : False
Flash Return : No return detection
Flash Mode : Off
Flash Function : False
Flash Red Eye Mode : False
Tone Curve : 0, 0, 32, 22, 64, 56, 128, 128, 192, 196, 255, 255
Image Width : 300
Image Height : 200
Bits Per Sample : 8
Color Components : 1
Aperture : 2.8
Image Size : 300x200
Megapixels : 0.060
Scale Factor To 35 mm Equivalent : 1.0
Shutter Speed : 1/1000
Create Date : 2009:02:01 16:30:58.81
Date/Time Original : 2009:02:01 16:30:58.81
Modify Date : 2009:02:01 21:39:28.81
Flash : Off, Did not fire
Circle Of Confusion : 0.031 mm
Field Of View : 66.7 deg
Focal Length : 28.0 mm (35 mm equivalent: 27.3 mm)
Hyperfocal Distance : 9.09 m
Light Value : 11.9
Lens ID : 28-28mm