Uber Exif Photo
Make : Leica Camera AG
Camera Model Name : M9 Digital Camera
Orientation : Horizontal (normal)
Software : Adobe Photoshop CS5 Macintosh
Modify Date : 2012:07:26 11:40:36
Maker Note Safety : Safe
Exposure Time : 1/1000
F Number : 6.7
Exposure Program : Aperture-priority AE
ISO : 320
Date/Time Original : 2012:06:16 12:59:41
Create Date : 2012:06:16 12:59:41
Shutter Speed Value : 1/1000
Aperture Value : 6.7
Exposure Compensation : 0
Max Aperture Value : 2.0
Metering Mode : Center-weighted average
Light Source : Unknown
Flash : No Flash
Focal Length : 35.0 mm
Color Space : Uncalibrated
Exif Image Width : 1001
Exif Image Height : 1500
Scene Type : Directly photographed
Exposure Mode : Manual
White Balance : Auto
Digital Zoom Ratio : 0
Focal Length In 35mm Format : 35 mm
Scene Capture Type : Standard
Serial Number : 3908174
Lens Model : Leica Summicron-M 35mm f/2 (IV)
Rating : 5
Label :
Creator Tool : 1.176
Lens : Leica Summicron-M 35mm f/2 (IV)
Date Created : 2012:06:16 12:59:41
Color Mode : RGB
ICC Profile Name : ProPhoto RGB
Format : image/jpeg
Raw File Name : L1001402.DNG
Version : 6.7
Process Version : 6.7
Color Temperature : 5250
Tint : +13
Exposure : 0.00
Shadows : 5
Brightness : +50
Contrast : +25
Sharpness : 42
Luminance Smoothing : 77
Color Noise Reduction : 25
Vignette Amount : 0
Shadow Tint : 0
Red Hue : 0
Red Saturation : 0
Green Hue : 0
Green Saturation : 0
Blue Hue : 0
Blue Saturation : 0
Fill Light : 0
Highlight Recovery : 0
Clarity : 0
Defringe : 0
Gray Mixer Red : +17
Gray Mixer Orange : +2
Gray Mixer Yellow : -31
Gray Mixer Green : -27
Gray Mixer Aqua : -17
Gray Mixer Blue : +31
Gray Mixer Purple : +33
Gray Mixer Magenta : +4
Split Toning Shadow Hue : 0
Split Toning Shadow Saturation : 0
Split Toning Highlight Hue : 0
Split Toning Highlight Saturation : 0
Split Toning Balance : 0
Parametric Shadows : -2
Parametric Darks : 0
Parametric Lights : 0
Parametric Highlights : 0
Parametric Shadow Split : 25
Parametric Midtone Split : 50
Parametric Highlight Split : 75
Sharpen Radius : +1.0
Sharpen Detail : 25
Sharpen Edge Masking : 0
Post Crop Vignette Amount : 0
Grain Amount : 0
Luminance Noise Reduction Detail : 50
Color Noise Reduction Detail : 50
Luminance Noise Reduction Contrast : 24
Lens Profile Enable : 0
Lens Manual Distortion Amount : 0
Perspective Vertical : 0
Perspective Horizontal : 0
Perspective Rotate : 0.0
Perspective Scale : 100
Auto Lateral CA : 0
Exposure 2012 : +3.10
Contrast 2012 : +16
Highlights 2012 : -49
Shadows 2012 : +22
Whites 2012 : -100
Blacks 2012 : -16
Clarity 2012 : +53
Convert To Grayscale : True
Tone Curve Name : Medium Contrast
Tone Curve Name 2012 : Linear
Camera Profile : Adobe Standard
Lens Profile Setup : LensDefaults
Has Settings : True
Crop Top : 0.290978
Crop Left : 0.205546
Crop Bottom : 0.900033
Crop Right : 0.4752
Crop Angle : 0
Crop Constrain To Warp : 0
Has Crop : True
Already Applied : True
Tone Curve : 0, 0, 32, 22, 64, 56, 128, 128, 192, 196, 255, 255
Tone Curve Red : 0, 0, 255, 255
Tone Curve Green : 0, 0, 255, 255
Tone Curve Blue : 0, 0, 255, 255
Tone Curve PV2012 : 0, 0, 255, 255
Tone Curve PV2012 Red : 0, 0, 255, 255
Tone Curve PV2012 Green : 0, 0, 255, 255
Tone Curve PV2012 Blue : 0, 0, 255, 255
Paint Correction What : Correction
Paint Correction Amount : 1.000000
Paint Correction Active : true
Paint Correction Exposure : 0.000000
Paint Correction Saturation : 0.000000
Paint Correction Contrast : 0.000000
Paint Correction Clarity : 0.000000
Paint Correction Sharpness : 0.865294
Paint Correction Brightness : 0.304681
Paint Correction Toning Hue : 61.000000
Paint Correction Toning Saturation : 0.000000
Paint Correction Exposure 2012 : -0.280306
Paint Correction Contrast 2012 : 0.670298
Paint Correction Highlights 2012 : -0.329055
Paint Correction Shadows 2012 : 0.182809
Paint Correction Clarity 2012 : 0.402179
Paint Correction Luminance Noise : 0.000000
Paint Correction Moire : 0.000000
Paint Correction Temperature : 0.000000
Paint Correction Tint : 0.000000
Paint Correction Mask What : Mask/Paint
Paint Correction Mask Value : 1.000000
Paint Correction Mask Radius : 0.029247
Paint Correction Mask Flow : 0.487931
Paint Correction Mask Center Weight : 0.199535
Image Width : 200
Image Height : 300
Bits Per Sample : 8
Color Components : 1
Aperture : 6.7
Image Size : 200x300
Megapixels : 0.060
Scale Factor To 35 mm Equivalent : 1.0
Shutter Speed : 1/1000
Circle Of Confusion : 0.030 mm
Field Of View : 54.4 deg
Focal Length : 35.0 mm (35 mm equivalent: 35.0 mm)
Hyperfocal Distance : 6.09 m
Light Value : 13.8
Lens ID : Summicron-M 35mm f/2 (IV)