Uber Exif Photo
By-line : PAUL MAROTTA
Copyright Notice : Paul Marotta, Perfect Bokeh Photography
Copyright Flag : True
Photometric Interpretation : RGB
Make : NIKON CORPORATION
Camera Model Name : NIKON D700
Orientation : Horizontal (normal)
Samples Per Pixel : 3
Software : Adobe Photoshop CS5 Windows
Modify Date : 2012:09:19 10:05:15
Artist : PAUL MAROTTA
Copyright : Paul Marotta, Perfect Bokeh Photography
Exposure Time : 1/800
F Number : 8.0
Exposure Program : Manual
ISO : 200
Date/Time Original : 2012:09:16 15:55:52
Create Date : 2012:09:16 15:55:52
Shutter Speed Value : 1/800
Aperture Value : 8.0
Exposure Compensation : 0
Max Aperture Value : 1.0
Metering Mode : Spot
Light Source : Fine Weather
Flash : No Flash
Focal Length : 50.0 mm
Color Space : Uncalibrated
Exif Image Width : 1500
Exif Image Height : 998
Sensing Method : One-chip color area
Scene Type : Directly photographed
CFA Pattern : [Red,Green][Green,Blue]
Custom Rendered : Normal
Exposure Mode : Manual
White Balance : Manual
Digital Zoom Ratio : 1
Focal Length In 35mm Format : 50 mm
Scene Capture Type : Standard
Gain Control : None
Contrast : Normal
Saturation : Normal
Sharpness : Normal
Subject Distance Range : Unknown
Serial Number : 2371238
Lens Info : 0mm f/0
Lens Model : 0.0 mm f/0.0
Profile Description : Adobe RGB (1998)
Format : image/jpeg
Creator Tool : Adobe Photoshop CS5 Windows
Rating : 0
Lens : 0.0 mm f/0.0
Image Number : 67804
Date Created : 2012:09:16 15:55:52.081
Color Mode : RGB
ICC Profile Name : Adobe RGB (1998)
Raw File Name : _DSC7743.NEF
Version : 6.6
Process Version : 5.7
Color Temperature : 5000
Tint : -6
Exposure : 0.00
Shadows : 8
Brightness : +50
Luminance Smoothing : 32
Color Noise Reduction : 25
Chromatic Aberration R : 0
Chromatic Aberration B : 0
Vignette Amount : 0
Shadow Tint : 0
Red Hue : 0
Red Saturation : 0
Green Hue : 0
Green Saturation : 0
Blue Hue : 0
Blue Saturation : 0
Fill Light : 0
Vibrance : +11
Highlight Recovery : 0
Clarity : +8
Defringe : 0
Hue Adjustment Red : 0
Hue Adjustment Orange : 0
Hue Adjustment Yellow : 0
Hue Adjustment Green : 0
Hue Adjustment Aqua : 0
Hue Adjustment Blue : 0
Hue Adjustment Purple : 0
Hue Adjustment Magenta : 0
Saturation Adjustment Red : 0
Saturation Adjustment Orange : 0
Saturation Adjustment Yellow : 0
Saturation Adjustment Green : 0
Saturation Adjustment Aqua : 0
Saturation Adjustment Blue : 0
Saturation Adjustment Purple : 0
Saturation Adjustment Magenta : 0
Luminance Adjustment Red : 0
Luminance Adjustment Orange : 0
Luminance Adjustment Yellow : 0
Luminance Adjustment Green : 0
Luminance Adjustment Aqua : 0
Luminance Adjustment Blue : 0
Luminance Adjustment Purple : 0
Luminance Adjustment Magenta : 0
Split Toning Shadow Hue : 0
Split Toning Shadow Saturation : 0
Split Toning Highlight Hue : 0
Split Toning Highlight Saturation : 0
Split Toning Balance : 0
Parametric Shadows : 0
Parametric Darks : 0
Parametric Lights : 0
Parametric Highlights : 0
Parametric Shadow Split : 25
Parametric Midtone Split : 50
Parametric Highlight Split : 75
Sharpen Radius : +1.0
Sharpen Detail : 25
Sharpen Edge Masking : 0
Post Crop Vignette Amount : 0
Grain Amount : 0
Luminance Noise Reduction Detail : 28
Color Noise Reduction Detail : 26
Luminance Noise Reduction Contrast : 28
Lens Profile Enable : 0
Lens Manual Distortion Amount : 0
Perspective Vertical : 0
Perspective Horizontal : 0
Perspective Rotate : 0.0
Perspective Scale : 100
Convert To Grayscale : False
Tone Curve Name : Medium Contrast
Camera Profile : Adobe Standard
Lens Profile Setup : LensDefaults
Has Settings : True
Has Crop : False
Already Applied : True
Marked : True
Creator : PAUL MAROTTA
Rights : Paul Marotta, Perfect Bokeh Photography
Tone Curve : 0, 0, 32, 22, 64, 56, 128, 128, 192, 196, 255, 255
Usage Terms :
Image Width : 300
Image Height : 200
Bits Per Sample : 8
Color Components : 3
Aperture : 8.0
Image Size : 300x200
Megapixels : 0.060
Scale Factor To 35 mm Equivalent : 1.0
Shutter Speed : 1/800
Create Date : 2012:09:16 15:55:52.81
Date/Time Original : 2012:09:16 15:55:52.81
Modify Date : 2012:09:19 10:05:15.81
Circle Of Confusion : 0.030 mm
Field Of View : 39.6 deg
Focal Length : 50.0 mm (35 mm equivalent: 50.0 mm)
Hyperfocal Distance : 10.40 m
Light Value : 14.6
Lens ID : 0.0mm f/0.0