Uber Exif Photo
Photometric Interpretation : RGB
Camera Model Name : NEX-7
Orientation : Horizontal (normal)
Samples Per Pixel : 3
Planar Configuration : Chunky
Software : Adobe Photoshop CS5 Windows
Modify Date : 2012:06:07 11:21:56
Exposure Time : 1/400
F Number : 5.6
ISO : 100
Date/Time Original : 2012:06:03 08:55:01
Focal Length : 28.0 mm
Color Space : Uncalibrated
Exif Image Width : 1815
Exif Image Height : 2724
Profile Description : Adobe RGB (1998)
Method : Details Enhancer
Strength : 50.0
Color Saturation : 25.0
Luminosity : 6.0
White Clip : 0.490350
Black Clip : 0.010350
Smoothing Mode : Light
Smoothing : Medium
Microcontrast : 6.0
Microsmoothing : 3.0
Gamma : 1.00
Highlights Smoothing : 0.0
Shadows Smoothing : 0.0
Shadows Clipping : 0.0
Saturation Highlights : 0.0
Saturation Shadows : 0.0
Is Pano 360 : No
Creator Tool : NEX-7 v1.00
Create Date : 2012:06:03 08:55:01
Rating : 0
Lens Info : 28-20mm f/2
Lens : Carl Zeiss Distagon 2/28 ZF
Date Created : 2012:06:03 08:55:01
Color Mode : RGB
ICC Profile Name : Adobe RGB (1998)
Raw File Name : _DSC4782.ARW
Version : 6.6
Process Version : 5.7
White Balance : As Shot
Color Temperature : 5800
Tint : +9
Exposure : +1.00
Shadows : 9
Brightness : 0
Contrast : 0
Saturation : 0
Sharpness : 25
Luminance Smoothing : 50
Color Noise Reduction : 25
Chromatic Aberration R : 0
Chromatic Aberration B : 0
Vignette Amount : 0
Shadow Tint : 0
Red Hue : 0
Red Saturation : 0
Green Hue : 0
Green Saturation : 0
Blue Hue : 0
Blue Saturation : 0
Fill Light : 15
Vibrance : +67
Highlight Recovery : 28
Clarity : 0
Defringe : 0
Hue Adjustment Red : 0
Hue Adjustment Orange : 0
Hue Adjustment Yellow : 0
Hue Adjustment Green : 0
Hue Adjustment Aqua : 0
Hue Adjustment Blue : -90
Hue Adjustment Purple : 0
Hue Adjustment Magenta : 0
Saturation Adjustment Red : 0
Saturation Adjustment Orange : 0
Saturation Adjustment Yellow : 0
Saturation Adjustment Green : 0
Saturation Adjustment Aqua : 0
Saturation Adjustment Blue : 0
Saturation Adjustment Purple : 0
Saturation Adjustment Magenta : 0
Luminance Adjustment Red : 0
Luminance Adjustment Orange : 0
Luminance Adjustment Yellow : +95
Luminance Adjustment Green : +95
Luminance Adjustment Aqua : 0
Luminance Adjustment Blue : +95
Luminance Adjustment Purple : 0
Luminance Adjustment Magenta : 0
Split Toning Shadow Hue : 0
Split Toning Shadow Saturation : 0
Split Toning Highlight Hue : 0
Split Toning Highlight Saturation : 0
Split Toning Balance : 0
Parametric Shadows : 0
Parametric Darks : 0
Parametric Lights : 0
Parametric Highlights : 0
Parametric Shadow Split : 25
Parametric Midtone Split : 50
Parametric Highlight Split : 75
Sharpen Radius : +1.0
Sharpen Detail : 25
Sharpen Edge Masking : 90
Post Crop Vignette Amount : 0
Grain Amount : 0
Luminance Noise Reduction Detail : 50
Color Noise Reduction Detail : 50
Luminance Noise Reduction Contrast : 0
Lens Profile Enable : 0
Lens Manual Distortion Amount : 0
Perspective Vertical : 0
Perspective Horizontal : 0
Perspective Rotate : 0.0
Perspective Scale : 100
Convert To Grayscale : False
Tone Curve Name : Medium Contrast
Camera Profile : Adobe Standard
Lens Profile Setup : LensDefaults
Has Settings : True
Crop Top : 0.025592
Crop Left : 0.035197
Crop Bottom : 0.9712
Crop Right : 0.980805
Crop Angle : 0
Crop Constrain To Warp : 1
Crop Width : 2
Crop Height : 3
Crop Unit : Unknown (3)
Has Crop : True
Already Applied : True
Format : image/jpeg
Tone Curve : 0, 0, 32, 22, 64, 56, 128, 128, 192, 196, 255, 255
Image Width : 200
Image Height : 300
Bits Per Sample : 8
Color Components : 3
Aperture : 5.6
Image Size : 200x300
Megapixels : 0.060
Shutter Speed : 1/400
Light Value : 13.6