Uber Exif Photo
Photometric Interpretation : RGB
Make : Canon
Camera Model Name : Canon EOS 5D Mark II
Orientation : Horizontal (normal)
Samples Per Pixel : 3
Software : Adobe Photoshop CS5 Macintosh
Modify Date : 2012:02:26 00:18:51
Exposure Time : 1/640
Exposure Program : Aperture-priority AE
ISO : 400
Date/Time Original : 2012:02:19 17:50:41
Create Date : 2012:02:19 17:50:41
Shutter Speed Value : 1/640
Exposure Compensation : -1/3
Metering Mode : Multi-segment
Flash : Off, Did not fire
Focal Length : 50.0 mm
Color Space : sRGB
Exif Image Width : 1280
Exif Image Height : 853
Custom Rendered : Normal
Exposure Mode : Auto
White Balance : Auto
Scene Capture Type : Standard
Serial Number : 3721701368
Profile Description : sRGB IEC61966-2.1
Image Number : 0
Flash Compensation : 0
Firmware : 2.0.9
Rating : 5
Creator Tool : Adobe Photoshop CS5 Macintosh
Date Created : 2012:02:19 17:50:41.044
Format : image/jpeg
Version : 6.6
Process Version : 5.7
Color Temperature : 5250
Tint : +9
Exposure : +0.65
Shadows : 2
Brightness : +33
Contrast : +50
Saturation : 0
Sharpness : 25
Luminance Smoothing : 0
Color Noise Reduction : 25
Chromatic Aberration R : 0
Chromatic Aberration B : 0
Vignette Amount : 0
Shadow Tint : 0
Red Hue : 0
Red Saturation : 0
Green Hue : 0
Green Saturation : 0
Blue Hue : 0
Blue Saturation : 0
Fill Light : 3
Vibrance : 0
Highlight Recovery : 27
Clarity : 0
Defringe : 0
Hue Adjustment Red : 0
Hue Adjustment Orange : 0
Hue Adjustment Yellow : 0
Hue Adjustment Green : 0
Hue Adjustment Aqua : 0
Hue Adjustment Blue : 0
Hue Adjustment Purple : 0
Hue Adjustment Magenta : 0
Saturation Adjustment Red : 0
Saturation Adjustment Orange : 0
Saturation Adjustment Yellow : 0
Saturation Adjustment Green : 0
Saturation Adjustment Aqua : 0
Saturation Adjustment Blue : 0
Saturation Adjustment Purple : 0
Saturation Adjustment Magenta : 0
Luminance Adjustment Red : 0
Luminance Adjustment Orange : 0
Luminance Adjustment Yellow : 0
Luminance Adjustment Green : 0
Luminance Adjustment Aqua : 0
Luminance Adjustment Blue : 0
Luminance Adjustment Purple : 0
Luminance Adjustment Magenta : 0
Split Toning Shadow Hue : 0
Split Toning Shadow Saturation : 0
Split Toning Highlight Hue : 0
Split Toning Highlight Saturation : 0
Split Toning Balance : 0
Parametric Shadows : 0
Parametric Darks : 0
Parametric Lights : 0
Parametric Highlights : 0
Parametric Shadow Split : 25
Parametric Midtone Split : 50
Parametric Highlight Split : 75
Sharpen Radius : +1.0
Sharpen Detail : 25
Sharpen Edge Masking : 0
Post Crop Vignette Amount : 0
Grain Amount : 0
Color Noise Reduction Detail : 50
Lens Profile Enable : 0
Lens Manual Distortion Amount : 0
Perspective Vertical : 0
Perspective Horizontal : 0
Perspective Rotate : 0.0
Perspective Scale : 100
Convert To Grayscale : False
Tone Curve Name : Medium Contrast
Camera Profile : Adobe Standard
Lens Profile Setup : LensDefaults
Has Settings : True
Has Crop : False
Already Applied : True
Tone Curve : 0, 0, 32, 22, 64, 56, 128, 128, 192, 196, 255, 255
Image Width : 300
Image Height : 200
Bits Per Sample : 8
Color Components : 3
Image Size : 300x200
Megapixels : 0.060
Scale Factor To 35 mm Equivalent : 1.0
Shutter Speed : 1/640
Create Date : 2012:02:19 17:50:41.44
Date/Time Original : 2012:02:19 17:50:41.44
Circle Of Confusion : 0.031 mm
Field Of View : 40.5 deg
Focal Length : 50.0 mm (35 mm equivalent: 48.8 mm)