Uber Exif Photo
Caption-Abstract : Canon 60D .Zeiss 35mm Distagon F2.Press L on your keyboard for the full experience!..Enjoy and don't forget to check out my website for Prints: Sam Fowler | Photography
By-line : SAMUEL FOWLER
Object Name : Church Art
Copyright Notice : SAM FOWLER PHOTOGRAPHY
Photometric Interpretation : RGB
Image Description : Canon 60D .Zeiss 35mm Distagon F2.Press L on your keyboard for the full experience!..Enjoy and don't forget to check out my website for Prints: Sam Fowler | Photography
Make : Canon
Camera Model Name : Canon EOS 60D
Orientation : Horizontal (normal)
Samples Per Pixel : 3
Software : Adobe Photoshop CS5 Macintosh
Modify Date : 2012:02:11 22:19:55
Artist : SAMUEL FOWLER
Copyright : SAM FOWLER PHOTOGRAPHY
Exposure Time : 1/60
F Number : 11.0
Exposure Program : Aperture-priority AE
ISO : 100
Date/Time Original : 2011:08:12 11:39:50
Create Date : 2011:08:12 11:39:50
Shutter Speed Value : 1/60
Aperture Value : 11.0
Exposure Compensation : 0
Max Aperture Value : 2.0
Metering Mode : Multi-segment
Flash : On, Did not fire
Focal Length : 35.0 mm
Color Space : sRGB
Exif Image Width : 4000
Exif Image Height : 2667
Exposure Mode : Auto
White Balance : Auto
Scene Capture Type : Standard
Serial Number : 1270602606
Lens Info : 35mm f/?
Lens Model : Zeiss Distagon T* 2/35 ZE
Lens Serial Number : 0000000000
Profile Description : sRGB IEC61966-2.1
Firmware : 1.1.0
Flash Compensation : 0
Image Number : 0
Lens : Zeiss Distagon T* 2/35 ZE
Creator Tool : Adobe Photoshop Lightroom 3.4.1
Date Created : 2011:08:12 11:39:50.031
Color Mode : RGB
ICC Profile Name : sRGB IEC61966-2.1
Version : 6.4.1
Process Version : 5.7
Incremental Temperature : 0
Incremental Tint : 0
Exposure : 0.00
Shadows : 0
Brightness : 0
Contrast : +18
Saturation : 0
Sharpness : 9
Luminance Smoothing : 31
Color Noise Reduction : 0
Chromatic Aberration R : 0
Chromatic Aberration B : 0
Vignette Amount : 0
Shadow Tint : 0
Red Hue : 0
Red Saturation : 0
Green Hue : 0
Green Saturation : 0
Blue Hue : 0
Blue Saturation : 0
Fill Light : 0
Vibrance : +19
Highlight Recovery : 21
Clarity : +42
Defringe : 0
Hue Adjustment Red : 0
Hue Adjustment Orange : 0
Hue Adjustment Yellow : 0
Hue Adjustment Green : 0
Hue Adjustment Aqua : 0
Hue Adjustment Blue : 0
Hue Adjustment Purple : 0
Hue Adjustment Magenta : 0
Saturation Adjustment Red : 0
Saturation Adjustment Orange : 0
Saturation Adjustment Yellow : 0
Saturation Adjustment Green : 0
Saturation Adjustment Aqua : 0
Saturation Adjustment Blue : 0
Saturation Adjustment Purple : 0
Saturation Adjustment Magenta : 0
Luminance Adjustment Red : 0
Luminance Adjustment Orange : 0
Luminance Adjustment Yellow : 0
Luminance Adjustment Green : 0
Luminance Adjustment Aqua : 0
Luminance Adjustment Blue : 0
Luminance Adjustment Purple : 0
Luminance Adjustment Magenta : 0
Split Toning Shadow Hue : 0
Split Toning Shadow Saturation : 0
Split Toning Highlight Hue : 0
Split Toning Highlight Saturation : 0
Split Toning Balance : 0
Parametric Shadows : 0
Parametric Darks : 0
Parametric Lights : 0
Parametric Highlights : 0
Parametric Shadow Split : 25
Parametric Midtone Split : 50
Parametric Highlight Split : 75
Sharpen Radius : +1.9
Sharpen Detail : 84
Sharpen Edge Masking : 77
Post Crop Vignette Amount : -7
Post Crop Vignette Midpoint : 50
Post Crop Vignette Feather : 50
Post Crop Vignette Roundness : 0
Post Crop Vignette Style : Highlight Priority
Post Crop Vignette Highlight Contrast : 0
Grain Amount : 0
Luminance Noise Reduction Detail : 50
Luminance Noise Reduction Contrast : 0
Lens Profile Enable : 0
Lens Manual Distortion Amount : 0
Perspective Vertical : 0
Perspective Horizontal : 0
Perspective Rotate : 0.0
Perspective Scale : 100
Convert To Grayscale : False
Tone Curve Name : Linear
Camera Profile : Embedded
Lens Profile Setup : LensDefaults
Has Settings : True
Has Crop : False
Already Applied : True
Format : image/jpeg
Tone Curve : 0, 0, 255, 255
Creator : SAMUEL FOWLER
Title : Church Art
Rights : SAM FOWLER PHOTOGRAPHY
Description : Canon 60D .Zeiss 35mm Distagon F2.Press L on your keyboard for the full experience!..Enjoy and don't forget to check out my website for Prints: Sam Fowler | Photography
Image Width : 300
Image Height : 200
Bits Per Sample : 8
Color Components : 3
Aperture : 11.0
Image Size : 300x200
Megapixels : 0.060
Scale Factor To 35 mm Equivalent : 1.6
Shutter Speed : 1/60
Create Date : 2011:08:12 11:39:50.31
Circle Of Confusion : 0.019 mm
Field Of View : 36.2 deg
Focal Length : 35.0 mm (35 mm equivalent: 55.0 mm)
Hyperfocal Distance : 5.83 m
Light Value : 12.8
Lens ID : Carl Zeiss Distagon T* 35mm f/2 ZE