Uber Exif Photo
Copyright Notice : ROBERTO SMERA
Make : NIKON CORPORATION
Camera Model Name : NIKON D3S
Orientation : Horizontal (normal)
Software : Adobe Photoshop CS5 Macintosh
Modify Date : 2011:12:27 22:36:06
Copyright : ROBERTO SMERA
Exposure Time : 2
F Number : 8.0
Exposure Program : Aperture-priority AE
ISO : 200
Date/Time Original : 2011:12:27 19:21:22
Create Date : 2011:12:27 19:21:22
Shutter Speed Value : 2
Aperture Value : 8.0
Exposure Compensation : +1/3
Max Aperture Value : 3.5
Metering Mode : Multi-segment
Light Source : Unknown
Flash : No Flash
Focal Length : 18.0 mm
Color Space : sRGB
Exif Image Width : 1280
Exif Image Height : 852
Sensing Method : One-chip color area
Scene Type : Directly photographed
CFA Pattern : [Red,Green][Green,Blue]
Custom Rendered : Normal
Exposure Mode : Auto
White Balance : Manual
Digital Zoom Ratio : 1
Focal Length In 35mm Format : 18 mm
Scene Capture Type : Standard
Gain Control : None
Contrast : Low
Saturation : Normal
Sharpness : Normal
Subject Distance Range : Unknown
Serial Number : 2013087
Lens Info : 18mm f/3.5
Lens Model : Zeiss Distagon T* 3.5/18 ZF.2
Profile Description : sRGB IEC61966-2.1
Creator Tool : Ver.1.01
Rating : 0
Format : image/jpeg
Lens : Zeiss Distagon T* 3.5/18 ZF.2
Image Number : 777
Date Created : 2011:12:27 19:21:22.073
Color Mode : RGB
ICC Profile Name : sRGB IEC61966-2.1
Raw File Name : _RSB0766.NEF
Version : 6.6
Process Version : 5.7
Color Temperature : 3300
Tint : 0
Exposure : 0.00
Shadows : 5
Brightness : +50
Luminance Smoothing : 0
Color Noise Reduction : 25
Chromatic Aberration R : 0
Chromatic Aberration B : 0
Vignette Amount : 0
Shadow Tint : 0
Red Hue : 0
Red Saturation : 0
Green Hue : 0
Green Saturation : 0
Blue Hue : 0
Blue Saturation : 0
Fill Light : 60
Vibrance : 0
Highlight Recovery : 56
Clarity : 0
Defringe : 0
Hue Adjustment Red : 0
Hue Adjustment Orange : 0
Hue Adjustment Yellow : 0
Hue Adjustment Green : 0
Hue Adjustment Aqua : 0
Hue Adjustment Blue : 0
Hue Adjustment Purple : 0
Hue Adjustment Magenta : 0
Saturation Adjustment Red : 0
Saturation Adjustment Orange : 0
Saturation Adjustment Yellow : 0
Saturation Adjustment Green : 0
Saturation Adjustment Aqua : 0
Saturation Adjustment Blue : 0
Saturation Adjustment Purple : 0
Saturation Adjustment Magenta : 0
Luminance Adjustment Red : 0
Luminance Adjustment Orange : 0
Luminance Adjustment Yellow : 0
Luminance Adjustment Green : 0
Luminance Adjustment Aqua : 0
Luminance Adjustment Blue : 0
Luminance Adjustment Purple : 0
Luminance Adjustment Magenta : 0
Split Toning Shadow Hue : 0
Split Toning Shadow Saturation : 0
Split Toning Highlight Hue : 0
Split Toning Highlight Saturation : 0
Split Toning Balance : 0
Parametric Shadows : 0
Parametric Darks : 0
Parametric Lights : 0
Parametric Highlights : 0
Parametric Shadow Split : 25
Parametric Midtone Split : 50
Parametric Highlight Split : 75
Sharpen Radius : +1.0
Sharpen Detail : 0
Sharpen Edge Masking : 0
Post Crop Vignette Amount : 0
Grain Amount : 0
Color Noise Reduction Detail : 50
Lens Profile Enable : 1
Lens Manual Distortion Amount : 0
Perspective Vertical : 0
Perspective Horizontal : 0
Perspective Rotate : 0.0
Perspective Scale : 100
Convert To Grayscale : False
Tone Curve Name : Linear
Camera Profile : Adobe Standard
Lens Profile Setup : LensDefaults
Lens Profile Name : Adobe (Zeiss Distagon T* 3,5/18 ZF.2)
Lens Profile Filename : NIKON CORPORATION (Zeiss Distagon T 3.5-18 ZF.2).lcp
Lens Profile Distortion Scale : 100
Lens Profile Chromatic Aberration Scale : 100
Lens Profile Vignetting Scale : 100
Has Settings : True
Has Crop : False
Already Applied : True
Rights : ROBERTO SMERA
Tone Curve : 0, 0, 255, 255
Image Width : 300
Image Height : 200
Bits Per Sample : 8
Color Components : 3
Aperture : 8.0
Image Size : 300x200
Megapixels : 0.060
Scale Factor To 35 mm Equivalent : 1.0
Shutter Speed : 2
Create Date : 2011:12:27 19:21:22.73
Date/Time Original : 2011:12:27 19:21:22.73
Modify Date : 2011:12:27 22:36:06.73
Circle Of Confusion : 0.030 mm
Field Of View : 90.0 deg
Focal Length : 18.0 mm (35 mm equivalent: 18.0 mm)
Hyperfocal Distance : 1.35 m
Light Value : 4.0