Uber Exif Photo
By-line : Studio Photo Alain DOUMONT
By-line Title : artiste photographe
Keywords : 2011, CASTELLORIZO, GRECE
Copyright Notice : © ADphotography.be
Copyright Flag : True
URL : adphotography.be
Make : Canon
Camera Model Name : Canon EOS 5D
Orientation : Horizontal (normal)
Software : Adobe Photoshop CS4 Macintosh
Modify Date : 2011:10:26 22:18:11
Artist : Studio Photo Alain DOUMONT
Copyright : © ADphotography.be
Exposure Time : 1/80
F Number : 5.0
Exposure Program : Manual
ISO : 320
Date/Time Original : 2011:09:27 17:47:26
Create Date : 2011:09:27 17:47:26
Shutter Speed Value : 1/80
Aperture Value : 5.0
Exposure Compensation : 0
Max Aperture Value : 2.0
Metering Mode : Multi-segment
Focal Length : 35.0 mm
Color Space : sRGB
Exif Image Width : 987
Exif Image Height : 702
Custom Rendered : Normal
Exposure Mode : Manual
White Balance : Auto
Scene Capture Type : Standard
Profile Description : sRGB IEC61966-2.1
Firmware : 1.1.0
Flash Compensation : 0
Image Number : 3
Lens : 35.0 mm
Lens Info : 35mm f/?
Owner Name : Studio Photo Alain DOUMONT
Serial Number : 2331203715
Format : image/jpeg
Contrast : Normal
Saturation : High
Sharpness : Hard
Date/Time Digitized : 2011:09:27 17:47:26+02:00
Authors Position : artiste photographe
Date Created : 2011:09:27
Color Mode : RGB
ICC Profile Name : sRGB IEC61966-2.1
Creator Tool : Adobe Photoshop Lightroom 3.5 (Macintosh)
Marked : True
Web Statement : adphotography.be
Already Applied : True
Blue Hue : 0
Blue Saturation : 0
Brightness : +50
Camera Profile : ACR 3.3
Chromatic Aberration B : 0
Chromatic Aberration R : 0
Clarity : +51
Color Noise Reduction : 25
Convert To Grayscale : False
Crop Angle : 1.49874
Crop Bottom : 1
Crop Height : 1181
Crop Left : 0.050275
Crop Right : 0.983434
Crop Top : 0.013002
Crop Unit : pixels
Crop Width : 1772
Defringe : 0
Exposure : -0.35
Fill Light : 0
Green Hue : 0
Green Saturation : 0
Has Crop : True
Has Settings : True
Highlight Recovery : 0
Hue Adjustment Aqua : 0
Hue Adjustment Blue : 0
Hue Adjustment Green : 0
Hue Adjustment Magenta : 0
Hue Adjustment Orange : 0
Hue Adjustment Purple : 0
Hue Adjustment Red : 0
Hue Adjustment Yellow : 0
Luminance Adjustment Aqua : 0
Luminance Adjustment Blue : 0
Luminance Adjustment Green : 0
Luminance Adjustment Magenta : 0
Luminance Adjustment Orange : 0
Luminance Adjustment Purple : 0
Luminance Adjustment Red : 0
Luminance Adjustment Yellow : 0
Luminance Smoothing : 0
Parametric Darks : -6
Parametric Highlight Split : 75
Parametric Highlights : -33
Parametric Lights : -10
Parametric Midtone Split : 50
Parametric Shadow Split : 25
Parametric Shadows : -45
Post Crop Vignette Amount : 0
Red Hue : 0
Red Saturation : 0
Saturation Adjustment Aqua : 0
Saturation Adjustment Blue : 0
Saturation Adjustment Green : 0
Saturation Adjustment Magenta : 0
Saturation Adjustment Orange : 0
Saturation Adjustment Purple : 0
Saturation Adjustment Red : 0
Saturation Adjustment Yellow : 0
Shadow Tint : 0
Shadows : 5
Sharpen Detail : 25
Sharpen Edge Masking : 15
Sharpen Radius : +0.8
Split Toning Balance : 0
Split Toning Highlight Hue : 0
Split Toning Highlight Saturation : 0
Split Toning Shadow Hue : 0
Split Toning Shadow Saturation : 0
Color Temperature : 6650
Tint : +8
Tone Curve Name : Medium Contrast
Version : 6.5
Vibrance : +53
Vignette Amount : -9
Vignette Midpoint : 0
Creator City : 5060 TAMINES
Creator Country : BELGIQUE
Creator Address : 6 et 8, avenue des Français
Creator Postal Code : 5060
Creator Region : NAMUR
Creator Work Email : photoadoumont@skynet.be
Creator Work Telephone : 32 - 71 77 72 72
Creator Work URL : adphotography.be
Creator : Studio Photo Alain DOUMONT
Rights : © ADphotography.be
Subject : 2011, CASTELLORIZO, GRECE
Flash Fired : False
Flash Return : No return detection
Flash Mode : Off
Flash Function : False
Flash Red Eye Mode : False
Usage Terms : Tout usage et copie INTERDITS !
Tone Curve : 0, 0, 32, 22, 64, 56, 128, 128, 192, 196, 255, 255
Image Width : 300
Image Height : 213
Bits Per Sample : 8
Color Components : 3
Aperture : 5.0
Image Size : 300x213
Megapixels : 0.064
Scale Factor To 35 mm Equivalent : 4.3
Shutter Speed : 1/80
Flash : Off, Did not fire
Circle Of Confusion : 0.007 mm
Field Of View : 13.5 deg
Focal Length : 35.0 mm (35 mm equivalent: 152.0 mm)
Hyperfocal Distance : 35.42 m
Light Value : 9.3
Lens ID : Carl Zeiss Distagon T* 35mm f/2 ZE