Uber Exif Photo
Object Name : Svatba hrdlièek
Keywords : Contax/Yashica, People, Zeiss Planar 50mm F1.4, wedding
By-line : Jakub Mach
Copyright Notice : Jakub Mach 2011
Caption-Abstract : Hrdlièky svatba, Vlènov (Moravia).
Copyright Flag : True
Image Description : Hrdli?ky svatba, Vl?nov (Moravia).
Make : Canon
Camera Model Name : Canon EOS-1D Mark III
Modify Date : 2011:07:07 11:53:01
Artist : Jakub Mach 2011
Copyright : Jakub Mach 2011
Exposure Time : 1/60
F Number : 1.4
Exposure Program : Aperture-priority AE
ISO : 6400
Sensitivity Type : Unknown
Date/Time Original : 2011:07:02 21:31:45
Create Date : 2011:07:02 21:31:45
Shutter Speed Value : 1/60
Aperture Value : 1.4
Exposure Compensation : +2/3
Max Aperture Value : 1.4
Metering Mode : Center-weighted average
Focal Length : 50.0 mm
Custom Rendered : Normal
Exposure Mode : Auto
White Balance : Manual
Scene Capture Type : Standard
Serial Number : 544291
Lens Info : 50mm f/?
Lens Model : 50-50mm
Date/Time Digitized : 2011:07:02 21:31:45.60+02:00
Exif Image Width : 800
Exif Image Height : 1200
Creator Tool : Adobe Photoshop Lightroom 3.3
Lens : 50-50mm
Image Number : 0
Flash Compensation : 0
Firmware : 1.2.5
Marked : True
Digital Source Type : http://cv.iptc.org/newscodes/digitalsourcetype/digitalCapture
Version : 6.3
Process Version : 5.7
Color Temperature : 2600
Tint : +7
Exposure : 0.00
Shadows : 8
Brightness : +72
Contrast : +91
Saturation : -100
Sharpness : 25
Luminance Smoothing : 10
Color Noise Reduction : 25
Chromatic Aberration R : 0
Chromatic Aberration B : 0
Vignette Amount : 0
Shadow Tint : 0
Red Hue : 0
Red Saturation : 0
Green Hue : 0
Green Saturation : 0
Blue Hue : 0
Blue Saturation : 0
Fill Light : 14
Vibrance : +33
Highlight Recovery : 7
Clarity : 0
Defringe : 0
Hue Adjustment Red : 0
Hue Adjustment Orange : 0
Hue Adjustment Yellow : 0
Hue Adjustment Green : 0
Hue Adjustment Aqua : 0
Hue Adjustment Blue : 0
Hue Adjustment Purple : 0
Hue Adjustment Magenta : 0
Saturation Adjustment Red : 0
Saturation Adjustment Orange : -18
Saturation Adjustment Yellow : -6
Saturation Adjustment Green : 0
Saturation Adjustment Aqua : 0
Saturation Adjustment Blue : 0
Saturation Adjustment Purple : 0
Saturation Adjustment Magenta : 0
Luminance Adjustment Red : 0
Luminance Adjustment Orange : 0
Luminance Adjustment Yellow : 0
Luminance Adjustment Green : 0
Luminance Adjustment Aqua : 0
Luminance Adjustment Blue : 0
Luminance Adjustment Purple : 0
Luminance Adjustment Magenta : 0
Split Toning Shadow Hue : 0
Split Toning Shadow Saturation : 0
Split Toning Highlight Hue : 0
Split Toning Highlight Saturation : 0
Split Toning Balance : 0
Parametric Shadows : 0
Parametric Darks : -9
Parametric Lights : +7
Parametric Highlights : 0
Parametric Shadow Split : 25
Parametric Midtone Split : 50
Parametric Highlight Split : 75
Sharpen Radius : +0.5
Sharpen Detail : 0
Sharpen Edge Masking : 62
Post Crop Vignette Amount : 0
Grain Amount : 0
Luminance Noise Reduction Detail : 100
Color Noise Reduction Detail : 50
Luminance Noise Reduction Contrast : 0
Lens Profile Enable : 0
Lens Manual Distortion Amount : 0
Perspective Vertical : 0
Perspective Horizontal : 0
Perspective Rotate : 0.0
Perspective Scale : 100
Convert To Grayscale : False
Tone Curve Name : Medium Contrast
Camera Profile : Camera Neutral
Lens Profile Setup : LensDefaults
Has Settings : True
Crop Top : 0.096842
Crop Left : 0.096839
Crop Bottom : 1
Crop Right : 0.999998
Crop Angle : 0
Crop Constrain To Warp : 0
Crop Width : 1200
Crop Height : 800
Crop Unit : pixels
Has Crop : True
Already Applied : True
Creator : Jakub Mach
Title : Svatba hrdliček
Rights : Jakub Mach 2011
Subject : Contax/Yashica, People, Zeiss Planar 50mm F1.4, wedding
Description : Hrdličky svatba, Vlčnov (Moravia).
Flash Fired : False
Flash Return : No return detection
Flash Mode : Off
Flash Function : False
Flash Red Eye Mode : False
Creator Country : Czech republic
Creator Work Email : machjakub@seznam.cz
Creator Work URL : machjakub.smugmug.com
Tone Curve : 0, 0, 32, 22, 64, 56, 128, 128, 192, 196, 255, 255
Image Width : 200
Image Height : 300
Bits Per Sample : 8
Color Components : 1
Aperture : 1.4
Image Size : 200x300
Megapixels : 0.060
Scale Factor To 35 mm Equivalent : 1.3
Shutter Speed : 1/60
Create Date : 2011:07:02 21:31:45.60
Date/Time Original : 2011:07:02 21:31:45.60
Flash : Off, Did not fire
Circle Of Confusion : 0.023 mm
Field Of View : 31.4 deg
Focal Length : 50.0 mm (35 mm equivalent: 64.1 mm)
Hyperfocal Distance : 76.16 m
Light Value : 0.9
Lens ID : Canon EF 35-80mm f/4-5.6